{"text_format":"1","workbook":"xlsx","n_sheets":4,"sheets":["Поступки","Расписание","Часы","Справка"],"not_rendered":{"charts":0,"images":31,"macros":1,"external_links":0,"defined_names":59,"comments":2,"pivot_tables":0},"unopened":[],"bounds":{"document_bytes":16777216,"sheet_cells":100000,"rows_first":2000,"rows_last":500,"rows_between":2000,"halvings":0,"cell_chars":16384,"cell_head_chars":4096},"cells_cut":0,"cells_raw":0,"read":"whole","date_system":"1900"}

{"sheet":"Поступки","index":0,"n_rows":100,"n_cols":18,"rows_kept":100,"cut":false,"hidden":false,"merged":[[1,6,1,13]]}
[null,"Задания!A1",null,null,null,null,"здоровье","    быт","близкие","общество","   игра","  учёба","  труд","признание","методобъединение 13:00",null,""]
["ПОТРЕБНОСТЬ","РАЗДРАЖИТЕЛЬ","ОБРАБОТКА","САМООЦЕНКА","ЧУВСТВО","ДЕЙСТВИЯ","ССЫЛКИ/ПОДЗАДАЧИ",null,null,null,null,null,null,null,"ЗА","ПРОТИВ","Поступок","День"]
["ТРУД"]
[]
[]
[]
[]
[]
[]
[]
[]
[]
[]
[]
[]
[]
[]
[]
[]
[]
[]
[]
[]
[]
[]
[]
["ИГРА"]
[]
[]
[]
[]
[]
[]
[]
[]
[]
[]
[]
[]
[]
["УЧЁБА"]
[]
[]
[]
[]
[]
[]
[]
[]
[]
[]
[]
[]
[]
[]
[]
[]
["БЫТ"]
[]
[]
[]
[]
[]
[]
[]
[]
["БЛИЗКИЕ"]
[]
[]
[]
[]
[]
[]
[]
[]
[]
[]
[]
[]
[]
[]
[]
["ЗДОРОВЬЕ"]
[]
[]
[]
[]
[]
[]
[]
[]
[]
[]
["ПРИЗНАНИЕ"]
[]
[]
[]
[]
[]
["ОБЩЕСТВО"]

{"sheet":"Расписание","index":1,"n_rows":68,"n_cols":28,"rows_kept":68,"cut":false,"hidden":false,"merged":[]}
["00:01:03",null,null,"Январь",null,2019,null,null,null,null,null,null,null,null,"новошахтинск театр"]
[null,"ПОНЕДЕЛЬНИК","ВТОРНИК","СРЕДА","ЧЕТВЕРГ","ПЯТНИЦА","СУББОТА","ВОСКРЕСЕНЬЕ"]
[null,{"$f":"IF(WEEKDAY(DATEVALUE(\" 1\"&МесМесяц&МесГод)-1)=COLUMN(A$1),1,IF(LEN(A3)>0,A3+1,\"\"))","v":""},1,2,{"$f":"IF(WEEKDAY(DATEVALUE(\" 1\"&МесМесяц&МесГод)-1)=COLUMN(D$1),1,IF(LEN(D3)>0,D3+1,\"\"))","v":3},4,5,6]
[null,{"$f":"IF(ISERR(INDEX(Поступки!$Q$2:$R$612,SMALL(IF(DATE(МесГод,МесНомерМесяца,B3)=Поступки!$R$3:$R$607,ROW(Поступки!$R$3:$R$607)-1),ROW($A$1)),1)),\"\",INDEX(Поступки!$Q$2:$R$612,SMALL(IF(DATE(МесГод,МесНомерМесяца,B3)=Поступки!$R$3:$R$607,ROW(Поступки!$R$3:$R$607)-1),ROW($A$1)),1))","v":""},{"$f":"IF(ISERR(INDEX(Поступки!$Q$2:$R$612,SMALL(IF(DATE(МесГод,МесНомерМесяца,C3)=Поступки!$R$3:$R$607,ROW(Поступки!$R$3:$R$607)-1),ROW($A$1)),1)),\"\",INDEX(Поступки!$Q$2:$R$612,SMALL(IF(DATE(МесГод,МесНомерМесяца,C3)=Поступки!$R$3:$R$607,ROW(Поступки!$R$3:$R$607)-1),ROW($A$1)),1))","v":""},{"$f":"IF(ISERR(INDEX(Поступки!$Q$2:$R$612,SMALL(IF(DATE(МесГод,МесНомерМесяца,D3)=Поступки!$R$3:$R$607,ROW(Поступки!$R$3:$R$607)-1),ROW($A$1)),1)),\"\",INDEX(Поступки!$Q$2:$R$612,SMALL(IF(DATE(МесГод,МесНомерМесяца,D3)=Поступки!$R$3:$R$607,ROW(Поступки!$R$3:$R$607)-1),ROW($A$1)),1))","v":""},{"$f":"IF(ISERR(INDEX(Поступки!$Q$2:$R$612,SMALL(IF(DATE(МесГод,МесНомерМесяца,E3)=Поступки!$R$3:$R$607,ROW(Поступки!$R$3:$R$607)-1),ROW($A$1)),1)),\"\",INDEX(Поступки!$Q$2:$R$612,SMALL(IF(DATE(МесГод,МесНомерМесяца,E3)=Поступки!$R$3:$R$607,ROW(Поступки!$R$3:$R$607)-1),ROW($A$1)),1))","v":""},{"$f":"IF(ISERR(INDEX(Поступки!$Q$2:$R$612,SMALL(IF(DATE(МесГод,МесНомерМесяца,F3)=Поступки!$R$3:$R$607,ROW(Поступки!$R$3:$R$607)-1),ROW($A$1)),1)),\"\",INDEX(Поступки!$Q$2:$R$612,SMALL(IF(DATE(МесГод,МесНомерМесяца,F3)=Поступки!$R$3:$R$607,ROW(Поступки!$R$3:$R$607)-1),ROW($A$1)),1))","v":""},{"$f":"IF(ISERR(INDEX(Поступки!$Q$2:$R$612,SMALL(IF(DATE(МесГод,МесНомерМесяца,G3)=Поступки!$R$3:$R$607,ROW(Поступки!$R$3:$R$607)-1),ROW($A$1)),1)),\"\",INDEX(Поступки!$Q$2:$R$612,SMALL(IF(DATE(МесГод,МесНомерМесяца,G3)=Поступки!$R$3:$R$607,ROW(Поступки!$R$3:$R$607)-1),ROW($A$1)),1))","v":""},{"$f":"IF(ISERR(INDEX(Поступки!$Q$2:$R$612,SMALL(IF(DATE(МесГод,МесНомерМесяца,H3)=Поступки!$R$3:$R$607,ROW(Поступки!$R$3:$R$607)-1),ROW($A$1)),1)),\"\",INDEX(Поступки!$Q$2:$R$612,SMALL(IF(DATE(МесГод,МесНомерМесяца,H3)=Поступки!$R$3:$R$607,ROW(Поступки!$R$3:$R$607)-1),ROW($A$1)),1))","v":""}]
[null,{"$f":"IF(ISERR(INDEX(Поступки!$Q$2:$R$612,SMALL(IF(DATE(МесГод,МесНомерМесяца,B3)=Поступки!$R$3:$R$607,ROW(Поступки!$R$3:$R$607)-1),ROW($A$2)),1)),\"\",INDEX(Поступки!$Q$2:$R$612,SMALL(IF(DATE(МесГод,МесНомерМесяца,B3)=Поступки!$R$3:$R$607,ROW(Поступки!$R$3:$R$607)-1),ROW($A$2)),1))","v":""},{"$f":"IF(ISERR(INDEX(Поступки!$Q$2:$R$612,SMALL(IF(DATE(МесГод,МесНомерМесяца,C3)=Поступки!$R$3:$R$607,ROW(Поступки!$R$3:$R$607)-1),ROW($A$2)),1)),\"\",INDEX(Поступки!$Q$2:$R$612,SMALL(IF(DATE(МесГод,МесНомерМесяца,C3)=Поступки!$R$3:$R$607,ROW(Поступки!$R$3:$R$607)-1),ROW($A$2)),1))","v":""},{"$f":"IF(ISERR(INDEX(Поступки!$Q$2:$R$612,SMALL(IF(DATE(МесГод,МесНомерМесяца,D3)=Поступки!$R$3:$R$607,ROW(Поступки!$R$3:$R$607)-1),ROW($A$2)),1)),\"\",INDEX(Поступки!$Q$2:$R$612,SMALL(IF(DATE(МесГод,МесНомерМесяца,D3)=Поступки!$R$3:$R$607,ROW(Поступки!$R$3:$R$607)-1),ROW($A$2)),1))","v":""},{"$f":"IF(ISERR(INDEX(Поступки!$Q$2:$R$612,SMALL(IF(DATE(МесГод,МесНомерМесяца,E3)=Поступки!$R$3:$R$607,ROW(Поступки!$R$3:$R$607)-1),ROW($A$2)),1)),\"\",INDEX(Поступки!$Q$2:$R$612,SMALL(IF(DATE(МесГод,МесНомерМесяца,E3)=Поступки!$R$3:$R$607,ROW(Поступки!$R$3:$R$607)-1),ROW($A$2)),1))","v":""},{"$f":"IF(ISERR(INDEX(Поступки!$Q$2:$R$612,SMALL(IF(DATE(МесГод,МесНомерМесяца,F3)=Поступки!$R$3:$R$607,ROW(Поступки!$R$3:$R$607)-1),ROW($A$2)),1)),\"\",INDEX(Поступки!$Q$2:$R$612,SMALL(IF(DATE(МесГод,МесНомерМесяца,F3)=Поступки!$R$3:$R$607,ROW(Поступки!$R$3:$R$607)-1),ROW($A$2)),1))","v":""},{"$f":"IF(ISERR(INDEX(Поступки!$Q$2:$R$612,SMALL(IF(DATE(МесГод,МесНомерМесяца,G3)=Поступки!$R$3:$R$607,ROW(Поступки!$R$3:$R$607)-1),ROW($A$2)),1)),\"\",INDEX(Поступки!$Q$2:$R$612,SMALL(IF(DATE(МесГод,МесНомерМесяца,G3)=Поступки!$R$3:$R$607,ROW(Поступки!$R$3:$R$607)-1),ROW($A$2)),1))","v":""},{"$f":"IF(ISERR(INDEX(Поступки!$Q$2:$R$612,SMALL(IF(DATE(МесГод,МесНомерМесяца,H3)=Поступки!$R$3:$R$607,ROW(Поступки!$R$3:$R$607)-1),ROW($A$2)),1)),\"\",INDEX(Поступки!$Q$2:$R$612,SMALL(IF(DATE(МесГод,МесНомерМесяца,H3)=Поступки!$R$3:$R$607,ROW(Поступки!$R$3:$R$607)-1),ROW($A$2)),1))","v":""}]
[null,{"$f":"IF(ISERR(INDEX(Поступки!$Q$2:$R$612,SMALL(IF(DATE(МесГод,МесНомерМесяца,B3)=Поступки!$R$3:$R$607,ROW(Поступки!$R$3:$R$607)-1),ROW($A$3)),1)),\"\",INDEX(Поступки!$Q$2:$R$612,SMALL(IF(DATE(МесГод,МесНомерМесяца,B3)=Поступки!$R$3:$R$607,ROW(Поступки!$R$3:$R$607)-1),ROW($A$3)),1))","v":""},{"$f":"IF(ISERR(INDEX(Поступки!$Q$2:$R$612,SMALL(IF(DATE(МесГод,МесНомерМесяца,C3)=Поступки!$R$3:$R$607,ROW(Поступки!$R$3:$R$607)-1),ROW($A$3)),1)),\"\",INDEX(Поступки!$Q$2:$R$612,SMALL(IF(DATE(МесГод,МесНомерМесяца,C3)=Поступки!$R$3:$R$607,ROW(Поступки!$R$3:$R$607)-1),ROW($A$3)),1))","v":""},{"$f":"IF(ISERR(INDEX(Поступки!$Q$2:$R$612,SMALL(IF(DATE(МесГод,МесНомерМесяца,D3)=Поступки!$R$3:$R$607,ROW(Поступки!$R$3:$R$607)-1),ROW($A$3)),1)),\"\",INDEX(Поступки!$Q$2:$R$612,SMALL(IF(DATE(МесГод,МесНомерМесяца,D3)=Поступки!$R$3:$R$607,ROW(Поступки!$R$3:$R$607)-1),ROW($A$3)),1))","v":""},{"$f":"IF(ISERR(INDEX(Поступки!$Q$2:$R$612,SMALL(IF(DATE(МесГод,МесНомерМесяца,E3)=Поступки!$R$3:$R$607,ROW(Поступки!$R$3:$R$607)-1),ROW($A$3)),1)),\"\",INDEX(Поступки!$Q$2:$R$612,SMALL(IF(DATE(МесГод,МесНомерМесяца,E3)=Поступки!$R$3:$R$607,ROW(Поступки!$R$3:$R$607)-1),ROW($A$3)),1))","v":""},{"$f":"IF(ISERR(INDEX(Поступки!$Q$2:$R$612,SMALL(IF(DATE(МесГод,МесНомерМесяца,F3)=Поступки!$R$3:$R$607,ROW(Поступки!$R$3:$R$607)-1),ROW($A$3)),1)),\"\",INDEX(Поступки!$Q$2:$R$612,SMALL(IF(DATE(МесГод,МесНомерМесяца,F3)=Поступки!$R$3:$R$607,ROW(Поступки!$R$3:$R$607)-1),ROW($A$3)),1))","v":""},{"$f":"IF(ISERR(INDEX(Поступки!$Q$2:$R$612,SMALL(IF(DATE(МесГод,МесНомерМесяца,G3)=Поступки!$R$3:$R$607,ROW(Поступки!$R$3:$R$607)-1),ROW($A$3)),1)),\"\",INDEX(Поступки!$Q$2:$R$612,SMALL(IF(DATE(МесГод,МесНомерМесяца,G3)=Поступки!$R$3:$R$607,ROW(Поступки!$R$3:$R$607)-1),ROW($A$3)),1))","v":""},{"$f":"IF(ISERR(INDEX(Поступки!$Q$2:$R$612,SMALL(IF(DATE(МесГод,МесНомерМесяца,H3)=Поступки!$R$3:$R$607,ROW(Поступки!$R$3:$R$607)-1),ROW($A$3)),1)),\"\",INDEX(Поступки!$Q$2:$R$612,SMALL(IF(DATE(МесГод,МесНомерМесяца,H3)=Поступки!$R$3:$R$607,ROW(Поступки!$R$3:$R$607)-1),ROW($A$3)),1))","v":""}]
[null,{"$f":"IF(ISERR(INDEX(Поступки!$Q$2:$R$612,SMALL(IF(DATE(МесГод,МесНомерМесяца,B3)=Поступки!$R$3:$R$607,ROW(Поступки!$R$3:$R$607)-1),ROW($A$4)),1)),\"\",INDEX(Поступки!$Q$2:$R$612,SMALL(IF(DATE(МесГод,МесНомерМесяца,B3)=Поступки!$R$3:$R$607,ROW(Поступки!$R$3:$R$607)-1),ROW($A$4)),1))","v":""},{"$f":"IF(ISERR(INDEX(Поступки!$Q$2:$R$612,SMALL(IF(DATE(МесГод,МесНомерМесяца,C3)=Поступки!$R$3:$R$607,ROW(Поступки!$R$3:$R$607)-1),ROW($A$4)),1)),\"\",INDEX(Поступки!$Q$2:$R$612,SMALL(IF(DATE(МесГод,МесНомерМесяца,C3)=Поступки!$R$3:$R$607,ROW(Поступки!$R$3:$R$607)-1),ROW($A$4)),1))","v":""},{"$f":"IF(ISERR(INDEX(Поступки!$Q$2:$R$612,SMALL(IF(DATE(МесГод,МесНомерМесяца,D3)=Поступки!$R$3:$R$607,ROW(Поступки!$R$3:$R$607)-1),ROW($A$4)),1)),\"\",INDEX(Поступки!$Q$2:$R$612,SMALL(IF(DATE(МесГод,МесНомерМесяца,D3)=Поступки!$R$3:$R$607,ROW(Поступки!$R$3:$R$607)-1),ROW($A$4)),1))","v":""},{"$f":"IF(ISERR(INDEX(Поступки!$Q$2:$R$612,SMALL(IF(DATE(МесГод,МесНомерМесяца,E3)=Поступки!$R$3:$R$607,ROW(Поступки!$R$3:$R$607)-1),ROW($A$4)),1)),\"\",INDEX(Поступки!$Q$2:$R$612,SMALL(IF(DATE(МесГод,МесНомерМесяца,E3)=Поступки!$R$3:$R$607,ROW(Поступки!$R$3:$R$607)-1),ROW($A$4)),1))","v":""},{"$f":"IF(ISERR(INDEX(Поступки!$Q$2:$R$612,SMALL(IF(DATE(МесГод,МесНомерМесяца,F3)=Поступки!$R$3:$R$607,ROW(Поступки!$R$3:$R$607)-1),ROW($A$4)),1)),\"\",INDEX(Поступки!$Q$2:$R$612,SMALL(IF(DATE(МесГод,МесНомерМесяца,F3)=Поступки!$R$3:$R$607,ROW(Поступки!$R$3:$R$607)-1),ROW($A$4)),1))","v":""},{"$f":"IF(ISERR(INDEX(Поступки!$Q$2:$R$612,SMALL(IF(DATE(МесГод,МесНомерМесяца,G3)=Поступки!$R$3:$R$607,ROW(Поступки!$R$3:$R$607)-1),ROW($A$4)),1)),\"\",INDEX(Поступки!$Q$2:$R$612,SMALL(IF(DATE(МесГод,МесНомерМесяца,G3)=Поступки!$R$3:$R$607,ROW(Поступки!$R$3:$R$607)-1),ROW($A$4)),1))","v":""},{"$f":"IF(ISERR(INDEX(Поступки!$Q$2:$R$612,SMALL(IF(DATE(МесГод,МесНомерМесяца,H3)=Поступки!$R$3:$R$607,ROW(Поступки!$R$3:$R$607)-1),ROW($A$4)),1)),\"\",INDEX(Поступки!$Q$2:$R$612,SMALL(IF(DATE(МесГод,МесНомерМесяца,H3)=Поступки!$R$3:$R$607,ROW(Поступки!$R$3:$R$607)-1),ROW($A$4)),1))","v":""}]
[null,{"$f":"IF(ISERR(INDEX(Поступки!$Q$2:$R$612,SMALL(IF(DATE(МесГод,МесНомерМесяца,B3)=Поступки!$R$3:$R$607,ROW(Поступки!$R$3:$R$607)-1),ROW($A$5)),1)),\"\",INDEX(Поступки!$Q$2:$R$612,SMALL(IF(DATE(МесГод,МесНомерМесяца,B3)=Поступки!$R$3:$R$607,ROW(Поступки!$R$3:$R$607)-1),ROW($A$5)),1))","v":""},{"$f":"IF(ISERR(INDEX(Поступки!$Q$2:$R$612,SMALL(IF(DATE(МесГод,МесНомерМесяца,C3)=Поступки!$R$3:$R$607,ROW(Поступки!$R$3:$R$607)-1),ROW($A$5)),1)),\"\",INDEX(Поступки!$Q$2:$R$612,SMALL(IF(DATE(МесГод,МесНомерМесяца,C3)=Поступки!$R$3:$R$607,ROW(Поступки!$R$3:$R$607)-1),ROW($A$5)),1))","v":""},{"$f":"IF(ISERR(INDEX(Поступки!$Q$2:$R$612,SMALL(IF(DATE(МесГод,МесНомерМесяца,D3)=Поступки!$R$3:$R$607,ROW(Поступки!$R$3:$R$607)-1),ROW($A$5)),1)),\"\",INDEX(Поступки!$Q$2:$R$612,SMALL(IF(DATE(МесГод,МесНомерМесяца,D3)=Поступки!$R$3:$R$607,ROW(Поступки!$R$3:$R$607)-1),ROW($A$5)),1))","v":""},{"$f":"IF(ISERR(INDEX(Поступки!$Q$2:$R$612,SMALL(IF(DATE(МесГод,МесНомерМесяца,E3)=Поступки!$R$3:$R$607,ROW(Поступки!$R$3:$R$607)-1),ROW($A$5)),1)),\"\",INDEX(Поступки!$Q$2:$R$612,SMALL(IF(DATE(МесГод,МесНомерМесяца,E3)=Поступки!$R$3:$R$607,ROW(Поступки!$R$3:$R$607)-1),ROW($A$5)),1))","v":""},{"$f":"IF(ISERR(INDEX(Поступки!$Q$2:$R$612,SMALL(IF(DATE(МесГод,МесНомерМесяца,F3)=Поступки!$R$3:$R$607,ROW(Поступки!$R$3:$R$607)-1),ROW($A$5)),1)),\"\",INDEX(Поступки!$Q$2:$R$612,SMALL(IF(DATE(МесГод,МесНомерМесяца,F3)=Поступки!$R$3:$R$607,ROW(Поступки!$R$3:$R$607)-1),ROW($A$5)),1))","v":""},{"$f":"IF(ISERR(INDEX(Поступки!$Q$2:$R$612,SMALL(IF(DATE(МесГод,МесНомерМесяца,G3)=Поступки!$R$3:$R$607,ROW(Поступки!$R$3:$R$607)-1),ROW($A$5)),1)),\"\",INDEX(Поступки!$Q$2:$R$612,SMALL(IF(DATE(МесГод,МесНомерМесяца,G3)=Поступки!$R$3:$R$607,ROW(Поступки!$R$3:$R$607)-1),ROW($A$5)),1))","v":""},{"$f":"IF(ISERR(INDEX(Поступки!$Q$2:$R$612,SMALL(IF(DATE(МесГод,МесНомерМесяца,H3)=Поступки!$R$3:$R$607,ROW(Поступки!$R$3:$R$607)-1),ROW($A$5)),1)),\"\",INDEX(Поступки!$Q$2:$R$612,SMALL(IF(DATE(МесГод,МесНомерМесяца,H3)=Поступки!$R$3:$R$607,ROW(Поступки!$R$3:$R$607)-1),ROW($A$5)),1))","v":""}]
[null,{"$f":"IF(ISERR(INDEX(Поступки!$Q$2:$R$612,SMALL(IF(DATE(МесГод,МесНомерМесяца,B3)=Поступки!$R$3:$R$607,ROW(Поступки!$R$3:$R$607)-1),ROW($A$6)),1)),\"\",INDEX(Поступки!$Q$2:$R$612,SMALL(IF(DATE(МесГод,МесНомерМесяца,B3)=Поступки!$R$3:$R$607,ROW(Поступки!$R$3:$R$607)-1),ROW($A$6)),1))","v":""},{"$f":"IF(ISERR(INDEX(Поступки!$Q$2:$R$612,SMALL(IF(DATE(МесГод,МесНомерМесяца,C3)=Поступки!$R$3:$R$607,ROW(Поступки!$R$3:$R$607)-1),ROW($A$6)),1)),\"\",INDEX(Поступки!$Q$2:$R$612,SMALL(IF(DATE(МесГод,МесНомерМесяца,C3)=Поступки!$R$3:$R$607,ROW(Поступки!$R$3:$R$607)-1),ROW($A$6)),1))","v":""},{"$f":"IF(ISERR(INDEX(Поступки!$Q$2:$R$612,SMALL(IF(DATE(МесГод,МесНомерМесяца,D3)=Поступки!$R$3:$R$607,ROW(Поступки!$R$3:$R$607)-1),ROW($A$6)),1)),\"\",INDEX(Поступки!$Q$2:$R$612,SMALL(IF(DATE(МесГод,МесНомерМесяца,D3)=Поступки!$R$3:$R$607,ROW(Поступки!$R$3:$R$607)-1),ROW($A$6)),1))","v":""},{"$f":"IF(ISERR(INDEX(Поступки!$Q$2:$R$612,SMALL(IF(DATE(МесГод,МесНомерМесяца,E3)=Поступки!$R$3:$R$607,ROW(Поступки!$R$3:$R$607)-1),ROW($A$6)),1)),\"\",INDEX(Поступки!$Q$2:$R$612,SMALL(IF(DATE(МесГод,МесНомерМесяца,E3)=Поступки!$R$3:$R$607,ROW(Поступки!$R$3:$R$607)-1),ROW($A$6)),1))","v":""},{"$f":"IF(ISERR(INDEX(Поступки!$Q$2:$R$612,SMALL(IF(DATE(МесГод,МесНомерМесяца,F3)=Поступки!$R$3:$R$607,ROW(Поступки!$R$3:$R$607)-1),ROW($A$6)),1)),\"\",INDEX(Поступки!$Q$2:$R$612,SMALL(IF(DATE(МесГод,МесНомерМесяца,F3)=Поступки!$R$3:$R$607,ROW(Поступки!$R$3:$R$607)-1),ROW($A$6)),1))","v":""},{"$f":"IF(ISERR(INDEX(Поступки!$Q$2:$R$612,SMALL(IF(DATE(МесГод,МесНомерМесяца,G3)=Поступки!$R$3:$R$607,ROW(Поступки!$R$3:$R$607)-1),ROW($A$6)),1)),\"\",INDEX(Поступки!$Q$2:$R$612,SMALL(IF(DATE(МесГод,МесНомерМесяца,G3)=Поступки!$R$3:$R$607,ROW(Поступки!$R$3:$R$607)-1),ROW($A$6)),1))","v":""},{"$f":"IF(ISERR(INDEX(Поступки!$Q$2:$R$612,SMALL(IF(DATE(МесГод,МесНомерМесяца,H3)=Поступки!$R$3:$R$607,ROW(Поступки!$R$3:$R$607)-1),ROW($A$6)),1)),\"\",INDEX(Поступки!$Q$2:$R$612,SMALL(IF(DATE(МесГод,МесНомерМесяца,H3)=Поступки!$R$3:$R$607,ROW(Поступки!$R$3:$R$607)-1),ROW($A$6)),1))","v":""}]
[null,{"$f":"IF(ISERR(INDEX(Поступки!$Q$2:$R$612,SMALL(IF(DATE(МесГод,МесНомерМесяца,B3)=Поступки!$R$3:$R$607,ROW(Поступки!$R$3:$R$607)-1),ROW($A$7)),1)),\"\",INDEX(Поступки!$Q$2:$R$612,SMALL(IF(DATE(МесГод,МесНомерМесяца,B3)=Поступки!$R$3:$R$607,ROW(Поступки!$R$3:$R$607)-1),ROW($A$7)),1))","v":""},{"$f":"IF(ISERR(INDEX(Поступки!$Q$2:$R$612,SMALL(IF(DATE(МесГод,МесНомерМесяца,C3)=Поступки!$R$3:$R$607,ROW(Поступки!$R$3:$R$607)-1),ROW($A$7)),1)),\"\",INDEX(Поступки!$Q$2:$R$612,SMALL(IF(DATE(МесГод,МесНомерМесяца,C3)=Поступки!$R$3:$R$607,ROW(Поступки!$R$3:$R$607)-1),ROW($A$7)),1))","v":""},{"$f":"IF(ISERR(INDEX(Поступки!$Q$2:$R$612,SMALL(IF(DATE(МесГод,МесНомерМесяца,D3)=Поступки!$R$3:$R$607,ROW(Поступки!$R$3:$R$607)-1),ROW($A$7)),1)),\"\",INDEX(Поступки!$Q$2:$R$612,SMALL(IF(DATE(МесГод,МесНомерМесяца,D3)=Поступки!$R$3:$R$607,ROW(Поступки!$R$3:$R$607)-1),ROW($A$7)),1))","v":""},{"$f":"IF(ISERR(INDEX(Поступки!$Q$2:$R$612,SMALL(IF(DATE(МесГод,МесНомерМесяца,E3)=Поступки!$R$3:$R$607,ROW(Поступки!$R$3:$R$607)-1),ROW($A$7)),1)),\"\",INDEX(Поступки!$Q$2:$R$612,SMALL(IF(DATE(МесГод,МесНомерМесяца,E3)=Поступки!$R$3:$R$607,ROW(Поступки!$R$3:$R$607)-1),ROW($A$7)),1))","v":""},{"$f":"IF(ISERR(INDEX(Поступки!$Q$2:$R$612,SMALL(IF(DATE(МесГод,МесНомерМесяца,F3)=Поступки!$R$3:$R$607,ROW(Поступки!$R$3:$R$607)-1),ROW($A$7)),1)),\"\",INDEX(Поступки!$Q$2:$R$612,SMALL(IF(DATE(МесГод,МесНомерМесяца,F3)=Поступки!$R$3:$R$607,ROW(Поступки!$R$3:$R$607)-1),ROW($A$7)),1))","v":""},{"$f":"IF(ISERR(INDEX(Поступки!$Q$2:$R$612,SMALL(IF(DATE(МесГод,МесНомерМесяца,G3)=Поступки!$R$3:$R$607,ROW(Поступки!$R$3:$R$607)-1),ROW($A$7)),1)),\"\",INDEX(Поступки!$Q$2:$R$612,SMALL(IF(DATE(МесГод,МесНомерМесяца,G3)=Поступки!$R$3:$R$607,ROW(Поступки!$R$3:$R$607)-1),ROW($A$7)),1))","v":""},{"$f":"IF(ISERR(INDEX(Поступки!$Q$2:$R$612,SMALL(IF(DATE(МесГод,МесНомерМесяца,H3)=Поступки!$R$3:$R$607,ROW(Поступки!$R$3:$R$607)-1),ROW($A$7)),1)),\"\",INDEX(Поступки!$Q$2:$R$612,SMALL(IF(DATE(МесГод,МесНомерМесяца,H3)=Поступки!$R$3:$R$607,ROW(Поступки!$R$3:$R$607)-1),ROW($A$7)),1))","v":""}]
[null,{"$f":"IF(ISERR(INDEX(Поступки!$Q$2:$R$612,SMALL(IF(DATE(МесГод,МесНомерМесяца,B3)=Поступки!$R$3:$R$607,ROW(Поступки!$R$3:$R$607)-1),ROW($A$8)),1)),\"\",INDEX(Поступки!$Q$2:$R$612,SMALL(IF(DATE(МесГод,МесНомерМесяца,B3)=Поступки!$R$3:$R$607,ROW(Поступки!$R$3:$R$607)-1),ROW($A$8)),1))","v":""},{"$f":"IF(ISERR(INDEX(Поступки!$Q$2:$R$612,SMALL(IF(DATE(МесГод,МесНомерМесяца,C3)=Поступки!$R$3:$R$607,ROW(Поступки!$R$3:$R$607)-1),ROW($A$8)),1)),\"\",INDEX(Поступки!$Q$2:$R$612,SMALL(IF(DATE(МесГод,МесНомерМесяца,C3)=Поступки!$R$3:$R$607,ROW(Поступки!$R$3:$R$607)-1),ROW($A$8)),1))","v":""},{"$f":"IF(ISERR(INDEX(Поступки!$Q$2:$R$612,SMALL(IF(DATE(МесГод,МесНомерМесяца,D3)=Поступки!$R$3:$R$607,ROW(Поступки!$R$3:$R$607)-1),ROW($A$8)),1)),\"\",INDEX(Поступки!$Q$2:$R$612,SMALL(IF(DATE(МесГод,МесНомерМесяца,D3)=Поступки!$R$3:$R$607,ROW(Поступки!$R$3:$R$607)-1),ROW($A$8)),1))","v":""},{"$f":"IF(ISERR(INDEX(Поступки!$Q$2:$R$612,SMALL(IF(DATE(МесГод,МесНомерМесяца,E3)=Поступки!$R$3:$R$607,ROW(Поступки!$R$3:$R$607)-1),ROW($A$8)),1)),\"\",INDEX(Поступки!$Q$2:$R$612,SMALL(IF(DATE(МесГод,МесНомерМесяца,E3)=Поступки!$R$3:$R$607,ROW(Поступки!$R$3:$R$607)-1),ROW($A$8)),1))","v":""},{"$f":"IF(ISERR(INDEX(Поступки!$Q$2:$R$612,SMALL(IF(DATE(МесГод,МесНомерМесяца,F3)=Поступки!$R$3:$R$607,ROW(Поступки!$R$3:$R$607)-1),ROW($A$8)),1)),\"\",INDEX(Поступки!$Q$2:$R$612,SMALL(IF(DATE(МесГод,МесНомерМесяца,F3)=Поступки!$R$3:$R$607,ROW(Поступки!$R$3:$R$607)-1),ROW($A$8)),1))","v":""},{"$f":"IF(ISERR(INDEX(Поступки!$Q$2:$R$612,SMALL(IF(DATE(МесГод,МесНомерМесяца,G3)=Поступки!$R$3:$R$607,ROW(Поступки!$R$3:$R$607)-1),ROW($A$8)),1)),\"\",INDEX(Поступки!$Q$2:$R$612,SMALL(IF(DATE(МесГод,МесНомерМесяца,G3)=Поступки!$R$3:$R$607,ROW(Поступки!$R$3:$R$607)-1),ROW($A$8)),1))","v":""},{"$f":"IF(ISERR(INDEX(Поступки!$Q$2:$R$612,SMALL(IF(DATE(МесГод,МесНомерМесяца,H3)=Поступки!$R$3:$R$607,ROW(Поступки!$R$3:$R$607)-1),ROW($A$8)),1)),\"\",INDEX(Поступки!$Q$2:$R$612,SMALL(IF(DATE(МесГод,МесНомерМесяца,H3)=Поступки!$R$3:$R$607,ROW(Поступки!$R$3:$R$607)-1),ROW($A$8)),1))","v":""}]
[null,{"$f":"IF(ISERR(INDEX(Поступки!$Q$2:$R$612,SMALL(IF(DATE(МесГод,МесНомерМесяца,B3)=Поступки!$R$3:$R$607,ROW(Поступки!$R$3:$R$607)-1),ROW($A$9)),1)),\"\",INDEX(Поступки!$Q$2:$R$612,SMALL(IF(DATE(МесГод,МесНомерМесяца,B3)=Поступки!$R$3:$R$607,ROW(Поступки!$R$3:$R$607)-1),ROW($A$9)),1))","v":""},{"$f":"IF(ISERR(INDEX(Поступки!$Q$2:$R$612,SMALL(IF(DATE(МесГод,МесНомерМесяца,C3)=Поступки!$R$3:$R$607,ROW(Поступки!$R$3:$R$607)-1),ROW($A$9)),1)),\"\",INDEX(Поступки!$Q$2:$R$612,SMALL(IF(DATE(МесГод,МесНомерМесяца,C3)=Поступки!$R$3:$R$607,ROW(Поступки!$R$3:$R$607)-1),ROW($A$9)),1))","v":""},{"$f":"IF(ISERR(INDEX(Поступки!$Q$2:$R$612,SMALL(IF(DATE(МесГод,МесНомерМесяца,D3)=Поступки!$R$3:$R$607,ROW(Поступки!$R$3:$R$607)-1),ROW($A$9)),1)),\"\",INDEX(Поступки!$Q$2:$R$612,SMALL(IF(DATE(МесГод,МесНомерМесяца,D3)=Поступки!$R$3:$R$607,ROW(Поступки!$R$3:$R$607)-1),ROW($A$9)),1))","v":""},{"$f":"IF(ISERR(INDEX(Поступки!$Q$2:$R$612,SMALL(IF(DATE(МесГод,МесНомерМесяца,E3)=Поступки!$R$3:$R$607,ROW(Поступки!$R$3:$R$607)-1),ROW($A$9)),1)),\"\",INDEX(Поступки!$Q$2:$R$612,SMALL(IF(DATE(МесГод,МесНомерМесяца,E3)=Поступки!$R$3:$R$607,ROW(Поступки!$R$3:$R$607)-1),ROW($A$9)),1))","v":""},{"$f":"IF(ISERR(INDEX(Поступки!$Q$2:$R$612,SMALL(IF(DATE(МесГод,МесНомерМесяца,F3)=Поступки!$R$3:$R$607,ROW(Поступки!$R$3:$R$607)-1),ROW($A$9)),1)),\"\",INDEX(Поступки!$Q$2:$R$612,SMALL(IF(DATE(МесГод,МесНомерМесяца,F3)=Поступки!$R$3:$R$607,ROW(Поступки!$R$3:$R$607)-1),ROW($A$9)),1))","v":""},{"$f":"IF(ISERR(INDEX(Поступки!$Q$2:$R$612,SMALL(IF(DATE(МесГод,МесНомерМесяца,G3)=Поступки!$R$3:$R$607,ROW(Поступки!$R$3:$R$607)-1),ROW($A$9)),1)),\"\",INDEX(Поступки!$Q$2:$R$612,SMALL(IF(DATE(МесГод,МесНомерМесяца,G3)=Поступки!$R$3:$R$607,ROW(Поступки!$R$3:$R$607)-1),ROW($A$9)),1))","v":""},{"$f":"IF(ISERR(INDEX(Поступки!$Q$2:$R$612,SMALL(IF(DATE(МесГод,МесНомерМесяца,H3)=Поступки!$R$3:$R$607,ROW(Поступки!$R$3:$R$607)-1),ROW($A$9)),1)),\"\",INDEX(Поступки!$Q$2:$R$612,SMALL(IF(DATE(МесГод,МесНомерМесяца,H3)=Поступки!$R$3:$R$607,ROW(Поступки!$R$3:$R$607)-1),ROW($A$9)),1))","v":""}]
[null,{"$f":"IF(ISERR(INDEX(Поступки!$Q$2:$R$612,SMALL(IF(DATE(МесГод,МесНомерМесяца,B3)=Поступки!$R$3:$R$607,ROW(Поступки!$R$3:$R$607)-1),ROW($A$10)),1)),\"\",INDEX(Поступки!$Q$2:$R$612,SMALL(IF(DATE(МесГод,МесНомерМесяца,B3)=Поступки!$R$3:$R$607,ROW(Поступки!$R$3:$R$607)-1),ROW($A$10)),1))","v":""},{"$f":"IF(ISERR(INDEX(Поступки!$Q$2:$R$612,SMALL(IF(DATE(МесГод,МесНомерМесяца,C3)=Поступки!$R$3:$R$607,ROW(Поступки!$R$3:$R$607)-1),ROW($A$10)),1)),\"\",INDEX(Поступки!$Q$2:$R$612,SMALL(IF(DATE(МесГод,МесНомерМесяца,C3)=Поступки!$R$3:$R$607,ROW(Поступки!$R$3:$R$607)-1),ROW($A$10)),1))","v":""},{"$f":"IF(ISERR(INDEX(Поступки!$Q$2:$R$612,SMALL(IF(DATE(МесГод,МесНомерМесяца,D3)=Поступки!$R$3:$R$607,ROW(Поступки!$R$3:$R$607)-1),ROW($A$10)),1)),\"\",INDEX(Поступки!$Q$2:$R$612,SMALL(IF(DATE(МесГод,МесНомерМесяца,D3)=Поступки!$R$3:$R$607,ROW(Поступки!$R$3:$R$607)-1),ROW($A$10)),1))","v":""},{"$f":"IF(ISERR(INDEX(Поступки!$Q$2:$R$612,SMALL(IF(DATE(МесГод,МесНомерМесяца,E3)=Поступки!$R$3:$R$607,ROW(Поступки!$R$3:$R$607)-1),ROW($A$10)),1)),\"\",INDEX(Поступки!$Q$2:$R$612,SMALL(IF(DATE(МесГод,МесНомерМесяца,E3)=Поступки!$R$3:$R$607,ROW(Поступки!$R$3:$R$607)-1),ROW($A$10)),1))","v":""},{"$f":"IF(ISERR(INDEX(Поступки!$Q$2:$R$612,SMALL(IF(DATE(МесГод,МесНомерМесяца,F3)=Поступки!$R$3:$R$607,ROW(Поступки!$R$3:$R$607)-1),ROW($A$10)),1)),\"\",INDEX(Поступки!$Q$2:$R$612,SMALL(IF(DATE(МесГод,МесНомерМесяца,F3)=Поступки!$R$3:$R$607,ROW(Поступки!$R$3:$R$607)-1),ROW($A$10)),1))","v":""},{"$f":"IF(ISERR(INDEX(Поступки!$Q$2:$R$612,SMALL(IF(DATE(МесГод,МесНомерМесяца,G3)=Поступки!$R$3:$R$607,ROW(Поступки!$R$3:$R$607)-1),ROW($A$10)),1)),\"\",INDEX(Поступки!$Q$2:$R$612,SMALL(IF(DATE(МесГод,МесНомерМесяца,G3)=Поступки!$R$3:$R$607,ROW(Поступки!$R$3:$R$607)-1),ROW($A$10)),1))","v":""},{"$f":"IF(ISERR(INDEX(Поступки!$Q$2:$R$612,SMALL(IF(DATE(МесГод,МесНомерМесяца,H3)=Поступки!$R$3:$R$607,ROW(Поступки!$R$3:$R$607)-1),ROW($A$10)),1)),\"\",INDEX(Поступки!$Q$2:$R$612,SMALL(IF(DATE(МесГод,МесНомерМесяца,H3)=Поступки!$R$3:$R$607,ROW(Поступки!$R$3:$R$607)-1),ROW($A$10)),1))","v":""}]
[null,{"$f":"IF(LEN(H3)>0,IF(H3=DAY(DATE(МесГод,МесНомерМесяца+1,0)),\"\",H3+1),\"\")","v":7},{"$f":"IF(LEN(B14)>0,IF(B14=DAY(DATE(МесГод,МесНомерМесяца+1,0)),\"\",B14+1),\"\")","v":8},9,{"$f":"IF(LEN(D14)>0,IF(D14=DAY(DATE(МесГод,МесНомерМесяца+1,0)),\"\",D14+1),\"\")","v":10},11,12,13]
[null,{"$f":"IF(ISERR(INDEX(Поступки!$Q$2:$R$612,SMALL(IF(DATE(МесГод,МесНомерМесяца,B14)=Поступки!$R$3:$R$607,ROW(Поступки!$R$3:$R$607)-1),ROW($A$1)),1)),\"\",INDEX(Поступки!$Q$2:$R$612,SMALL(IF(DATE(МесГод,МесНомерМесяца,B14)=Поступки!$R$3:$R$607,ROW(Поступки!$R$3:$R$607)-1),ROW($A$1)),1))","v":""},{"$f":"IF(ISERR(INDEX(Поступки!$Q$2:$R$612,SMALL(IF(DATE(МесГод,МесНомерМесяца,C14)=Поступки!$R$3:$R$607,ROW(Поступки!$R$3:$R$607)-1),ROW($A$1)),1)),\"\",INDEX(Поступки!$Q$2:$R$612,SMALL(IF(DATE(МесГод,МесНомерМесяца,C14)=Поступки!$R$3:$R$607,ROW(Поступки!$R$3:$R$607)-1),ROW($A$1)),1))","v":""},{"$f":"IF(ISERR(INDEX(Поступки!$Q$2:$R$612,SMALL(IF(DATE(МесГод,МесНомерМесяца,D14)=Поступки!$R$3:$R$607,ROW(Поступки!$R$3:$R$607)-1),ROW($A$1)),1)),\"\",INDEX(Поступки!$Q$2:$R$612,SMALL(IF(DATE(МесГод,МесНомерМесяца,D14)=Поступки!$R$3:$R$607,ROW(Поступки!$R$3:$R$607)-1),ROW($A$1)),1))","v":""},{"$f":"IF(ISERR(INDEX(Поступки!$Q$2:$R$612,SMALL(IF(DATE(МесГод,МесНомерМесяца,E14)=Поступки!$R$3:$R$607,ROW(Поступки!$R$3:$R$607)-1),ROW($A$1)),1)),\"\",INDEX(Поступки!$Q$2:$R$612,SMALL(IF(DATE(МесГод,МесНомерМесяца,E14)=Поступки!$R$3:$R$607,ROW(Поступки!$R$3:$R$607)-1),ROW($A$1)),1))","v":""},{"$f":"IF(ISERR(INDEX(Поступки!$Q$2:$R$612,SMALL(IF(DATE(МесГод,МесНомерМесяца,F14)=Поступки!$R$3:$R$607,ROW(Поступки!$R$3:$R$607)-1),ROW($A$1)),1)),\"\",INDEX(Поступки!$Q$2:$R$612,SMALL(IF(DATE(МесГод,МесНомерМесяца,F14)=Поступки!$R$3:$R$607,ROW(Поступки!$R$3:$R$607)-1),ROW($A$1)),1))","v":""},{"$f":"IF(ISERR(INDEX(Поступки!$Q$2:$R$612,SMALL(IF(DATE(МесГод,МесНомерМесяца,G14)=Поступки!$R$3:$R$607,ROW(Поступки!$R$3:$R$607)-1),ROW($A$1)),1)),\"\",INDEX(Поступки!$Q$2:$R$612,SMALL(IF(DATE(МесГод,МесНомерМесяца,G14)=Поступки!$R$3:$R$607,ROW(Поступки!$R$3:$R$607)-1),ROW($A$1)),1))","v":""},{"$f":"IF(ISERR(INDEX(Поступки!$Q$2:$R$612,SMALL(IF(DATE(МесГод,МесНомерМесяца,H14)=Поступки!$R$3:$R$607,ROW(Поступки!$R$3:$R$607)-1),ROW($A$1)),1)),\"\",INDEX(Поступки!$Q$2:$R$612,SMALL(IF(DATE(МесГод,МесНомерМесяца,H14)=Поступки!$R$3:$R$607,ROW(Поступки!$R$3:$R$607)-1),ROW($A$1)),1))","v":""}]
[null,{"$f":"IF(ISERR(INDEX(Поступки!$Q$2:$R$612,SMALL(IF(DATE(МесГод,МесНомерМесяца,B14)=Поступки!$R$3:$R$607,ROW(Поступки!$R$3:$R$607)-1),ROW($A$2)),1)),\"\",INDEX(Поступки!$Q$2:$R$612,SMALL(IF(DATE(МесГод,МесНомерМесяца,B14)=Поступки!$R$3:$R$607,ROW(Поступки!$R$3:$R$607)-1),ROW($A$2)),1))","v":""},{"$f":"IF(ISERR(INDEX(Поступки!$Q$2:$R$612,SMALL(IF(DATE(МесГод,МесНомерМесяца,C14)=Поступки!$R$3:$R$607,ROW(Поступки!$R$3:$R$607)-1),ROW($A$2)),1)),\"\",INDEX(Поступки!$Q$2:$R$612,SMALL(IF(DATE(МесГод,МесНомерМесяца,C14)=Поступки!$R$3:$R$607,ROW(Поступки!$R$3:$R$607)-1),ROW($A$2)),1))","v":""},{"$f":"IF(ISERR(INDEX(Поступки!$Q$2:$R$612,SMALL(IF(DATE(МесГод,МесНомерМесяца,D14)=Поступки!$R$3:$R$607,ROW(Поступки!$R$3:$R$607)-1),ROW($A$2)),1)),\"\",INDEX(Поступки!$Q$2:$R$612,SMALL(IF(DATE(МесГод,МесНомерМесяца,D14)=Поступки!$R$3:$R$607,ROW(Поступки!$R$3:$R$607)-1),ROW($A$2)),1))","v":""},{"$f":"IF(ISERR(INDEX(Поступки!$Q$2:$R$612,SMALL(IF(DATE(МесГод,МесНомерМесяца,E14)=Поступки!$R$3:$R$607,ROW(Поступки!$R$3:$R$607)-1),ROW($A$2)),1)),\"\",INDEX(Поступки!$Q$2:$R$612,SMALL(IF(DATE(МесГод,МесНомерМесяца,E14)=Поступки!$R$3:$R$607,ROW(Поступки!$R$3:$R$607)-1),ROW($A$2)),1))","v":""},{"$f":"IF(ISERR(INDEX(Поступки!$Q$2:$R$612,SMALL(IF(DATE(МесГод,МесНомерМесяца,F14)=Поступки!$R$3:$R$607,ROW(Поступки!$R$3:$R$607)-1),ROW($A$2)),1)),\"\",INDEX(Поступки!$Q$2:$R$612,SMALL(IF(DATE(МесГод,МесНомерМесяца,F14)=Поступки!$R$3:$R$607,ROW(Поступки!$R$3:$R$607)-1),ROW($A$2)),1))","v":""},{"$f":"IF(ISERR(INDEX(Поступки!$Q$2:$R$612,SMALL(IF(DATE(МесГод,МесНомерМесяца,G14)=Поступки!$R$3:$R$607,ROW(Поступки!$R$3:$R$607)-1),ROW($A$2)),1)),\"\",INDEX(Поступки!$Q$2:$R$612,SMALL(IF(DATE(МесГод,МесНомерМесяца,G14)=Поступки!$R$3:$R$607,ROW(Поступки!$R$3:$R$607)-1),ROW($A$2)),1))","v":""},{"$f":"IF(ISERR(INDEX(Поступки!$Q$2:$R$612,SMALL(IF(DATE(МесГод,МесНомерМесяца,H14)=Поступки!$R$3:$R$607,ROW(Поступки!$R$3:$R$607)-1),ROW($A$2)),1)),\"\",INDEX(Поступки!$Q$2:$R$612,SMALL(IF(DATE(МесГод,МесНомерМесяца,H14)=Поступки!$R$3:$R$607,ROW(Поступки!$R$3:$R$607)-1),ROW($A$2)),1))","v":""}]
[null,{"$f":"IF(ISERR(INDEX(Поступки!$Q$2:$R$612,SMALL(IF(DATE(МесГод,МесНомерМесяца,B14)=Поступки!$R$3:$R$607,ROW(Поступки!$R$3:$R$607)-1),ROW($A$3)),1)),\"\",INDEX(Поступки!$Q$2:$R$612,SMALL(IF(DATE(МесГод,МесНомерМесяца,B14)=Поступки!$R$3:$R$607,ROW(Поступки!$R$3:$R$607)-1),ROW($A$3)),1))","v":""},{"$f":"IF(ISERR(INDEX(Поступки!$Q$2:$R$612,SMALL(IF(DATE(МесГод,МесНомерМесяца,C14)=Поступки!$R$3:$R$607,ROW(Поступки!$R$3:$R$607)-1),ROW($A$3)),1)),\"\",INDEX(Поступки!$Q$2:$R$612,SMALL(IF(DATE(МесГод,МесНомерМесяца,C14)=Поступки!$R$3:$R$607,ROW(Поступки!$R$3:$R$607)-1),ROW($A$3)),1))","v":""},{"$f":"IF(ISERR(INDEX(Поступки!$Q$2:$R$612,SMALL(IF(DATE(МесГод,МесНомерМесяца,D14)=Поступки!$R$3:$R$607,ROW(Поступки!$R$3:$R$607)-1),ROW($A$3)),1)),\"\",INDEX(Поступки!$Q$2:$R$612,SMALL(IF(DATE(МесГод,МесНомерМесяца,D14)=Поступки!$R$3:$R$607,ROW(Поступки!$R$3:$R$607)-1),ROW($A$3)),1))","v":""},{"$f":"IF(ISERR(INDEX(Поступки!$Q$2:$R$612,SMALL(IF(DATE(МесГод,МесНомерМесяца,E14)=Поступки!$R$3:$R$607,ROW(Поступки!$R$3:$R$607)-1),ROW($A$3)),1)),\"\",INDEX(Поступки!$Q$2:$R$612,SMALL(IF(DATE(МесГод,МесНомерМесяца,E14)=Поступки!$R$3:$R$607,ROW(Поступки!$R$3:$R$607)-1),ROW($A$3)),1))","v":""},{"$f":"IF(ISERR(INDEX(Поступки!$Q$2:$R$612,SMALL(IF(DATE(МесГод,МесНомерМесяца,F14)=Поступки!$R$3:$R$607,ROW(Поступки!$R$3:$R$607)-1),ROW($A$3)),1)),\"\",INDEX(Поступки!$Q$2:$R$612,SMALL(IF(DATE(МесГод,МесНомерМесяца,F14)=Поступки!$R$3:$R$607,ROW(Поступки!$R$3:$R$607)-1),ROW($A$3)),1))","v":""},{"$f":"IF(ISERR(INDEX(Поступки!$Q$2:$R$612,SMALL(IF(DATE(МесГод,МесНомерМесяца,G14)=Поступки!$R$3:$R$607,ROW(Поступки!$R$3:$R$607)-1),ROW($A$3)),1)),\"\",INDEX(Поступки!$Q$2:$R$612,SMALL(IF(DATE(МесГод,МесНомерМесяца,G14)=Поступки!$R$3:$R$607,ROW(Поступки!$R$3:$R$607)-1),ROW($A$3)),1))","v":""},{"$f":"IF(ISERR(INDEX(Поступки!$Q$2:$R$612,SMALL(IF(DATE(МесГод,МесНомерМесяца,H14)=Поступки!$R$3:$R$607,ROW(Поступки!$R$3:$R$607)-1),ROW($A$3)),1)),\"\",INDEX(Поступки!$Q$2:$R$612,SMALL(IF(DATE(МесГод,МесНомерМесяца,H14)=Поступки!$R$3:$R$607,ROW(Поступки!$R$3:$R$607)-1),ROW($A$3)),1))","v":""}]
[null,{"$f":"IF(ISERR(INDEX(Поступки!$Q$2:$R$612,SMALL(IF(DATE(МесГод,МесНомерМесяца,B14)=Поступки!$R$3:$R$607,ROW(Поступки!$R$3:$R$607)-1),ROW($A$4)),1)),\"\",INDEX(Поступки!$Q$2:$R$612,SMALL(IF(DATE(МесГод,МесНомерМесяца,B14)=Поступки!$R$3:$R$607,ROW(Поступки!$R$3:$R$607)-1),ROW($A$4)),1))","v":""},{"$f":"IF(ISERR(INDEX(Поступки!$Q$2:$R$612,SMALL(IF(DATE(МесГод,МесНомерМесяца,C14)=Поступки!$R$3:$R$607,ROW(Поступки!$R$3:$R$607)-1),ROW($A$4)),1)),\"\",INDEX(Поступки!$Q$2:$R$612,SMALL(IF(DATE(МесГод,МесНомерМесяца,C14)=Поступки!$R$3:$R$607,ROW(Поступки!$R$3:$R$607)-1),ROW($A$4)),1))","v":""},{"$f":"IF(ISERR(INDEX(Поступки!$Q$2:$R$612,SMALL(IF(DATE(МесГод,МесНомерМесяца,D14)=Поступки!$R$3:$R$607,ROW(Поступки!$R$3:$R$607)-1),ROW($A$4)),1)),\"\",INDEX(Поступки!$Q$2:$R$612,SMALL(IF(DATE(МесГод,МесНомерМесяца,D14)=Поступки!$R$3:$R$607,ROW(Поступки!$R$3:$R$607)-1),ROW($A$4)),1))","v":""},{"$f":"IF(ISERR(INDEX(Поступки!$Q$2:$R$612,SMALL(IF(DATE(МесГод,МесНомерМесяца,E14)=Поступки!$R$3:$R$607,ROW(Поступки!$R$3:$R$607)-1),ROW($A$4)),1)),\"\",INDEX(Поступки!$Q$2:$R$612,SMALL(IF(DATE(МесГод,МесНомерМесяца,E14)=Поступки!$R$3:$R$607,ROW(Поступки!$R$3:$R$607)-1),ROW($A$4)),1))","v":""},{"$f":"IF(ISERR(INDEX(Поступки!$Q$2:$R$612,SMALL(IF(DATE(МесГод,МесНомерМесяца,F14)=Поступки!$R$3:$R$607,ROW(Поступки!$R$3:$R$607)-1),ROW($A$4)),1)),\"\",INDEX(Поступки!$Q$2:$R$612,SMALL(IF(DATE(МесГод,МесНомерМесяца,F14)=Поступки!$R$3:$R$607,ROW(Поступки!$R$3:$R$607)-1),ROW($A$4)),1))","v":""},{"$f":"IF(ISERR(INDEX(Поступки!$Q$2:$R$612,SMALL(IF(DATE(МесГод,МесНомерМесяца,G14)=Поступки!$R$3:$R$607,ROW(Поступки!$R$3:$R$607)-1),ROW($A$4)),1)),\"\",INDEX(Поступки!$Q$2:$R$612,SMALL(IF(DATE(МесГод,МесНомерМесяца,G14)=Поступки!$R$3:$R$607,ROW(Поступки!$R$3:$R$607)-1),ROW($A$4)),1))","v":""},{"$f":"IF(ISERR(INDEX(Поступки!$Q$2:$R$612,SMALL(IF(DATE(МесГод,МесНомерМесяца,H14)=Поступки!$R$3:$R$607,ROW(Поступки!$R$3:$R$607)-1),ROW($A$4)),1)),\"\",INDEX(Поступки!$Q$2:$R$612,SMALL(IF(DATE(МесГод,МесНомерМесяца,H14)=Поступки!$R$3:$R$607,ROW(Поступки!$R$3:$R$607)-1),ROW($A$4)),1))","v":""}]
[null,{"$f":"IF(ISERR(INDEX(Поступки!$Q$2:$R$612,SMALL(IF(DATE(МесГод,МесНомерМесяца,B14)=Поступки!$R$3:$R$607,ROW(Поступки!$R$3:$R$607)-1),ROW($A$5)),1)),\"\",INDEX(Поступки!$Q$2:$R$612,SMALL(IF(DATE(МесГод,МесНомерМесяца,B14)=Поступки!$R$3:$R$607,ROW(Поступки!$R$3:$R$607)-1),ROW($A$5)),1))","v":""},{"$f":"IF(ISERR(INDEX(Поступки!$Q$2:$R$612,SMALL(IF(DATE(МесГод,МесНомерМесяца,C14)=Поступки!$R$3:$R$607,ROW(Поступки!$R$3:$R$607)-1),ROW($A$5)),1)),\"\",INDEX(Поступки!$Q$2:$R$612,SMALL(IF(DATE(МесГод,МесНомерМесяца,C14)=Поступки!$R$3:$R$607,ROW(Поступки!$R$3:$R$607)-1),ROW($A$5)),1))","v":""},{"$f":"IF(ISERR(INDEX(Поступки!$Q$2:$R$612,SMALL(IF(DATE(МесГод,МесНомерМесяца,D14)=Поступки!$R$3:$R$607,ROW(Поступки!$R$3:$R$607)-1),ROW($A$5)),1)),\"\",INDEX(Поступки!$Q$2:$R$612,SMALL(IF(DATE(МесГод,МесНомерМесяца,D14)=Поступки!$R$3:$R$607,ROW(Поступки!$R$3:$R$607)-1),ROW($A$5)),1))","v":""},{"$f":"IF(ISERR(INDEX(Поступки!$Q$2:$R$612,SMALL(IF(DATE(МесГод,МесНомерМесяца,E14)=Поступки!$R$3:$R$607,ROW(Поступки!$R$3:$R$607)-1),ROW($A$5)),1)),\"\",INDEX(Поступки!$Q$2:$R$612,SMALL(IF(DATE(МесГод,МесНомерМесяца,E14)=Поступки!$R$3:$R$607,ROW(Поступки!$R$3:$R$607)-1),ROW($A$5)),1))","v":""},{"$f":"IF(ISERR(INDEX(Поступки!$Q$2:$R$612,SMALL(IF(DATE(МесГод,МесНомерМесяца,F14)=Поступки!$R$3:$R$607,ROW(Поступки!$R$3:$R$607)-1),ROW($A$5)),1)),\"\",INDEX(Поступки!$Q$2:$R$612,SMALL(IF(DATE(МесГод,МесНомерМесяца,F14)=Поступки!$R$3:$R$607,ROW(Поступки!$R$3:$R$607)-1),ROW($A$5)),1))","v":""},{"$f":"IF(ISERR(INDEX(Поступки!$Q$2:$R$612,SMALL(IF(DATE(МесГод,МесНомерМесяца,G14)=Поступки!$R$3:$R$607,ROW(Поступки!$R$3:$R$607)-1),ROW($A$5)),1)),\"\",INDEX(Поступки!$Q$2:$R$612,SMALL(IF(DATE(МесГод,МесНомерМесяца,G14)=Поступки!$R$3:$R$607,ROW(Поступки!$R$3:$R$607)-1),ROW($A$5)),1))","v":""},{"$f":"IF(ISERR(INDEX(Поступки!$Q$2:$R$612,SMALL(IF(DATE(МесГод,МесНомерМесяца,H14)=Поступки!$R$3:$R$607,ROW(Поступки!$R$3:$R$607)-1),ROW($A$5)),1)),\"\",INDEX(Поступки!$Q$2:$R$612,SMALL(IF(DATE(МесГод,МесНомерМесяца,H14)=Поступки!$R$3:$R$607,ROW(Поступки!$R$3:$R$607)-1),ROW($A$5)),1))","v":""}]
[null,{"$f":"IF(ISERR(INDEX(Поступки!$Q$2:$R$612,SMALL(IF(DATE(МесГод,МесНомерМесяца,B14)=Поступки!$R$3:$R$607,ROW(Поступки!$R$3:$R$607)-1),ROW($A$6)),1)),\"\",INDEX(Поступки!$Q$2:$R$612,SMALL(IF(DATE(МесГод,МесНомерМесяца,B14)=Поступки!$R$3:$R$607,ROW(Поступки!$R$3:$R$607)-1),ROW($A$6)),1))","v":""},{"$f":"IF(ISERR(INDEX(Поступки!$Q$2:$R$612,SMALL(IF(DATE(МесГод,МесНомерМесяца,C14)=Поступки!$R$3:$R$607,ROW(Поступки!$R$3:$R$607)-1),ROW($A$6)),1)),\"\",INDEX(Поступки!$Q$2:$R$612,SMALL(IF(DATE(МесГод,МесНомерМесяца,C14)=Поступки!$R$3:$R$607,ROW(Поступки!$R$3:$R$607)-1),ROW($A$6)),1))","v":""},{"$f":"IF(ISERR(INDEX(Поступки!$Q$2:$R$612,SMALL(IF(DATE(МесГод,МесНомерМесяца,D14)=Поступки!$R$3:$R$607,ROW(Поступки!$R$3:$R$607)-1),ROW($A$6)),1)),\"\",INDEX(Поступки!$Q$2:$R$612,SMALL(IF(DATE(МесГод,МесНомерМесяца,D14)=Поступки!$R$3:$R$607,ROW(Поступки!$R$3:$R$607)-1),ROW($A$6)),1))","v":""},{"$f":"IF(ISERR(INDEX(Поступки!$Q$2:$R$612,SMALL(IF(DATE(МесГод,МесНомерМесяца,E14)=Поступки!$R$3:$R$607,ROW(Поступки!$R$3:$R$607)-1),ROW($A$6)),1)),\"\",INDEX(Поступки!$Q$2:$R$612,SMALL(IF(DATE(МесГод,МесНомерМесяца,E14)=Поступки!$R$3:$R$607,ROW(Поступки!$R$3:$R$607)-1),ROW($A$6)),1))","v":""},{"$f":"IF(ISERR(INDEX(Поступки!$Q$2:$R$612,SMALL(IF(DATE(МесГод,МесНомерМесяца,F14)=Поступки!$R$3:$R$607,ROW(Поступки!$R$3:$R$607)-1),ROW($A$6)),1)),\"\",INDEX(Поступки!$Q$2:$R$612,SMALL(IF(DATE(МесГод,МесНомерМесяца,F14)=Поступки!$R$3:$R$607,ROW(Поступки!$R$3:$R$607)-1),ROW($A$6)),1))","v":""},{"$f":"IF(ISERR(INDEX(Поступки!$Q$2:$R$612,SMALL(IF(DATE(МесГод,МесНомерМесяца,G14)=Поступки!$R$3:$R$607,ROW(Поступки!$R$3:$R$607)-1),ROW($A$6)),1)),\"\",INDEX(Поступки!$Q$2:$R$612,SMALL(IF(DATE(МесГод,МесНомерМесяца,G14)=Поступки!$R$3:$R$607,ROW(Поступки!$R$3:$R$607)-1),ROW($A$6)),1))","v":""},{"$f":"IF(ISERR(INDEX(Поступки!$Q$2:$R$612,SMALL(IF(DATE(МесГод,МесНомерМесяца,H14)=Поступки!$R$3:$R$607,ROW(Поступки!$R$3:$R$607)-1),ROW($A$6)),1)),\"\",INDEX(Поступки!$Q$2:$R$612,SMALL(IF(DATE(МесГод,МесНомерМесяца,H14)=Поступки!$R$3:$R$607,ROW(Поступки!$R$3:$R$607)-1),ROW($A$6)),1))","v":""}]
[null,{"$f":"IF(ISERR(INDEX(Поступки!$Q$2:$R$612,SMALL(IF(DATE(МесГод,МесНомерМесяца,B14)=Поступки!$R$3:$R$607,ROW(Поступки!$R$3:$R$607)-1),ROW($A$7)),1)),\"\",INDEX(Поступки!$Q$2:$R$612,SMALL(IF(DATE(МесГод,МесНомерМесяца,B14)=Поступки!$R$3:$R$607,ROW(Поступки!$R$3:$R$607)-1),ROW($A$7)),1))","v":""},{"$f":"IF(ISERR(INDEX(Поступки!$Q$2:$R$612,SMALL(IF(DATE(МесГод,МесНомерМесяца,C14)=Поступки!$R$3:$R$607,ROW(Поступки!$R$3:$R$607)-1),ROW($A$7)),1)),\"\",INDEX(Поступки!$Q$2:$R$612,SMALL(IF(DATE(МесГод,МесНомерМесяца,C14)=Поступки!$R$3:$R$607,ROW(Поступки!$R$3:$R$607)-1),ROW($A$7)),1))","v":""},{"$f":"IF(ISERR(INDEX(Поступки!$Q$2:$R$612,SMALL(IF(DATE(МесГод,МесНомерМесяца,D14)=Поступки!$R$3:$R$607,ROW(Поступки!$R$3:$R$607)-1),ROW($A$7)),1)),\"\",INDEX(Поступки!$Q$2:$R$612,SMALL(IF(DATE(МесГод,МесНомерМесяца,D14)=Поступки!$R$3:$R$607,ROW(Поступки!$R$3:$R$607)-1),ROW($A$7)),1))","v":""},{"$f":"IF(ISERR(INDEX(Поступки!$Q$2:$R$612,SMALL(IF(DATE(МесГод,МесНомерМесяца,E14)=Поступки!$R$3:$R$607,ROW(Поступки!$R$3:$R$607)-1),ROW($A$7)),1)),\"\",INDEX(Поступки!$Q$2:$R$612,SMALL(IF(DATE(МесГод,МесНомерМесяца,E14)=Поступки!$R$3:$R$607,ROW(Поступки!$R$3:$R$607)-1),ROW($A$7)),1))","v":""},{"$f":"IF(ISERR(INDEX(Поступки!$Q$2:$R$612,SMALL(IF(DATE(МесГод,МесНомерМесяца,F14)=Поступки!$R$3:$R$607,ROW(Поступки!$R$3:$R$607)-1),ROW($A$7)),1)),\"\",INDEX(Поступки!$Q$2:$R$612,SMALL(IF(DATE(МесГод,МесНомерМесяца,F14)=Поступки!$R$3:$R$607,ROW(Поступки!$R$3:$R$607)-1),ROW($A$7)),1))","v":""},{"$f":"IF(ISERR(INDEX(Поступки!$Q$2:$R$612,SMALL(IF(DATE(МесГод,МесНомерМесяца,G14)=Поступки!$R$3:$R$607,ROW(Поступки!$R$3:$R$607)-1),ROW($A$7)),1)),\"\",INDEX(Поступки!$Q$2:$R$612,SMALL(IF(DATE(МесГод,МесНомерМесяца,G14)=Поступки!$R$3:$R$607,ROW(Поступки!$R$3:$R$607)-1),ROW($A$7)),1))","v":""},{"$f":"IF(ISERR(INDEX(Поступки!$Q$2:$R$612,SMALL(IF(DATE(МесГод,МесНомерМесяца,H14)=Поступки!$R$3:$R$607,ROW(Поступки!$R$3:$R$607)-1),ROW($A$7)),1)),\"\",INDEX(Поступки!$Q$2:$R$612,SMALL(IF(DATE(МесГод,МесНомерМесяца,H14)=Поступки!$R$3:$R$607,ROW(Поступки!$R$3:$R$607)-1),ROW($A$7)),1))","v":""}]
[null,{"$f":"IF(ISERR(INDEX(Поступки!$Q$2:$R$612,SMALL(IF(DATE(МесГод,МесНомерМесяца,B14)=Поступки!$R$3:$R$607,ROW(Поступки!$R$3:$R$607)-1),ROW($A$8)),1)),\"\",INDEX(Поступки!$Q$2:$R$612,SMALL(IF(DATE(МесГод,МесНомерМесяца,B14)=Поступки!$R$3:$R$607,ROW(Поступки!$R$3:$R$607)-1),ROW($A$8)),1))","v":""},{"$f":"IF(ISERR(INDEX(Поступки!$Q$2:$R$612,SMALL(IF(DATE(МесГод,МесНомерМесяца,C14)=Поступки!$R$3:$R$607,ROW(Поступки!$R$3:$R$607)-1),ROW($A$8)),1)),\"\",INDEX(Поступки!$Q$2:$R$612,SMALL(IF(DATE(МесГод,МесНомерМесяца,C14)=Поступки!$R$3:$R$607,ROW(Поступки!$R$3:$R$607)-1),ROW($A$8)),1))","v":""},{"$f":"IF(ISERR(INDEX(Поступки!$Q$2:$R$612,SMALL(IF(DATE(МесГод,МесНомерМесяца,D14)=Поступки!$R$3:$R$607,ROW(Поступки!$R$3:$R$607)-1),ROW($A$8)),1)),\"\",INDEX(Поступки!$Q$2:$R$612,SMALL(IF(DATE(МесГод,МесНомерМесяца,D14)=Поступки!$R$3:$R$607,ROW(Поступки!$R$3:$R$607)-1),ROW($A$8)),1))","v":""},{"$f":"IF(ISERR(INDEX(Поступки!$Q$2:$R$612,SMALL(IF(DATE(МесГод,МесНомерМесяца,E14)=Поступки!$R$3:$R$607,ROW(Поступки!$R$3:$R$607)-1),ROW($A$8)),1)),\"\",INDEX(Поступки!$Q$2:$R$612,SMALL(IF(DATE(МесГод,МесНомерМесяца,E14)=Поступки!$R$3:$R$607,ROW(Поступки!$R$3:$R$607)-1),ROW($A$8)),1))","v":""},{"$f":"IF(ISERR(INDEX(Поступки!$Q$2:$R$612,SMALL(IF(DATE(МесГод,МесНомерМесяца,F14)=Поступки!$R$3:$R$607,ROW(Поступки!$R$3:$R$607)-1),ROW($A$8)),1)),\"\",INDEX(Поступки!$Q$2:$R$612,SMALL(IF(DATE(МесГод,МесНомерМесяца,F14)=Поступки!$R$3:$R$607,ROW(Поступки!$R$3:$R$607)-1),ROW($A$8)),1))","v":""},{"$f":"IF(ISERR(INDEX(Поступки!$Q$2:$R$612,SMALL(IF(DATE(МесГод,МесНомерМесяца,G14)=Поступки!$R$3:$R$607,ROW(Поступки!$R$3:$R$607)-1),ROW($A$8)),1)),\"\",INDEX(Поступки!$Q$2:$R$612,SMALL(IF(DATE(МесГод,МесНомерМесяца,G14)=Поступки!$R$3:$R$607,ROW(Поступки!$R$3:$R$607)-1),ROW($A$8)),1))","v":""},{"$f":"IF(ISERR(INDEX(Поступки!$Q$2:$R$612,SMALL(IF(DATE(МесГод,МесНомерМесяца,H14)=Поступки!$R$3:$R$607,ROW(Поступки!$R$3:$R$607)-1),ROW($A$8)),1)),\"\",INDEX(Поступки!$Q$2:$R$612,SMALL(IF(DATE(МесГод,МесНомерМесяца,H14)=Поступки!$R$3:$R$607,ROW(Поступки!$R$3:$R$607)-1),ROW($A$8)),1))","v":""}]
[null,{"$f":"IF(ISERR(INDEX(Поступки!$Q$2:$R$612,SMALL(IF(DATE(МесГод,МесНомерМесяца,B14)=Поступки!$R$3:$R$607,ROW(Поступки!$R$3:$R$607)-1),ROW($A$9)),1)),\"\",INDEX(Поступки!$Q$2:$R$612,SMALL(IF(DATE(МесГод,МесНомерМесяца,B14)=Поступки!$R$3:$R$607,ROW(Поступки!$R$3:$R$607)-1),ROW($A$9)),1))","v":""},{"$f":"IF(ISERR(INDEX(Поступки!$Q$2:$R$612,SMALL(IF(DATE(МесГод,МесНомерМесяца,C14)=Поступки!$R$3:$R$607,ROW(Поступки!$R$3:$R$607)-1),ROW($A$9)),1)),\"\",INDEX(Поступки!$Q$2:$R$612,SMALL(IF(DATE(МесГод,МесНомерМесяца,C14)=Поступки!$R$3:$R$607,ROW(Поступки!$R$3:$R$607)-1),ROW($A$9)),1))","v":""},{"$f":"IF(ISERR(INDEX(Поступки!$Q$2:$R$612,SMALL(IF(DATE(МесГод,МесНомерМесяца,D14)=Поступки!$R$3:$R$607,ROW(Поступки!$R$3:$R$607)-1),ROW($A$9)),1)),\"\",INDEX(Поступки!$Q$2:$R$612,SMALL(IF(DATE(МесГод,МесНомерМесяца,D14)=Поступки!$R$3:$R$607,ROW(Поступки!$R$3:$R$607)-1),ROW($A$9)),1))","v":""},{"$f":"IF(ISERR(INDEX(Поступки!$Q$2:$R$612,SMALL(IF(DATE(МесГод,МесНомерМесяца,E14)=Поступки!$R$3:$R$607,ROW(Поступки!$R$3:$R$607)-1),ROW($A$9)),1)),\"\",INDEX(Поступки!$Q$2:$R$612,SMALL(IF(DATE(МесГод,МесНомерМесяца,E14)=Поступки!$R$3:$R$607,ROW(Поступки!$R$3:$R$607)-1),ROW($A$9)),1))","v":""},{"$f":"IF(ISERR(INDEX(Поступки!$Q$2:$R$612,SMALL(IF(DATE(МесГод,МесНомерМесяца,F14)=Поступки!$R$3:$R$607,ROW(Поступки!$R$3:$R$607)-1),ROW($A$9)),1)),\"\",INDEX(Поступки!$Q$2:$R$612,SMALL(IF(DATE(МесГод,МесНомерМесяца,F14)=Поступки!$R$3:$R$607,ROW(Поступки!$R$3:$R$607)-1),ROW($A$9)),1))","v":""},{"$f":"IF(ISERR(INDEX(Поступки!$Q$2:$R$612,SMALL(IF(DATE(МесГод,МесНомерМесяца,G14)=Поступки!$R$3:$R$607,ROW(Поступки!$R$3:$R$607)-1),ROW($A$9)),1)),\"\",INDEX(Поступки!$Q$2:$R$612,SMALL(IF(DATE(МесГод,МесНомерМесяца,G14)=Поступки!$R$3:$R$607,ROW(Поступки!$R$3:$R$607)-1),ROW($A$9)),1))","v":""},{"$f":"IF(ISERR(INDEX(Поступки!$Q$2:$R$612,SMALL(IF(DATE(МесГод,МесНомерМесяца,H14)=Поступки!$R$3:$R$607,ROW(Поступки!$R$3:$R$607)-1),ROW($A$9)),1)),\"\",INDEX(Поступки!$Q$2:$R$612,SMALL(IF(DATE(МесГод,МесНомерМесяца,H14)=Поступки!$R$3:$R$607,ROW(Поступки!$R$3:$R$607)-1),ROW($A$9)),1))","v":""}]
[null,{"$f":"IF(ISERR(INDEX(Поступки!$Q$2:$R$612,SMALL(IF(DATE(МесГод,МесНомерМесяца,B14)=Поступки!$R$3:$R$607,ROW(Поступки!$R$3:$R$607)-1),ROW($A$10)),1)),\"\",INDEX(Поступки!$Q$2:$R$612,SMALL(IF(DATE(МесГод,МесНомерМесяца,B14)=Поступки!$R$3:$R$607,ROW(Поступки!$R$3:$R$607)-1),ROW($A$10)),1))","v":""},{"$f":"IF(ISERR(INDEX(Поступки!$Q$2:$R$612,SMALL(IF(DATE(МесГод,МесНомерМесяца,C14)=Поступки!$R$3:$R$607,ROW(Поступки!$R$3:$R$607)-1),ROW($A$10)),1)),\"\",INDEX(Поступки!$Q$2:$R$612,SMALL(IF(DATE(МесГод,МесНомерМесяца,C14)=Поступки!$R$3:$R$607,ROW(Поступки!$R$3:$R$607)-1),ROW($A$10)),1))","v":""},{"$f":"IF(ISERR(INDEX(Поступки!$Q$2:$R$612,SMALL(IF(DATE(МесГод,МесНомерМесяца,D14)=Поступки!$R$3:$R$607,ROW(Поступки!$R$3:$R$607)-1),ROW($A$10)),1)),\"\",INDEX(Поступки!$Q$2:$R$612,SMALL(IF(DATE(МесГод,МесНомерМесяца,D14)=Поступки!$R$3:$R$607,ROW(Поступки!$R$3:$R$607)-1),ROW($A$10)),1))","v":""},{"$f":"IF(ISERR(INDEX(Поступки!$Q$2:$R$612,SMALL(IF(DATE(МесГод,МесНомерМесяца,E14)=Поступки!$R$3:$R$607,ROW(Поступки!$R$3:$R$607)-1),ROW($A$10)),1)),\"\",INDEX(Поступки!$Q$2:$R$612,SMALL(IF(DATE(МесГод,МесНомерМесяца,E14)=Поступки!$R$3:$R$607,ROW(Поступки!$R$3:$R$607)-1),ROW($A$10)),1))","v":""},{"$f":"IF(ISERR(INDEX(Поступки!$Q$2:$R$612,SMALL(IF(DATE(МесГод,МесНомерМесяца,F14)=Поступки!$R$3:$R$607,ROW(Поступки!$R$3:$R$607)-1),ROW($A$10)),1)),\"\",INDEX(Поступки!$Q$2:$R$612,SMALL(IF(DATE(МесГод,МесНомерМесяца,F14)=Поступки!$R$3:$R$607,ROW(Поступки!$R$3:$R$607)-1),ROW($A$10)),1))","v":""},{"$f":"IF(ISERR(INDEX(Поступки!$Q$2:$R$612,SMALL(IF(DATE(МесГод,МесНомерМесяца,G14)=Поступки!$R$3:$R$607,ROW(Поступки!$R$3:$R$607)-1),ROW($A$10)),1)),\"\",INDEX(Поступки!$Q$2:$R$612,SMALL(IF(DATE(МесГод,МесНомерМесяца,G14)=Поступки!$R$3:$R$607,ROW(Поступки!$R$3:$R$607)-1),ROW($A$10)),1))","v":""},{"$f":"IF(ISERR(INDEX(Поступки!$Q$2:$R$612,SMALL(IF(DATE(МесГод,МесНомерМесяца,H14)=Поступки!$R$3:$R$607,ROW(Поступки!$R$3:$R$607)-1),ROW($A$10)),1)),\"\",INDEX(Поступки!$Q$2:$R$612,SMALL(IF(DATE(МесГод,МесНомерМесяца,H14)=Поступки!$R$3:$R$607,ROW(Поступки!$R$3:$R$607)-1),ROW($A$10)),1))","v":""}]
[null,{"$f":"IF(LEN(H14)>0,IF(H14=DAY(DATE(МесГод,МесНомерМесяца+1,0)),\"\",H14+1),\"\")","v":14},{"$f":"IF(LEN(B25)>0,IF(B25=DAY(DATE(МесГод,МесНомерМесяца+1,0)),\"\",B25+1),\"\")","v":15},16,{"$f":"IF(LEN(D25)>0,IF(D25=DAY(DATE(МесГод,МесНомерМесяца+1,0)),\"\",D25+1),\"\")","v":17},18,19,20]
[null,{"$f":"IF(ISERR(INDEX(Поступки!$Q$2:$R$612,SMALL(IF(DATE(МесГод,МесНомерМесяца,B25)=Поступки!$R$3:$R$607,ROW(Поступки!$R$3:$R$607)-1),ROW($A$1)),1)),\"\",INDEX(Поступки!$Q$2:$R$612,SMALL(IF(DATE(МесГод,МесНомерМесяца,B25)=Поступки!$R$3:$R$607,ROW(Поступки!$R$3:$R$607)-1),ROW($A$1)),1))","v":""},{"$f":"IF(ISERR(INDEX(Поступки!$Q$2:$R$612,SMALL(IF(DATE(МесГод,МесНомерМесяца,C25)=Поступки!$R$3:$R$607,ROW(Поступки!$R$3:$R$607)-1),ROW($A$1)),1)),\"\",INDEX(Поступки!$Q$2:$R$612,SMALL(IF(DATE(МесГод,МесНомерМесяца,C25)=Поступки!$R$3:$R$607,ROW(Поступки!$R$3:$R$607)-1),ROW($A$1)),1))","v":""},{"$f":"IF(ISERR(INDEX(Поступки!$Q$2:$R$612,SMALL(IF(DATE(МесГод,МесНомерМесяца,D25)=Поступки!$R$3:$R$607,ROW(Поступки!$R$3:$R$607)-1),ROW($A$1)),1)),\"\",INDEX(Поступки!$Q$2:$R$612,SMALL(IF(DATE(МесГод,МесНомерМесяца,D25)=Поступки!$R$3:$R$607,ROW(Поступки!$R$3:$R$607)-1),ROW($A$1)),1))","v":""},{"$f":"IF(ISERR(INDEX(Поступки!$Q$2:$R$612,SMALL(IF(DATE(МесГод,МесНомерМесяца,E25)=Поступки!$R$3:$R$607,ROW(Поступки!$R$3:$R$607)-1),ROW($A$1)),1)),\"\",INDEX(Поступки!$Q$2:$R$612,SMALL(IF(DATE(МесГод,МесНомерМесяца,E25)=Поступки!$R$3:$R$607,ROW(Поступки!$R$3:$R$607)-1),ROW($A$1)),1))","v":""},{"$f":"IF(ISERR(INDEX(Поступки!$Q$2:$R$612,SMALL(IF(DATE(МесГод,МесНомерМесяца,F25)=Поступки!$R$3:$R$607,ROW(Поступки!$R$3:$R$607)-1),ROW($A$1)),1)),\"\",INDEX(Поступки!$Q$2:$R$612,SMALL(IF(DATE(МесГод,МесНомерМесяца,F25)=Поступки!$R$3:$R$607,ROW(Поступки!$R$3:$R$607)-1),ROW($A$1)),1))","v":""},{"$f":"IF(ISERR(INDEX(Поступки!$Q$2:$R$612,SMALL(IF(DATE(МесГод,МесНомерМесяца,G25)=Поступки!$R$3:$R$607,ROW(Поступки!$R$3:$R$607)-1),ROW($A$1)),1)),\"\",INDEX(Поступки!$Q$2:$R$612,SMALL(IF(DATE(МесГод,МесНомерМесяца,G25)=Поступки!$R$3:$R$607,ROW(Поступки!$R$3:$R$607)-1),ROW($A$1)),1))","v":""},{"$f":"IF(ISERR(INDEX(Поступки!$Q$2:$R$612,SMALL(IF(DATE(МесГод,МесНомерМесяца,H25)=Поступки!$R$3:$R$607,ROW(Поступки!$R$3:$R$607)-1),ROW($A$1)),1)),\"\",INDEX(Поступки!$Q$2:$R$612,SMALL(IF(DATE(МесГод,МесНомерМесяца,H25)=Поступки!$R$3:$R$607,ROW(Поступки!$R$3:$R$607)-1),ROW($A$1)),1))","v":""}]
[null,{"$f":"IF(ISERR(INDEX(Поступки!$Q$2:$R$612,SMALL(IF(DATE(МесГод,МесНомерМесяца,B25)=Поступки!$R$3:$R$607,ROW(Поступки!$R$3:$R$607)-1),ROW($A$2)),1)),\"\",INDEX(Поступки!$Q$2:$R$612,SMALL(IF(DATE(МесГод,МесНомерМесяца,B25)=Поступки!$R$3:$R$607,ROW(Поступки!$R$3:$R$607)-1),ROW($A$2)),1))","v":""},{"$f":"IF(ISERR(INDEX(Поступки!$Q$2:$R$612,SMALL(IF(DATE(МесГод,МесНомерМесяца,C25)=Поступки!$R$3:$R$607,ROW(Поступки!$R$3:$R$607)-1),ROW($A$2)),1)),\"\",INDEX(Поступки!$Q$2:$R$612,SMALL(IF(DATE(МесГод,МесНомерМесяца,C25)=Поступки!$R$3:$R$607,ROW(Поступки!$R$3:$R$607)-1),ROW($A$2)),1))","v":""},{"$f":"IF(ISERR(INDEX(Поступки!$Q$2:$R$612,SMALL(IF(DATE(МесГод,МесНомерМесяца,D25)=Поступки!$R$3:$R$607,ROW(Поступки!$R$3:$R$607)-1),ROW($A$2)),1)),\"\",INDEX(Поступки!$Q$2:$R$612,SMALL(IF(DATE(МесГод,МесНомерМесяца,D25)=Поступки!$R$3:$R$607,ROW(Поступки!$R$3:$R$607)-1),ROW($A$2)),1))","v":""},{"$f":"IF(ISERR(INDEX(Поступки!$Q$2:$R$612,SMALL(IF(DATE(МесГод,МесНомерМесяца,E25)=Поступки!$R$3:$R$607,ROW(Поступки!$R$3:$R$607)-1),ROW($A$2)),1)),\"\",INDEX(Поступки!$Q$2:$R$612,SMALL(IF(DATE(МесГод,МесНомерМесяца,E25)=Поступки!$R$3:$R$607,ROW(Поступки!$R$3:$R$607)-1),ROW($A$2)),1))","v":""},{"$f":"IF(ISERR(INDEX(Поступки!$Q$2:$R$612,SMALL(IF(DATE(МесГод,МесНомерМесяца,F25)=Поступки!$R$3:$R$607,ROW(Поступки!$R$3:$R$607)-1),ROW($A$2)),1)),\"\",INDEX(Поступки!$Q$2:$R$612,SMALL(IF(DATE(МесГод,МесНомерМесяца,F25)=Поступки!$R$3:$R$607,ROW(Поступки!$R$3:$R$607)-1),ROW($A$2)),1))","v":""},{"$f":"IF(ISERR(INDEX(Поступки!$Q$2:$R$612,SMALL(IF(DATE(МесГод,МесНомерМесяца,G25)=Поступки!$R$3:$R$607,ROW(Поступки!$R$3:$R$607)-1),ROW($A$2)),1)),\"\",INDEX(Поступки!$Q$2:$R$612,SMALL(IF(DATE(МесГод,МесНомерМесяца,G25)=Поступки!$R$3:$R$607,ROW(Поступки!$R$3:$R$607)-1),ROW($A$2)),1))","v":""},{"$f":"IF(ISERR(INDEX(Поступки!$Q$2:$R$612,SMALL(IF(DATE(МесГод,МесНомерМесяца,H25)=Поступки!$R$3:$R$607,ROW(Поступки!$R$3:$R$607)-1),ROW($A$2)),1)),\"\",INDEX(Поступки!$Q$2:$R$612,SMALL(IF(DATE(МесГод,МесНомерМесяца,H25)=Поступки!$R$3:$R$607,ROW(Поступки!$R$3:$R$607)-1),ROW($A$2)),1))","v":""}]
[null,{"$f":"IF(ISERR(INDEX(Поступки!$Q$2:$R$612,SMALL(IF(DATE(МесГод,МесНомерМесяца,B25)=Поступки!$R$3:$R$607,ROW(Поступки!$R$3:$R$607)-1),ROW($A$3)),1)),\"\",INDEX(Поступки!$Q$2:$R$612,SMALL(IF(DATE(МесГод,МесНомерМесяца,B25)=Поступки!$R$3:$R$607,ROW(Поступки!$R$3:$R$607)-1),ROW($A$3)),1))","v":""},{"$f":"IF(ISERR(INDEX(Поступки!$Q$2:$R$612,SMALL(IF(DATE(МесГод,МесНомерМесяца,C25)=Поступки!$R$3:$R$607,ROW(Поступки!$R$3:$R$607)-1),ROW($A$3)),1)),\"\",INDEX(Поступки!$Q$2:$R$612,SMALL(IF(DATE(МесГод,МесНомерМесяца,C25)=Поступки!$R$3:$R$607,ROW(Поступки!$R$3:$R$607)-1),ROW($A$3)),1))","v":""},{"$f":"IF(ISERR(INDEX(Поступки!$Q$2:$R$612,SMALL(IF(DATE(МесГод,МесНомерМесяца,D25)=Поступки!$R$3:$R$607,ROW(Поступки!$R$3:$R$607)-1),ROW($A$3)),1)),\"\",INDEX(Поступки!$Q$2:$R$612,SMALL(IF(DATE(МесГод,МесНомерМесяца,D25)=Поступки!$R$3:$R$607,ROW(Поступки!$R$3:$R$607)-1),ROW($A$3)),1))","v":""},{"$f":"IF(ISERR(INDEX(Поступки!$Q$2:$R$612,SMALL(IF(DATE(МесГод,МесНомерМесяца,E25)=Поступки!$R$3:$R$607,ROW(Поступки!$R$3:$R$607)-1),ROW($A$3)),1)),\"\",INDEX(Поступки!$Q$2:$R$612,SMALL(IF(DATE(МесГод,МесНомерМесяца,E25)=Поступки!$R$3:$R$607,ROW(Поступки!$R$3:$R$607)-1),ROW($A$3)),1))","v":""},{"$f":"IF(ISERR(INDEX(Поступки!$Q$2:$R$612,SMALL(IF(DATE(МесГод,МесНомерМесяца,F25)=Поступки!$R$3:$R$607,ROW(Поступки!$R$3:$R$607)-1),ROW($A$3)),1)),\"\",INDEX(Поступки!$Q$2:$R$612,SMALL(IF(DATE(МесГод,МесНомерМесяца,F25)=Поступки!$R$3:$R$607,ROW(Поступки!$R$3:$R$607)-1),ROW($A$3)),1))","v":""},{"$f":"IF(ISERR(INDEX(Поступки!$Q$2:$R$612,SMALL(IF(DATE(МесГод,МесНомерМесяца,G25)=Поступки!$R$3:$R$607,ROW(Поступки!$R$3:$R$607)-1),ROW($A$3)),1)),\"\",INDEX(Поступки!$Q$2:$R$612,SMALL(IF(DATE(МесГод,МесНомерМесяца,G25)=Поступки!$R$3:$R$607,ROW(Поступки!$R$3:$R$607)-1),ROW($A$3)),1))","v":""},{"$f":"IF(ISERR(INDEX(Поступки!$Q$2:$R$612,SMALL(IF(DATE(МесГод,МесНомерМесяца,H25)=Поступки!$R$3:$R$607,ROW(Поступки!$R$3:$R$607)-1),ROW($A$3)),1)),\"\",INDEX(Поступки!$Q$2:$R$612,SMALL(IF(DATE(МесГод,МесНомерМесяца,H25)=Поступки!$R$3:$R$607,ROW(Поступки!$R$3:$R$607)-1),ROW($A$3)),1))","v":""}]
[null,{"$f":"IF(ISERR(INDEX(Поступки!$Q$2:$R$612,SMALL(IF(DATE(МесГод,МесНомерМесяца,B25)=Поступки!$R$3:$R$607,ROW(Поступки!$R$3:$R$607)-1),ROW($A$4)),1)),\"\",INDEX(Поступки!$Q$2:$R$612,SMALL(IF(DATE(МесГод,МесНомерМесяца,B25)=Поступки!$R$3:$R$607,ROW(Поступки!$R$3:$R$607)-1),ROW($A$4)),1))","v":""},{"$f":"IF(ISERR(INDEX(Поступки!$Q$2:$R$612,SMALL(IF(DATE(МесГод,МесНомерМесяца,C25)=Поступки!$R$3:$R$607,ROW(Поступки!$R$3:$R$607)-1),ROW($A$4)),1)),\"\",INDEX(Поступки!$Q$2:$R$612,SMALL(IF(DATE(МесГод,МесНомерМесяца,C25)=Поступки!$R$3:$R$607,ROW(Поступки!$R$3:$R$607)-1),ROW($A$4)),1))","v":""},{"$f":"IF(ISERR(INDEX(Поступки!$Q$2:$R$612,SMALL(IF(DATE(МесГод,МесНомерМесяца,D25)=Поступки!$R$3:$R$607,ROW(Поступки!$R$3:$R$607)-1),ROW($A$4)),1)),\"\",INDEX(Поступки!$Q$2:$R$612,SMALL(IF(DATE(МесГод,МесНомерМесяца,D25)=Поступки!$R$3:$R$607,ROW(Поступки!$R$3:$R$607)-1),ROW($A$4)),1))","v":""},{"$f":"IF(ISERR(INDEX(Поступки!$Q$2:$R$612,SMALL(IF(DATE(МесГод,МесНомерМесяца,E25)=Поступки!$R$3:$R$607,ROW(Поступки!$R$3:$R$607)-1),ROW($A$4)),1)),\"\",INDEX(Поступки!$Q$2:$R$612,SMALL(IF(DATE(МесГод,МесНомерМесяца,E25)=Поступки!$R$3:$R$607,ROW(Поступки!$R$3:$R$607)-1),ROW($A$4)),1))","v":""},{"$f":"IF(ISERR(INDEX(Поступки!$Q$2:$R$612,SMALL(IF(DATE(МесГод,МесНомерМесяца,F25)=Поступки!$R$3:$R$607,ROW(Поступки!$R$3:$R$607)-1),ROW($A$4)),1)),\"\",INDEX(Поступки!$Q$2:$R$612,SMALL(IF(DATE(МесГод,МесНомерМесяца,F25)=Поступки!$R$3:$R$607,ROW(Поступки!$R$3:$R$607)-1),ROW($A$4)),1))","v":""},{"$f":"IF(ISERR(INDEX(Поступки!$Q$2:$R$612,SMALL(IF(DATE(МесГод,МесНомерМесяца,G25)=Поступки!$R$3:$R$607,ROW(Поступки!$R$3:$R$607)-1),ROW($A$4)),1)),\"\",INDEX(Поступки!$Q$2:$R$612,SMALL(IF(DATE(МесГод,МесНомерМесяца,G25)=Поступки!$R$3:$R$607,ROW(Поступки!$R$3:$R$607)-1),ROW($A$4)),1))","v":""},{"$f":"IF(ISERR(INDEX(Поступки!$Q$2:$R$612,SMALL(IF(DATE(МесГод,МесНомерМесяца,H25)=Поступки!$R$3:$R$607,ROW(Поступки!$R$3:$R$607)-1),ROW($A$4)),1)),\"\",INDEX(Поступки!$Q$2:$R$612,SMALL(IF(DATE(МесГод,МесНомерМесяца,H25)=Поступки!$R$3:$R$607,ROW(Поступки!$R$3:$R$607)-1),ROW($A$4)),1))","v":""}]
[null,{"$f":"IF(ISERR(INDEX(Поступки!$Q$2:$R$612,SMALL(IF(DATE(МесГод,МесНомерМесяца,B25)=Поступки!$R$3:$R$607,ROW(Поступки!$R$3:$R$607)-1),ROW($A$5)),1)),\"\",INDEX(Поступки!$Q$2:$R$612,SMALL(IF(DATE(МесГод,МесНомерМесяца,B25)=Поступки!$R$3:$R$607,ROW(Поступки!$R$3:$R$607)-1),ROW($A$5)),1))","v":""},{"$f":"IF(ISERR(INDEX(Поступки!$Q$2:$R$612,SMALL(IF(DATE(МесГод,МесНомерМесяца,C25)=Поступки!$R$3:$R$607,ROW(Поступки!$R$3:$R$607)-1),ROW($A$5)),1)),\"\",INDEX(Поступки!$Q$2:$R$612,SMALL(IF(DATE(МесГод,МесНомерМесяца,C25)=Поступки!$R$3:$R$607,ROW(Поступки!$R$3:$R$607)-1),ROW($A$5)),1))","v":""},{"$f":"IF(ISERR(INDEX(Поступки!$Q$2:$R$612,SMALL(IF(DATE(МесГод,МесНомерМесяца,D25)=Поступки!$R$3:$R$607,ROW(Поступки!$R$3:$R$607)-1),ROW($A$5)),1)),\"\",INDEX(Поступки!$Q$2:$R$612,SMALL(IF(DATE(МесГод,МесНомерМесяца,D25)=Поступки!$R$3:$R$607,ROW(Поступки!$R$3:$R$607)-1),ROW($A$5)),1))","v":""},{"$f":"IF(ISERR(INDEX(Поступки!$Q$2:$R$612,SMALL(IF(DATE(МесГод,МесНомерМесяца,E25)=Поступки!$R$3:$R$607,ROW(Поступки!$R$3:$R$607)-1),ROW($A$5)),1)),\"\",INDEX(Поступки!$Q$2:$R$612,SMALL(IF(DATE(МесГод,МесНомерМесяца,E25)=Поступки!$R$3:$R$607,ROW(Поступки!$R$3:$R$607)-1),ROW($A$5)),1))","v":""},{"$f":"IF(ISERR(INDEX(Поступки!$Q$2:$R$612,SMALL(IF(DATE(МесГод,МесНомерМесяца,F25)=Поступки!$R$3:$R$607,ROW(Поступки!$R$3:$R$607)-1),ROW($A$5)),1)),\"\",INDEX(Поступки!$Q$2:$R$612,SMALL(IF(DATE(МесГод,МесНомерМесяца,F25)=Поступки!$R$3:$R$607,ROW(Поступки!$R$3:$R$607)-1),ROW($A$5)),1))","v":""},{"$f":"IF(ISERR(INDEX(Поступки!$Q$2:$R$612,SMALL(IF(DATE(МесГод,МесНомерМесяца,G25)=Поступки!$R$3:$R$607,ROW(Поступки!$R$3:$R$607)-1),ROW($A$5)),1)),\"\",INDEX(Поступки!$Q$2:$R$612,SMALL(IF(DATE(МесГод,МесНомерМесяца,G25)=Поступки!$R$3:$R$607,ROW(Поступки!$R$3:$R$607)-1),ROW($A$5)),1))","v":""},{"$f":"IF(ISERR(INDEX(Поступки!$Q$2:$R$612,SMALL(IF(DATE(МесГод,МесНомерМесяца,H25)=Поступки!$R$3:$R$607,ROW(Поступки!$R$3:$R$607)-1),ROW($A$5)),1)),\"\",INDEX(Поступки!$Q$2:$R$612,SMALL(IF(DATE(МесГод,МесНомерМесяца,H25)=Поступки!$R$3:$R$607,ROW(Поступки!$R$3:$R$607)-1),ROW($A$5)),1))","v":""}]
[null,{"$f":"IF(ISERR(INDEX(Поступки!$Q$2:$R$612,SMALL(IF(DATE(МесГод,МесНомерМесяца,B25)=Поступки!$R$3:$R$607,ROW(Поступки!$R$3:$R$607)-1),ROW($A$6)),1)),\"\",INDEX(Поступки!$Q$2:$R$612,SMALL(IF(DATE(МесГод,МесНомерМесяца,B25)=Поступки!$R$3:$R$607,ROW(Поступки!$R$3:$R$607)-1),ROW($A$6)),1))","v":""},{"$f":"IF(ISERR(INDEX(Поступки!$Q$2:$R$612,SMALL(IF(DATE(МесГод,МесНомерМесяца,C25)=Поступки!$R$3:$R$607,ROW(Поступки!$R$3:$R$607)-1),ROW($A$6)),1)),\"\",INDEX(Поступки!$Q$2:$R$612,SMALL(IF(DATE(МесГод,МесНомерМесяца,C25)=Поступки!$R$3:$R$607,ROW(Поступки!$R$3:$R$607)-1),ROW($A$6)),1))","v":""},{"$f":"IF(ISERR(INDEX(Поступки!$Q$2:$R$612,SMALL(IF(DATE(МесГод,МесНомерМесяца,D25)=Поступки!$R$3:$R$607,ROW(Поступки!$R$3:$R$607)-1),ROW($A$6)),1)),\"\",INDEX(Поступки!$Q$2:$R$612,SMALL(IF(DATE(МесГод,МесНомерМесяца,D25)=Поступки!$R$3:$R$607,ROW(Поступки!$R$3:$R$607)-1),ROW($A$6)),1))","v":""},{"$f":"IF(ISERR(INDEX(Поступки!$Q$2:$R$612,SMALL(IF(DATE(МесГод,МесНомерМесяца,E25)=Поступки!$R$3:$R$607,ROW(Поступки!$R$3:$R$607)-1),ROW($A$6)),1)),\"\",INDEX(Поступки!$Q$2:$R$612,SMALL(IF(DATE(МесГод,МесНомерМесяца,E25)=Поступки!$R$3:$R$607,ROW(Поступки!$R$3:$R$607)-1),ROW($A$6)),1))","v":""},{"$f":"IF(ISERR(INDEX(Поступки!$Q$2:$R$612,SMALL(IF(DATE(МесГод,МесНомерМесяца,F25)=Поступки!$R$3:$R$607,ROW(Поступки!$R$3:$R$607)-1),ROW($A$6)),1)),\"\",INDEX(Поступки!$Q$2:$R$612,SMALL(IF(DATE(МесГод,МесНомерМесяца,F25)=Поступки!$R$3:$R$607,ROW(Поступки!$R$3:$R$607)-1),ROW($A$6)),1))","v":""},{"$f":"IF(ISERR(INDEX(Поступки!$Q$2:$R$612,SMALL(IF(DATE(МесГод,МесНомерМесяца,G25)=Поступки!$R$3:$R$607,ROW(Поступки!$R$3:$R$607)-1),ROW($A$6)),1)),\"\",INDEX(Поступки!$Q$2:$R$612,SMALL(IF(DATE(МесГод,МесНомерМесяца,G25)=Поступки!$R$3:$R$607,ROW(Поступки!$R$3:$R$607)-1),ROW($A$6)),1))","v":""},{"$f":"IF(ISERR(INDEX(Поступки!$Q$2:$R$612,SMALL(IF(DATE(МесГод,МесНомерМесяца,H25)=Поступки!$R$3:$R$607,ROW(Поступки!$R$3:$R$607)-1),ROW($A$6)),1)),\"\",INDEX(Поступки!$Q$2:$R$612,SMALL(IF(DATE(МесГод,МесНомерМесяца,H25)=Поступки!$R$3:$R$607,ROW(Поступки!$R$3:$R$607)-1),ROW($A$6)),1))","v":""}]
[null,{"$f":"IF(ISERR(INDEX(Поступки!$Q$2:$R$612,SMALL(IF(DATE(МесГод,МесНомерМесяца,B25)=Поступки!$R$3:$R$607,ROW(Поступки!$R$3:$R$607)-1),ROW($A$7)),1)),\"\",INDEX(Поступки!$Q$2:$R$612,SMALL(IF(DATE(МесГод,МесНомерМесяца,B25)=Поступки!$R$3:$R$607,ROW(Поступки!$R$3:$R$607)-1),ROW($A$7)),1))","v":""},{"$f":"IF(ISERR(INDEX(Поступки!$Q$2:$R$612,SMALL(IF(DATE(МесГод,МесНомерМесяца,C25)=Поступки!$R$3:$R$607,ROW(Поступки!$R$3:$R$607)-1),ROW($A$7)),1)),\"\",INDEX(Поступки!$Q$2:$R$612,SMALL(IF(DATE(МесГод,МесНомерМесяца,C25)=Поступки!$R$3:$R$607,ROW(Поступки!$R$3:$R$607)-1),ROW($A$7)),1))","v":""},{"$f":"IF(ISERR(INDEX(Поступки!$Q$2:$R$612,SMALL(IF(DATE(МесГод,МесНомерМесяца,D25)=Поступки!$R$3:$R$607,ROW(Поступки!$R$3:$R$607)-1),ROW($A$7)),1)),\"\",INDEX(Поступки!$Q$2:$R$612,SMALL(IF(DATE(МесГод,МесНомерМесяца,D25)=Поступки!$R$3:$R$607,ROW(Поступки!$R$3:$R$607)-1),ROW($A$7)),1))","v":""},{"$f":"IF(ISERR(INDEX(Поступки!$Q$2:$R$612,SMALL(IF(DATE(МесГод,МесНомерМесяца,E25)=Поступки!$R$3:$R$607,ROW(Поступки!$R$3:$R$607)-1),ROW($A$7)),1)),\"\",INDEX(Поступки!$Q$2:$R$612,SMALL(IF(DATE(МесГод,МесНомерМесяца,E25)=Поступки!$R$3:$R$607,ROW(Поступки!$R$3:$R$607)-1),ROW($A$7)),1))","v":""},{"$f":"IF(ISERR(INDEX(Поступки!$Q$2:$R$612,SMALL(IF(DATE(МесГод,МесНомерМесяца,F25)=Поступки!$R$3:$R$607,ROW(Поступки!$R$3:$R$607)-1),ROW($A$7)),1)),\"\",INDEX(Поступки!$Q$2:$R$612,SMALL(IF(DATE(МесГод,МесНомерМесяца,F25)=Поступки!$R$3:$R$607,ROW(Поступки!$R$3:$R$607)-1),ROW($A$7)),1))","v":""},{"$f":"IF(ISERR(INDEX(Поступки!$Q$2:$R$612,SMALL(IF(DATE(МесГод,МесНомерМесяца,G25)=Поступки!$R$3:$R$607,ROW(Поступки!$R$3:$R$607)-1),ROW($A$7)),1)),\"\",INDEX(Поступки!$Q$2:$R$612,SMALL(IF(DATE(МесГод,МесНомерМесяца,G25)=Поступки!$R$3:$R$607,ROW(Поступки!$R$3:$R$607)-1),ROW($A$7)),1))","v":""},{"$f":"IF(ISERR(INDEX(Поступки!$Q$2:$R$612,SMALL(IF(DATE(МесГод,МесНомерМесяца,H25)=Поступки!$R$3:$R$607,ROW(Поступки!$R$3:$R$607)-1),ROW($A$7)),1)),\"\",INDEX(Поступки!$Q$2:$R$612,SMALL(IF(DATE(МесГод,МесНомерМесяца,H25)=Поступки!$R$3:$R$607,ROW(Поступки!$R$3:$R$607)-1),ROW($A$7)),1))","v":""}]
[null,{"$f":"IF(ISERR(INDEX(Поступки!$Q$2:$R$612,SMALL(IF(DATE(МесГод,МесНомерМесяца,B25)=Поступки!$R$3:$R$607,ROW(Поступки!$R$3:$R$607)-1),ROW($A$8)),1)),\"\",INDEX(Поступки!$Q$2:$R$612,SMALL(IF(DATE(МесГод,МесНомерМесяца,B25)=Поступки!$R$3:$R$607,ROW(Поступки!$R$3:$R$607)-1),ROW($A$8)),1))","v":""},{"$f":"IF(ISERR(INDEX(Поступки!$Q$2:$R$612,SMALL(IF(DATE(МесГод,МесНомерМесяца,C25)=Поступки!$R$3:$R$607,ROW(Поступки!$R$3:$R$607)-1),ROW($A$8)),1)),\"\",INDEX(Поступки!$Q$2:$R$612,SMALL(IF(DATE(МесГод,МесНомерМесяца,C25)=Поступки!$R$3:$R$607,ROW(Поступки!$R$3:$R$607)-1),ROW($A$8)),1))","v":""},{"$f":"IF(ISERR(INDEX(Поступки!$Q$2:$R$612,SMALL(IF(DATE(МесГод,МесНомерМесяца,D25)=Поступки!$R$3:$R$607,ROW(Поступки!$R$3:$R$607)-1),ROW($A$8)),1)),\"\",INDEX(Поступки!$Q$2:$R$612,SMALL(IF(DATE(МесГод,МесНомерМесяца,D25)=Поступки!$R$3:$R$607,ROW(Поступки!$R$3:$R$607)-1),ROW($A$8)),1))","v":""},{"$f":"IF(ISERR(INDEX(Поступки!$Q$2:$R$612,SMALL(IF(DATE(МесГод,МесНомерМесяца,E25)=Поступки!$R$3:$R$607,ROW(Поступки!$R$3:$R$607)-1),ROW($A$8)),1)),\"\",INDEX(Поступки!$Q$2:$R$612,SMALL(IF(DATE(МесГод,МесНомерМесяца,E25)=Поступки!$R$3:$R$607,ROW(Поступки!$R$3:$R$607)-1),ROW($A$8)),1))","v":""},{"$f":"IF(ISERR(INDEX(Поступки!$Q$2:$R$612,SMALL(IF(DATE(МесГод,МесНомерМесяца,F25)=Поступки!$R$3:$R$607,ROW(Поступки!$R$3:$R$607)-1),ROW($A$8)),1)),\"\",INDEX(Поступки!$Q$2:$R$612,SMALL(IF(DATE(МесГод,МесНомерМесяца,F25)=Поступки!$R$3:$R$607,ROW(Поступки!$R$3:$R$607)-1),ROW($A$8)),1))","v":""},{"$f":"IF(ISERR(INDEX(Поступки!$Q$2:$R$612,SMALL(IF(DATE(МесГод,МесНомерМесяца,G25)=Поступки!$R$3:$R$607,ROW(Поступки!$R$3:$R$607)-1),ROW($A$8)),1)),\"\",INDEX(Поступки!$Q$2:$R$612,SMALL(IF(DATE(МесГод,МесНомерМесяца,G25)=Поступки!$R$3:$R$607,ROW(Поступки!$R$3:$R$607)-1),ROW($A$8)),1))","v":""},{"$f":"IF(ISERR(INDEX(Поступки!$Q$2:$R$612,SMALL(IF(DATE(МесГод,МесНомерМесяца,H25)=Поступки!$R$3:$R$607,ROW(Поступки!$R$3:$R$607)-1),ROW($A$8)),1)),\"\",INDEX(Поступки!$Q$2:$R$612,SMALL(IF(DATE(МесГод,МесНомерМесяца,H25)=Поступки!$R$3:$R$607,ROW(Поступки!$R$3:$R$607)-1),ROW($A$8)),1))","v":""}]
[null,{"$f":"IF(ISERR(INDEX(Поступки!$Q$2:$R$612,SMALL(IF(DATE(МесГод,МесНомерМесяца,B25)=Поступки!$R$3:$R$607,ROW(Поступки!$R$3:$R$607)-1),ROW($A$9)),1)),\"\",INDEX(Поступки!$Q$2:$R$612,SMALL(IF(DATE(МесГод,МесНомерМесяца,B25)=Поступки!$R$3:$R$607,ROW(Поступки!$R$3:$R$607)-1),ROW($A$9)),1))","v":""},{"$f":"IF(ISERR(INDEX(Поступки!$Q$2:$R$612,SMALL(IF(DATE(МесГод,МесНомерМесяца,C25)=Поступки!$R$3:$R$607,ROW(Поступки!$R$3:$R$607)-1),ROW($A$9)),1)),\"\",INDEX(Поступки!$Q$2:$R$612,SMALL(IF(DATE(МесГод,МесНомерМесяца,C25)=Поступки!$R$3:$R$607,ROW(Поступки!$R$3:$R$607)-1),ROW($A$9)),1))","v":""},{"$f":"IF(ISERR(INDEX(Поступки!$Q$2:$R$612,SMALL(IF(DATE(МесГод,МесНомерМесяца,D25)=Поступки!$R$3:$R$607,ROW(Поступки!$R$3:$R$607)-1),ROW($A$9)),1)),\"\",INDEX(Поступки!$Q$2:$R$612,SMALL(IF(DATE(МесГод,МесНомерМесяца,D25)=Поступки!$R$3:$R$607,ROW(Поступки!$R$3:$R$607)-1),ROW($A$9)),1))","v":""},{"$f":"IF(ISERR(INDEX(Поступки!$Q$2:$R$612,SMALL(IF(DATE(МесГод,МесНомерМесяца,E25)=Поступки!$R$3:$R$607,ROW(Поступки!$R$3:$R$607)-1),ROW($A$9)),1)),\"\",INDEX(Поступки!$Q$2:$R$612,SMALL(IF(DATE(МесГод,МесНомерМесяца,E25)=Поступки!$R$3:$R$607,ROW(Поступки!$R$3:$R$607)-1),ROW($A$9)),1))","v":""},{"$f":"IF(ISERR(INDEX(Поступки!$Q$2:$R$612,SMALL(IF(DATE(МесГод,МесНомерМесяца,F25)=Поступки!$R$3:$R$607,ROW(Поступки!$R$3:$R$607)-1),ROW($A$9)),1)),\"\",INDEX(Поступки!$Q$2:$R$612,SMALL(IF(DATE(МесГод,МесНомерМесяца,F25)=Поступки!$R$3:$R$607,ROW(Поступки!$R$3:$R$607)-1),ROW($A$9)),1))","v":""},{"$f":"IF(ISERR(INDEX(Поступки!$Q$2:$R$612,SMALL(IF(DATE(МесГод,МесНомерМесяца,G25)=Поступки!$R$3:$R$607,ROW(Поступки!$R$3:$R$607)-1),ROW($A$9)),1)),\"\",INDEX(Поступки!$Q$2:$R$612,SMALL(IF(DATE(МесГод,МесНомерМесяца,G25)=Поступки!$R$3:$R$607,ROW(Поступки!$R$3:$R$607)-1),ROW($A$9)),1))","v":""},{"$f":"IF(ISERR(INDEX(Поступки!$Q$2:$R$612,SMALL(IF(DATE(МесГод,МесНомерМесяца,H25)=Поступки!$R$3:$R$607,ROW(Поступки!$R$3:$R$607)-1),ROW($A$9)),1)),\"\",INDEX(Поступки!$Q$2:$R$612,SMALL(IF(DATE(МесГод,МесНомерМесяца,H25)=Поступки!$R$3:$R$607,ROW(Поступки!$R$3:$R$607)-1),ROW($A$9)),1))","v":""}]
[null,{"$f":"IF(ISERR(INDEX(Поступки!$Q$2:$R$612,SMALL(IF(DATE(МесГод,МесНомерМесяца,B25)=Поступки!$R$3:$R$607,ROW(Поступки!$R$3:$R$607)-1),ROW($A$10)),1)),\"\",INDEX(Поступки!$Q$2:$R$612,SMALL(IF(DATE(МесГод,МесНомерМесяца,B25)=Поступки!$R$3:$R$607,ROW(Поступки!$R$3:$R$607)-1),ROW($A$10)),1))","v":""},{"$f":"IF(ISERR(INDEX(Поступки!$Q$2:$R$612,SMALL(IF(DATE(МесГод,МесНомерМесяца,C25)=Поступки!$R$3:$R$607,ROW(Поступки!$R$3:$R$607)-1),ROW($A$10)),1)),\"\",INDEX(Поступки!$Q$2:$R$612,SMALL(IF(DATE(МесГод,МесНомерМесяца,C25)=Поступки!$R$3:$R$607,ROW(Поступки!$R$3:$R$607)-1),ROW($A$10)),1))","v":""},{"$f":"IF(ISERR(INDEX(Поступки!$Q$2:$R$612,SMALL(IF(DATE(МесГод,МесНомерМесяца,D25)=Поступки!$R$3:$R$607,ROW(Поступки!$R$3:$R$607)-1),ROW($A$10)),1)),\"\",INDEX(Поступки!$Q$2:$R$612,SMALL(IF(DATE(МесГод,МесНомерМесяца,D25)=Поступки!$R$3:$R$607,ROW(Поступки!$R$3:$R$607)-1),ROW($A$10)),1))","v":""},{"$f":"IF(ISERR(INDEX(Поступки!$Q$2:$R$612,SMALL(IF(DATE(МесГод,МесНомерМесяца,E25)=Поступки!$R$3:$R$607,ROW(Поступки!$R$3:$R$607)-1),ROW($A$10)),1)),\"\",INDEX(Поступки!$Q$2:$R$612,SMALL(IF(DATE(МесГод,МесНомерМесяца,E25)=Поступки!$R$3:$R$607,ROW(Поступки!$R$3:$R$607)-1),ROW($A$10)),1))","v":""},{"$f":"IF(ISERR(INDEX(Поступки!$Q$2:$R$612,SMALL(IF(DATE(МесГод,МесНомерМесяца,F25)=Поступки!$R$3:$R$607,ROW(Поступки!$R$3:$R$607)-1),ROW($A$10)),1)),\"\",INDEX(Поступки!$Q$2:$R$612,SMALL(IF(DATE(МесГод,МесНомерМесяца,F25)=Поступки!$R$3:$R$607,ROW(Поступки!$R$3:$R$607)-1),ROW($A$10)),1))","v":""},{"$f":"IF(ISERR(INDEX(Поступки!$Q$2:$R$612,SMALL(IF(DATE(МесГод,МесНомерМесяца,G25)=Поступки!$R$3:$R$607,ROW(Поступки!$R$3:$R$607)-1),ROW($A$10)),1)),\"\",INDEX(Поступки!$Q$2:$R$612,SMALL(IF(DATE(МесГод,МесНомерМесяца,G25)=Поступки!$R$3:$R$607,ROW(Поступки!$R$3:$R$607)-1),ROW($A$10)),1))","v":""},{"$f":"IF(ISERR(INDEX(Поступки!$Q$2:$R$612,SMALL(IF(DATE(МесГод,МесНомерМесяца,H25)=Поступки!$R$3:$R$607,ROW(Поступки!$R$3:$R$607)-1),ROW($A$10)),1)),\"\",INDEX(Поступки!$Q$2:$R$612,SMALL(IF(DATE(МесГод,МесНомерМесяца,H25)=Поступки!$R$3:$R$607,ROW(Поступки!$R$3:$R$607)-1),ROW($A$10)),1))","v":""}]
[null,{"$f":"IF(LEN(H25)>0,IF(H25=DAY(DATE(МесГод,МесНомерМесяца+1,0)),\"\",H25+1),\"\")","v":21},{"$f":"IF(LEN(B36)>0,IF(B36=DAY(DATE(МесГод,МесНомерМесяца+1,0)),\"\",B36+1),\"\")","v":22},23,{"$f":"IF(LEN(D36)>0,IF(D36=DAY(DATE(МесГод,МесНомерМесяца+1,0)),\"\",D36+1),\"\")","v":24},25,26,27]
[null,{"$f":"IF(ISERR(INDEX(Поступки!$Q$2:$R$612,SMALL(IF(DATE(МесГод,МесНомерМесяца,B36)=Поступки!$R$3:$R$607,ROW(Поступки!$R$3:$R$607)-1),ROW($A$1)),1)),\"\",INDEX(Поступки!$Q$2:$R$612,SMALL(IF(DATE(МесГод,МесНомерМесяца,B36)=Поступки!$R$3:$R$607,ROW(Поступки!$R$3:$R$607)-1),ROW($A$1)),1))","v":""},{"$f":"IF(ISERR(INDEX(Поступки!$Q$2:$R$612,SMALL(IF(DATE(МесГод,МесНомерМесяца,C36)=Поступки!$R$3:$R$607,ROW(Поступки!$R$3:$R$607)-1),ROW($A$1)),1)),\"\",INDEX(Поступки!$Q$2:$R$612,SMALL(IF(DATE(МесГод,МесНомерМесяца,C36)=Поступки!$R$3:$R$607,ROW(Поступки!$R$3:$R$607)-1),ROW($A$1)),1))","v":""},{"$f":"IF(ISERR(INDEX(Поступки!$Q$2:$R$612,SMALL(IF(DATE(МесГод,МесНомерМесяца,D36)=Поступки!$R$3:$R$607,ROW(Поступки!$R$3:$R$607)-1),ROW($A$1)),1)),\"\",INDEX(Поступки!$Q$2:$R$612,SMALL(IF(DATE(МесГод,МесНомерМесяца,D36)=Поступки!$R$3:$R$607,ROW(Поступки!$R$3:$R$607)-1),ROW($A$1)),1))","v":""},{"$f":"IF(ISERR(INDEX(Поступки!$Q$2:$R$612,SMALL(IF(DATE(МесГод,МесНомерМесяца,E36)=Поступки!$R$3:$R$607,ROW(Поступки!$R$3:$R$607)-1),ROW($A$1)),1)),\"\",INDEX(Поступки!$Q$2:$R$612,SMALL(IF(DATE(МесГод,МесНомерМесяца,E36)=Поступки!$R$3:$R$607,ROW(Поступки!$R$3:$R$607)-1),ROW($A$1)),1))","v":""},{"$f":"IF(ISERR(INDEX(Поступки!$Q$2:$R$612,SMALL(IF(DATE(МесГод,МесНомерМесяца,F36)=Поступки!$R$3:$R$607,ROW(Поступки!$R$3:$R$607)-1),ROW($A$1)),1)),\"\",INDEX(Поступки!$Q$2:$R$612,SMALL(IF(DATE(МесГод,МесНомерМесяца,F36)=Поступки!$R$3:$R$607,ROW(Поступки!$R$3:$R$607)-1),ROW($A$1)),1))","v":""},{"$f":"IF(ISERR(INDEX(Поступки!$Q$2:$R$612,SMALL(IF(DATE(МесГод,МесНомерМесяца,G36)=Поступки!$R$3:$R$607,ROW(Поступки!$R$3:$R$607)-1),ROW($A$1)),1)),\"\",INDEX(Поступки!$Q$2:$R$612,SMALL(IF(DATE(МесГод,МесНомерМесяца,G36)=Поступки!$R$3:$R$607,ROW(Поступки!$R$3:$R$607)-1),ROW($A$1)),1))","v":""},{"$f":"IF(ISERR(INDEX(Поступки!$Q$2:$R$612,SMALL(IF(DATE(МесГод,МесНомерМесяца,H36)=Поступки!$R$3:$R$607,ROW(Поступки!$R$3:$R$607)-1),ROW($A$1)),1)),\"\",INDEX(Поступки!$Q$2:$R$612,SMALL(IF(DATE(МесГод,МесНомерМесяца,H36)=Поступки!$R$3:$R$607,ROW(Поступки!$R$3:$R$607)-1),ROW($A$1)),1))","v":""}]
[null,{"$f":"IF(ISERR(INDEX(Поступки!$Q$2:$R$612,SMALL(IF(DATE(МесГод,МесНомерМесяца,B36)=Поступки!$R$3:$R$607,ROW(Поступки!$R$3:$R$607)-1),ROW($A$2)),1)),\"\",INDEX(Поступки!$Q$2:$R$612,SMALL(IF(DATE(МесГод,МесНомерМесяца,B36)=Поступки!$R$3:$R$607,ROW(Поступки!$R$3:$R$607)-1),ROW($A$2)),1))","v":""},{"$f":"IF(ISERR(INDEX(Поступки!$Q$2:$R$612,SMALL(IF(DATE(МесГод,МесНомерМесяца,C36)=Поступки!$R$3:$R$607,ROW(Поступки!$R$3:$R$607)-1),ROW($A$2)),1)),\"\",INDEX(Поступки!$Q$2:$R$612,SMALL(IF(DATE(МесГод,МесНомерМесяца,C36)=Поступки!$R$3:$R$607,ROW(Поступки!$R$3:$R$607)-1),ROW($A$2)),1))","v":""},{"$f":"IF(ISERR(INDEX(Поступки!$Q$2:$R$612,SMALL(IF(DATE(МесГод,МесНомерМесяца,D36)=Поступки!$R$3:$R$607,ROW(Поступки!$R$3:$R$607)-1),ROW($A$2)),1)),\"\",INDEX(Поступки!$Q$2:$R$612,SMALL(IF(DATE(МесГод,МесНомерМесяца,D36)=Поступки!$R$3:$R$607,ROW(Поступки!$R$3:$R$607)-1),ROW($A$2)),1))","v":""},{"$f":"IF(ISERR(INDEX(Поступки!$Q$2:$R$612,SMALL(IF(DATE(МесГод,МесНомерМесяца,E36)=Поступки!$R$3:$R$607,ROW(Поступки!$R$3:$R$607)-1),ROW($A$2)),1)),\"\",INDEX(Поступки!$Q$2:$R$612,SMALL(IF(DATE(МесГод,МесНомерМесяца,E36)=Поступки!$R$3:$R$607,ROW(Поступки!$R$3:$R$607)-1),ROW($A$2)),1))","v":""},{"$f":"IF(ISERR(INDEX(Поступки!$Q$2:$R$612,SMALL(IF(DATE(МесГод,МесНомерМесяца,F36)=Поступки!$R$3:$R$607,ROW(Поступки!$R$3:$R$607)-1),ROW($A$2)),1)),\"\",INDEX(Поступки!$Q$2:$R$612,SMALL(IF(DATE(МесГод,МесНомерМесяца,F36)=Поступки!$R$3:$R$607,ROW(Поступки!$R$3:$R$607)-1),ROW($A$2)),1))","v":""},{"$f":"IF(ISERR(INDEX(Поступки!$Q$2:$R$612,SMALL(IF(DATE(МесГод,МесНомерМесяца,G36)=Поступки!$R$3:$R$607,ROW(Поступки!$R$3:$R$607)-1),ROW($A$2)),1)),\"\",INDEX(Поступки!$Q$2:$R$612,SMALL(IF(DATE(МесГод,МесНомерМесяца,G36)=Поступки!$R$3:$R$607,ROW(Поступки!$R$3:$R$607)-1),ROW($A$2)),1))","v":""},{"$f":"IF(ISERR(INDEX(Поступки!$Q$2:$R$612,SMALL(IF(DATE(МесГод,МесНомерМесяца,H36)=Поступки!$R$3:$R$607,ROW(Поступки!$R$3:$R$607)-1),ROW($A$2)),1)),\"\",INDEX(Поступки!$Q$2:$R$612,SMALL(IF(DATE(МесГод,МесНомерМесяца,H36)=Поступки!$R$3:$R$607,ROW(Поступки!$R$3:$R$607)-1),ROW($A$2)),1))","v":""}]
[null,{"$f":"IF(ISERR(INDEX(Поступки!$Q$2:$R$612,SMALL(IF(DATE(МесГод,МесНомерМесяца,B36)=Поступки!$R$3:$R$607,ROW(Поступки!$R$3:$R$607)-1),ROW($A$3)),1)),\"\",INDEX(Поступки!$Q$2:$R$612,SMALL(IF(DATE(МесГод,МесНомерМесяца,B36)=Поступки!$R$3:$R$607,ROW(Поступки!$R$3:$R$607)-1),ROW($A$3)),1))","v":""},{"$f":"IF(ISERR(INDEX(Поступки!$Q$2:$R$612,SMALL(IF(DATE(МесГод,МесНомерМесяца,C36)=Поступки!$R$3:$R$607,ROW(Поступки!$R$3:$R$607)-1),ROW($A$3)),1)),\"\",INDEX(Поступки!$Q$2:$R$612,SMALL(IF(DATE(МесГод,МесНомерМесяца,C36)=Поступки!$R$3:$R$607,ROW(Поступки!$R$3:$R$607)-1),ROW($A$3)),1))","v":""},{"$f":"IF(ISERR(INDEX(Поступки!$Q$2:$R$612,SMALL(IF(DATE(МесГод,МесНомерМесяца,D36)=Поступки!$R$3:$R$607,ROW(Поступки!$R$3:$R$607)-1),ROW($A$3)),1)),\"\",INDEX(Поступки!$Q$2:$R$612,SMALL(IF(DATE(МесГод,МесНомерМесяца,D36)=Поступки!$R$3:$R$607,ROW(Поступки!$R$3:$R$607)-1),ROW($A$3)),1))","v":""},{"$f":"IF(ISERR(INDEX(Поступки!$Q$2:$R$612,SMALL(IF(DATE(МесГод,МесНомерМесяца,E36)=Поступки!$R$3:$R$607,ROW(Поступки!$R$3:$R$607)-1),ROW($A$3)),1)),\"\",INDEX(Поступки!$Q$2:$R$612,SMALL(IF(DATE(МесГод,МесНомерМесяца,E36)=Поступки!$R$3:$R$607,ROW(Поступки!$R$3:$R$607)-1),ROW($A$3)),1))","v":""},{"$f":"IF(ISERR(INDEX(Поступки!$Q$2:$R$612,SMALL(IF(DATE(МесГод,МесНомерМесяца,F36)=Поступки!$R$3:$R$607,ROW(Поступки!$R$3:$R$607)-1),ROW($A$3)),1)),\"\",INDEX(Поступки!$Q$2:$R$612,SMALL(IF(DATE(МесГод,МесНомерМесяца,F36)=Поступки!$R$3:$R$607,ROW(Поступки!$R$3:$R$607)-1),ROW($A$3)),1))","v":""},{"$f":"IF(ISERR(INDEX(Поступки!$Q$2:$R$612,SMALL(IF(DATE(МесГод,МесНомерМесяца,G36)=Поступки!$R$3:$R$607,ROW(Поступки!$R$3:$R$607)-1),ROW($A$3)),1)),\"\",INDEX(Поступки!$Q$2:$R$612,SMALL(IF(DATE(МесГод,МесНомерМесяца,G36)=Поступки!$R$3:$R$607,ROW(Поступки!$R$3:$R$607)-1),ROW($A$3)),1))","v":""},{"$f":"IF(ISERR(INDEX(Поступки!$Q$2:$R$612,SMALL(IF(DATE(МесГод,МесНомерМесяца,H36)=Поступки!$R$3:$R$607,ROW(Поступки!$R$3:$R$607)-1),ROW($A$3)),1)),\"\",INDEX(Поступки!$Q$2:$R$612,SMALL(IF(DATE(МесГод,МесНомерМесяца,H36)=Поступки!$R$3:$R$607,ROW(Поступки!$R$3:$R$607)-1),ROW($A$3)),1))","v":""}]
[null,{"$f":"IF(ISERR(INDEX(Поступки!$Q$2:$R$612,SMALL(IF(DATE(МесГод,МесНомерМесяца,B36)=Поступки!$R$3:$R$607,ROW(Поступки!$R$3:$R$607)-1),ROW($A$4)),1)),\"\",INDEX(Поступки!$Q$2:$R$612,SMALL(IF(DATE(МесГод,МесНомерМесяца,B36)=Поступки!$R$3:$R$607,ROW(Поступки!$R$3:$R$607)-1),ROW($A$4)),1))","v":""},{"$f":"IF(ISERR(INDEX(Поступки!$Q$2:$R$612,SMALL(IF(DATE(МесГод,МесНомерМесяца,C36)=Поступки!$R$3:$R$607,ROW(Поступки!$R$3:$R$607)-1),ROW($A$4)),1)),\"\",INDEX(Поступки!$Q$2:$R$612,SMALL(IF(DATE(МесГод,МесНомерМесяца,C36)=Поступки!$R$3:$R$607,ROW(Поступки!$R$3:$R$607)-1),ROW($A$4)),1))","v":""},{"$f":"IF(ISERR(INDEX(Поступки!$Q$2:$R$612,SMALL(IF(DATE(МесГод,МесНомерМесяца,D36)=Поступки!$R$3:$R$607,ROW(Поступки!$R$3:$R$607)-1),ROW($A$4)),1)),\"\",INDEX(Поступки!$Q$2:$R$612,SMALL(IF(DATE(МесГод,МесНомерМесяца,D36)=Поступки!$R$3:$R$607,ROW(Поступки!$R$3:$R$607)-1),ROW($A$4)),1))","v":""},{"$f":"IF(ISERR(INDEX(Поступки!$Q$2:$R$612,SMALL(IF(DATE(МесГод,МесНомерМесяца,E36)=Поступки!$R$3:$R$607,ROW(Поступки!$R$3:$R$607)-1),ROW($A$4)),1)),\"\",INDEX(Поступки!$Q$2:$R$612,SMALL(IF(DATE(МесГод,МесНомерМесяца,E36)=Поступки!$R$3:$R$607,ROW(Поступки!$R$3:$R$607)-1),ROW($A$4)),1))","v":""},{"$f":"IF(ISERR(INDEX(Поступки!$Q$2:$R$612,SMALL(IF(DATE(МесГод,МесНомерМесяца,F36)=Поступки!$R$3:$R$607,ROW(Поступки!$R$3:$R$607)-1),ROW($A$4)),1)),\"\",INDEX(Поступки!$Q$2:$R$612,SMALL(IF(DATE(МесГод,МесНомерМесяца,F36)=Поступки!$R$3:$R$607,ROW(Поступки!$R$3:$R$607)-1),ROW($A$4)),1))","v":""},{"$f":"IF(ISERR(INDEX(Поступки!$Q$2:$R$612,SMALL(IF(DATE(МесГод,МесНомерМесяца,G36)=Поступки!$R$3:$R$607,ROW(Поступки!$R$3:$R$607)-1),ROW($A$4)),1)),\"\",INDEX(Поступки!$Q$2:$R$612,SMALL(IF(DATE(МесГод,МесНомерМесяца,G36)=Поступки!$R$3:$R$607,ROW(Поступки!$R$3:$R$607)-1),ROW($A$4)),1))","v":""},{"$f":"IF(ISERR(INDEX(Поступки!$Q$2:$R$612,SMALL(IF(DATE(МесГод,МесНомерМесяца,H36)=Поступки!$R$3:$R$607,ROW(Поступки!$R$3:$R$607)-1),ROW($A$4)),1)),\"\",INDEX(Поступки!$Q$2:$R$612,SMALL(IF(DATE(МесГод,МесНомерМесяца,H36)=Поступки!$R$3:$R$607,ROW(Поступки!$R$3:$R$607)-1),ROW($A$4)),1))","v":""}]
[null,{"$f":"IF(ISERR(INDEX(Поступки!$Q$2:$R$612,SMALL(IF(DATE(МесГод,МесНомерМесяца,B36)=Поступки!$R$3:$R$607,ROW(Поступки!$R$3:$R$607)-1),ROW($A$5)),1)),\"\",INDEX(Поступки!$Q$2:$R$612,SMALL(IF(DATE(МесГод,МесНомерМесяца,B36)=Поступки!$R$3:$R$607,ROW(Поступки!$R$3:$R$607)-1),ROW($A$5)),1))","v":""},{"$f":"IF(ISERR(INDEX(Поступки!$Q$2:$R$612,SMALL(IF(DATE(МесГод,МесНомерМесяца,C36)=Поступки!$R$3:$R$607,ROW(Поступки!$R$3:$R$607)-1),ROW($A$5)),1)),\"\",INDEX(Поступки!$Q$2:$R$612,SMALL(IF(DATE(МесГод,МесНомерМесяца,C36)=Поступки!$R$3:$R$607,ROW(Поступки!$R$3:$R$607)-1),ROW($A$5)),1))","v":""},{"$f":"IF(ISERR(INDEX(Поступки!$Q$2:$R$612,SMALL(IF(DATE(МесГод,МесНомерМесяца,D36)=Поступки!$R$3:$R$607,ROW(Поступки!$R$3:$R$607)-1),ROW($A$5)),1)),\"\",INDEX(Поступки!$Q$2:$R$612,SMALL(IF(DATE(МесГод,МесНомерМесяца,D36)=Поступки!$R$3:$R$607,ROW(Поступки!$R$3:$R$607)-1),ROW($A$5)),1))","v":""},{"$f":"IF(ISERR(INDEX(Поступки!$Q$2:$R$612,SMALL(IF(DATE(МесГод,МесНомерМесяца,E36)=Поступки!$R$3:$R$607,ROW(Поступки!$R$3:$R$607)-1),ROW($A$5)),1)),\"\",INDEX(Поступки!$Q$2:$R$612,SMALL(IF(DATE(МесГод,МесНомерМесяца,E36)=Поступки!$R$3:$R$607,ROW(Поступки!$R$3:$R$607)-1),ROW($A$5)),1))","v":""},{"$f":"IF(ISERR(INDEX(Поступки!$Q$2:$R$612,SMALL(IF(DATE(МесГод,МесНомерМесяца,F36)=Поступки!$R$3:$R$607,ROW(Поступки!$R$3:$R$607)-1),ROW($A$5)),1)),\"\",INDEX(Поступки!$Q$2:$R$612,SMALL(IF(DATE(МесГод,МесНомерМесяца,F36)=Поступки!$R$3:$R$607,ROW(Поступки!$R$3:$R$607)-1),ROW($A$5)),1))","v":""},{"$f":"IF(ISERR(INDEX(Поступки!$Q$2:$R$612,SMALL(IF(DATE(МесГод,МесНомерМесяца,G36)=Поступки!$R$3:$R$607,ROW(Поступки!$R$3:$R$607)-1),ROW($A$5)),1)),\"\",INDEX(Поступки!$Q$2:$R$612,SMALL(IF(DATE(МесГод,МесНомерМесяца,G36)=Поступки!$R$3:$R$607,ROW(Поступки!$R$3:$R$607)-1),ROW($A$5)),1))","v":""},{"$f":"IF(ISERR(INDEX(Поступки!$Q$2:$R$612,SMALL(IF(DATE(МесГод,МесНомерМесяца,H36)=Поступки!$R$3:$R$607,ROW(Поступки!$R$3:$R$607)-1),ROW($A$5)),1)),\"\",INDEX(Поступки!$Q$2:$R$612,SMALL(IF(DATE(МесГод,МесНомерМесяца,H36)=Поступки!$R$3:$R$607,ROW(Поступки!$R$3:$R$607)-1),ROW($A$5)),1))","v":""}]
[null,{"$f":"IF(ISERR(INDEX(Поступки!$Q$2:$R$612,SMALL(IF(DATE(МесГод,МесНомерМесяца,B36)=Поступки!$R$3:$R$607,ROW(Поступки!$R$3:$R$607)-1),ROW($A$6)),1)),\"\",INDEX(Поступки!$Q$2:$R$612,SMALL(IF(DATE(МесГод,МесНомерМесяца,B36)=Поступки!$R$3:$R$607,ROW(Поступки!$R$3:$R$607)-1),ROW($A$6)),1))","v":""},{"$f":"IF(ISERR(INDEX(Поступки!$Q$2:$R$612,SMALL(IF(DATE(МесГод,МесНомерМесяца,C36)=Поступки!$R$3:$R$607,ROW(Поступки!$R$3:$R$607)-1),ROW($A$6)),1)),\"\",INDEX(Поступки!$Q$2:$R$612,SMALL(IF(DATE(МесГод,МесНомерМесяца,C36)=Поступки!$R$3:$R$607,ROW(Поступки!$R$3:$R$607)-1),ROW($A$6)),1))","v":""},{"$f":"IF(ISERR(INDEX(Поступки!$Q$2:$R$612,SMALL(IF(DATE(МесГод,МесНомерМесяца,D36)=Поступки!$R$3:$R$607,ROW(Поступки!$R$3:$R$607)-1),ROW($A$6)),1)),\"\",INDEX(Поступки!$Q$2:$R$612,SMALL(IF(DATE(МесГод,МесНомерМесяца,D36)=Поступки!$R$3:$R$607,ROW(Поступки!$R$3:$R$607)-1),ROW($A$6)),1))","v":""},{"$f":"IF(ISERR(INDEX(Поступки!$Q$2:$R$612,SMALL(IF(DATE(МесГод,МесНомерМесяца,E36)=Поступки!$R$3:$R$607,ROW(Поступки!$R$3:$R$607)-1),ROW($A$6)),1)),\"\",INDEX(Поступки!$Q$2:$R$612,SMALL(IF(DATE(МесГод,МесНомерМесяца,E36)=Поступки!$R$3:$R$607,ROW(Поступки!$R$3:$R$607)-1),ROW($A$6)),1))","v":""},{"$f":"IF(ISERR(INDEX(Поступки!$Q$2:$R$612,SMALL(IF(DATE(МесГод,МесНомерМесяца,F36)=Поступки!$R$3:$R$607,ROW(Поступки!$R$3:$R$607)-1),ROW($A$6)),1)),\"\",INDEX(Поступки!$Q$2:$R$612,SMALL(IF(DATE(МесГод,МесНомерМесяца,F36)=Поступки!$R$3:$R$607,ROW(Поступки!$R$3:$R$607)-1),ROW($A$6)),1))","v":""},{"$f":"IF(ISERR(INDEX(Поступки!$Q$2:$R$612,SMALL(IF(DATE(МесГод,МесНомерМесяца,G36)=Поступки!$R$3:$R$607,ROW(Поступки!$R$3:$R$607)-1),ROW($A$6)),1)),\"\",INDEX(Поступки!$Q$2:$R$612,SMALL(IF(DATE(МесГод,МесНомерМесяца,G36)=Поступки!$R$3:$R$607,ROW(Поступки!$R$3:$R$607)-1),ROW($A$6)),1))","v":""},{"$f":"IF(ISERR(INDEX(Поступки!$Q$2:$R$612,SMALL(IF(DATE(МесГод,МесНомерМесяца,H36)=Поступки!$R$3:$R$607,ROW(Поступки!$R$3:$R$607)-1),ROW($A$6)),1)),\"\",INDEX(Поступки!$Q$2:$R$612,SMALL(IF(DATE(МесГод,МесНомерМесяца,H36)=Поступки!$R$3:$R$607,ROW(Поступки!$R$3:$R$607)-1),ROW($A$6)),1))","v":""}]
[null,{"$f":"IF(ISERR(INDEX(Поступки!$Q$2:$R$612,SMALL(IF(DATE(МесГод,МесНомерМесяца,B36)=Поступки!$R$3:$R$607,ROW(Поступки!$R$3:$R$607)-1),ROW($A$7)),1)),\"\",INDEX(Поступки!$Q$2:$R$612,SMALL(IF(DATE(МесГод,МесНомерМесяца,B36)=Поступки!$R$3:$R$607,ROW(Поступки!$R$3:$R$607)-1),ROW($A$7)),1))","v":""},{"$f":"IF(ISERR(INDEX(Поступки!$Q$2:$R$612,SMALL(IF(DATE(МесГод,МесНомерМесяца,C36)=Поступки!$R$3:$R$607,ROW(Поступки!$R$3:$R$607)-1),ROW($A$7)),1)),\"\",INDEX(Поступки!$Q$2:$R$612,SMALL(IF(DATE(МесГод,МесНомерМесяца,C36)=Поступки!$R$3:$R$607,ROW(Поступки!$R$3:$R$607)-1),ROW($A$7)),1))","v":""},{"$f":"IF(ISERR(INDEX(Поступки!$Q$2:$R$612,SMALL(IF(DATE(МесГод,МесНомерМесяца,D36)=Поступки!$R$3:$R$607,ROW(Поступки!$R$3:$R$607)-1),ROW($A$7)),1)),\"\",INDEX(Поступки!$Q$2:$R$612,SMALL(IF(DATE(МесГод,МесНомерМесяца,D36)=Поступки!$R$3:$R$607,ROW(Поступки!$R$3:$R$607)-1),ROW($A$7)),1))","v":""},{"$f":"IF(ISERR(INDEX(Поступки!$Q$2:$R$612,SMALL(IF(DATE(МесГод,МесНомерМесяца,E36)=Поступки!$R$3:$R$607,ROW(Поступки!$R$3:$R$607)-1),ROW($A$7)),1)),\"\",INDEX(Поступки!$Q$2:$R$612,SMALL(IF(DATE(МесГод,МесНомерМесяца,E36)=Поступки!$R$3:$R$607,ROW(Поступки!$R$3:$R$607)-1),ROW($A$7)),1))","v":""},{"$f":"IF(ISERR(INDEX(Поступки!$Q$2:$R$612,SMALL(IF(DATE(МесГод,МесНомерМесяца,F36)=Поступки!$R$3:$R$607,ROW(Поступки!$R$3:$R$607)-1),ROW($A$7)),1)),\"\",INDEX(Поступки!$Q$2:$R$612,SMALL(IF(DATE(МесГод,МесНомерМесяца,F36)=Поступки!$R$3:$R$607,ROW(Поступки!$R$3:$R$607)-1),ROW($A$7)),1))","v":""},{"$f":"IF(ISERR(INDEX(Поступки!$Q$2:$R$612,SMALL(IF(DATE(МесГод,МесНомерМесяца,G36)=Поступки!$R$3:$R$607,ROW(Поступки!$R$3:$R$607)-1),ROW($A$7)),1)),\"\",INDEX(Поступки!$Q$2:$R$612,SMALL(IF(DATE(МесГод,МесНомерМесяца,G36)=Поступки!$R$3:$R$607,ROW(Поступки!$R$3:$R$607)-1),ROW($A$7)),1))","v":""},{"$f":"IF(ISERR(INDEX(Поступки!$Q$2:$R$612,SMALL(IF(DATE(МесГод,МесНомерМесяца,H36)=Поступки!$R$3:$R$607,ROW(Поступки!$R$3:$R$607)-1),ROW($A$7)),1)),\"\",INDEX(Поступки!$Q$2:$R$612,SMALL(IF(DATE(МесГод,МесНомерМесяца,H36)=Поступки!$R$3:$R$607,ROW(Поступки!$R$3:$R$607)-1),ROW($A$7)),1))","v":""}]
[null,{"$f":"IF(ISERR(INDEX(Поступки!$Q$2:$R$612,SMALL(IF(DATE(МесГод,МесНомерМесяца,B36)=Поступки!$R$3:$R$607,ROW(Поступки!$R$3:$R$607)-1),ROW($A$8)),1)),\"\",INDEX(Поступки!$Q$2:$R$612,SMALL(IF(DATE(МесГод,МесНомерМесяца,B36)=Поступки!$R$3:$R$607,ROW(Поступки!$R$3:$R$607)-1),ROW($A$8)),1))","v":""},{"$f":"IF(ISERR(INDEX(Поступки!$Q$2:$R$612,SMALL(IF(DATE(МесГод,МесНомерМесяца,C36)=Поступки!$R$3:$R$607,ROW(Поступки!$R$3:$R$607)-1),ROW($A$8)),1)),\"\",INDEX(Поступки!$Q$2:$R$612,SMALL(IF(DATE(МесГод,МесНомерМесяца,C36)=Поступки!$R$3:$R$607,ROW(Поступки!$R$3:$R$607)-1),ROW($A$8)),1))","v":""},{"$f":"IF(ISERR(INDEX(Поступки!$Q$2:$R$612,SMALL(IF(DATE(МесГод,МесНомерМесяца,D36)=Поступки!$R$3:$R$607,ROW(Поступки!$R$3:$R$607)-1),ROW($A$8)),1)),\"\",INDEX(Поступки!$Q$2:$R$612,SMALL(IF(DATE(МесГод,МесНомерМесяца,D36)=Поступки!$R$3:$R$607,ROW(Поступки!$R$3:$R$607)-1),ROW($A$8)),1))","v":""},{"$f":"IF(ISERR(INDEX(Поступки!$Q$2:$R$612,SMALL(IF(DATE(МесГод,МесНомерМесяца,E36)=Поступки!$R$3:$R$607,ROW(Поступки!$R$3:$R$607)-1),ROW($A$8)),1)),\"\",INDEX(Поступки!$Q$2:$R$612,SMALL(IF(DATE(МесГод,МесНомерМесяца,E36)=Поступки!$R$3:$R$607,ROW(Поступки!$R$3:$R$607)-1),ROW($A$8)),1))","v":""},{"$f":"IF(ISERR(INDEX(Поступки!$Q$2:$R$612,SMALL(IF(DATE(МесГод,МесНомерМесяца,F36)=Поступки!$R$3:$R$607,ROW(Поступки!$R$3:$R$607)-1),ROW($A$8)),1)),\"\",INDEX(Поступки!$Q$2:$R$612,SMALL(IF(DATE(МесГод,МесНомерМесяца,F36)=Поступки!$R$3:$R$607,ROW(Поступки!$R$3:$R$607)-1),ROW($A$8)),1))","v":""},{"$f":"IF(ISERR(INDEX(Поступки!$Q$2:$R$612,SMALL(IF(DATE(МесГод,МесНомерМесяца,G36)=Поступки!$R$3:$R$607,ROW(Поступки!$R$3:$R$607)-1),ROW($A$8)),1)),\"\",INDEX(Поступки!$Q$2:$R$612,SMALL(IF(DATE(МесГод,МесНомерМесяца,G36)=Поступки!$R$3:$R$607,ROW(Поступки!$R$3:$R$607)-1),ROW($A$8)),1))","v":""},{"$f":"IF(ISERR(INDEX(Поступки!$Q$2:$R$612,SMALL(IF(DATE(МесГод,МесНомерМесяца,H36)=Поступки!$R$3:$R$607,ROW(Поступки!$R$3:$R$607)-1),ROW($A$8)),1)),\"\",INDEX(Поступки!$Q$2:$R$612,SMALL(IF(DATE(МесГод,МесНомерМесяца,H36)=Поступки!$R$3:$R$607,ROW(Поступки!$R$3:$R$607)-1),ROW($A$8)),1))","v":""}]
[null,{"$f":"IF(ISERR(INDEX(Поступки!$Q$2:$R$612,SMALL(IF(DATE(МесГод,МесНомерМесяца,B36)=Поступки!$R$3:$R$607,ROW(Поступки!$R$3:$R$607)-1),ROW($A$9)),1)),\"\",INDEX(Поступки!$Q$2:$R$612,SMALL(IF(DATE(МесГод,МесНомерМесяца,B36)=Поступки!$R$3:$R$607,ROW(Поступки!$R$3:$R$607)-1),ROW($A$9)),1))","v":""},{"$f":"IF(ISERR(INDEX(Поступки!$Q$2:$R$612,SMALL(IF(DATE(МесГод,МесНомерМесяца,C36)=Поступки!$R$3:$R$607,ROW(Поступки!$R$3:$R$607)-1),ROW($A$9)),1)),\"\",INDEX(Поступки!$Q$2:$R$612,SMALL(IF(DATE(МесГод,МесНомерМесяца,C36)=Поступки!$R$3:$R$607,ROW(Поступки!$R$3:$R$607)-1),ROW($A$9)),1))","v":""},{"$f":"IF(ISERR(INDEX(Поступки!$Q$2:$R$612,SMALL(IF(DATE(МесГод,МесНомерМесяца,D36)=Поступки!$R$3:$R$607,ROW(Поступки!$R$3:$R$607)-1),ROW($A$9)),1)),\"\",INDEX(Поступки!$Q$2:$R$612,SMALL(IF(DATE(МесГод,МесНомерМесяца,D36)=Поступки!$R$3:$R$607,ROW(Поступки!$R$3:$R$607)-1),ROW($A$9)),1))","v":""},{"$f":"IF(ISERR(INDEX(Поступки!$Q$2:$R$612,SMALL(IF(DATE(МесГод,МесНомерМесяца,E36)=Поступки!$R$3:$R$607,ROW(Поступки!$R$3:$R$607)-1),ROW($A$9)),1)),\"\",INDEX(Поступки!$Q$2:$R$612,SMALL(IF(DATE(МесГод,МесНомерМесяца,E36)=Поступки!$R$3:$R$607,ROW(Поступки!$R$3:$R$607)-1),ROW($A$9)),1))","v":""},{"$f":"IF(ISERR(INDEX(Поступки!$Q$2:$R$612,SMALL(IF(DATE(МесГод,МесНомерМесяца,F36)=Поступки!$R$3:$R$607,ROW(Поступки!$R$3:$R$607)-1),ROW($A$9)),1)),\"\",INDEX(Поступки!$Q$2:$R$612,SMALL(IF(DATE(МесГод,МесНомерМесяца,F36)=Поступки!$R$3:$R$607,ROW(Поступки!$R$3:$R$607)-1),ROW($A$9)),1))","v":""},{"$f":"IF(ISERR(INDEX(Поступки!$Q$2:$R$612,SMALL(IF(DATE(МесГод,МесНомерМесяца,G36)=Поступки!$R$3:$R$607,ROW(Поступки!$R$3:$R$607)-1),ROW($A$9)),1)),\"\",INDEX(Поступки!$Q$2:$R$612,SMALL(IF(DATE(МесГод,МесНомерМесяца,G36)=Поступки!$R$3:$R$607,ROW(Поступки!$R$3:$R$607)-1),ROW($A$9)),1))","v":""},{"$f":"IF(ISERR(INDEX(Поступки!$Q$2:$R$612,SMALL(IF(DATE(МесГод,МесНомерМесяца,H36)=Поступки!$R$3:$R$607,ROW(Поступки!$R$3:$R$607)-1),ROW($A$9)),1)),\"\",INDEX(Поступки!$Q$2:$R$612,SMALL(IF(DATE(МесГод,МесНомерМесяца,H36)=Поступки!$R$3:$R$607,ROW(Поступки!$R$3:$R$607)-1),ROW($A$9)),1))","v":""}]
[null,{"$f":"IF(ISERR(INDEX(Поступки!$Q$2:$R$612,SMALL(IF(DATE(МесГод,МесНомерМесяца,B36)=Поступки!$R$3:$R$607,ROW(Поступки!$R$3:$R$607)-1),ROW($A$10)),1)),\"\",INDEX(Поступки!$Q$2:$R$612,SMALL(IF(DATE(МесГод,МесНомерМесяца,B36)=Поступки!$R$3:$R$607,ROW(Поступки!$R$3:$R$607)-1),ROW($A$10)),1))","v":""},{"$f":"IF(ISERR(INDEX(Поступки!$Q$2:$R$612,SMALL(IF(DATE(МесГод,МесНомерМесяца,C36)=Поступки!$R$3:$R$607,ROW(Поступки!$R$3:$R$607)-1),ROW($A$10)),1)),\"\",INDEX(Поступки!$Q$2:$R$612,SMALL(IF(DATE(МесГод,МесНомерМесяца,C36)=Поступки!$R$3:$R$607,ROW(Поступки!$R$3:$R$607)-1),ROW($A$10)),1))","v":""},{"$f":"IF(ISERR(INDEX(Поступки!$Q$2:$R$612,SMALL(IF(DATE(МесГод,МесНомерМесяца,D36)=Поступки!$R$3:$R$607,ROW(Поступки!$R$3:$R$607)-1),ROW($A$10)),1)),\"\",INDEX(Поступки!$Q$2:$R$612,SMALL(IF(DATE(МесГод,МесНомерМесяца,D36)=Поступки!$R$3:$R$607,ROW(Поступки!$R$3:$R$607)-1),ROW($A$10)),1))","v":""},{"$f":"IF(ISERR(INDEX(Поступки!$Q$2:$R$612,SMALL(IF(DATE(МесГод,МесНомерМесяца,E36)=Поступки!$R$3:$R$607,ROW(Поступки!$R$3:$R$607)-1),ROW($A$10)),1)),\"\",INDEX(Поступки!$Q$2:$R$612,SMALL(IF(DATE(МесГод,МесНомерМесяца,E36)=Поступки!$R$3:$R$607,ROW(Поступки!$R$3:$R$607)-1),ROW($A$10)),1))","v":""},{"$f":"IF(ISERR(INDEX(Поступки!$Q$2:$R$612,SMALL(IF(DATE(МесГод,МесНомерМесяца,F36)=Поступки!$R$3:$R$607,ROW(Поступки!$R$3:$R$607)-1),ROW($A$10)),1)),\"\",INDEX(Поступки!$Q$2:$R$612,SMALL(IF(DATE(МесГод,МесНомерМесяца,F36)=Поступки!$R$3:$R$607,ROW(Поступки!$R$3:$R$607)-1),ROW($A$10)),1))","v":""},{"$f":"IF(ISERR(INDEX(Поступки!$Q$2:$R$612,SMALL(IF(DATE(МесГод,МесНомерМесяца,G36)=Поступки!$R$3:$R$607,ROW(Поступки!$R$3:$R$607)-1),ROW($A$10)),1)),\"\",INDEX(Поступки!$Q$2:$R$612,SMALL(IF(DATE(МесГод,МесНомерМесяца,G36)=Поступки!$R$3:$R$607,ROW(Поступки!$R$3:$R$607)-1),ROW($A$10)),1))","v":""},{"$f":"IF(ISERR(INDEX(Поступки!$Q$2:$R$612,SMALL(IF(DATE(МесГод,МесНомерМесяца,H36)=Поступки!$R$3:$R$607,ROW(Поступки!$R$3:$R$607)-1),ROW($A$10)),1)),\"\",INDEX(Поступки!$Q$2:$R$612,SMALL(IF(DATE(МесГод,МесНомерМесяца,H36)=Поступки!$R$3:$R$607,ROW(Поступки!$R$3:$R$607)-1),ROW($A$10)),1))","v":""}]
[null,{"$f":"IF(LEN(H36)>0,IF(H36=DAY(DATE(МесГод,МесНомерМесяца+1,0)),\"\",H36+1),\"\")","v":28},{"$f":"IF(LEN(B47)>0,IF(B47=DAY(DATE(МесГод,МесНомерМесяца+1,0)),\"\",B47+1),\"\")","v":29},30,{"$f":"IF(LEN(D47)>0,IF(D47=DAY(DATE(МесГод,МесНомерМесяца+1,0)),\"\",D47+1),\"\")","v":31},"","",""]
[null,{"$f":"IF(ISERR(INDEX(Поступки!$Q$2:$R$612,SMALL(IF(DATE(МесГод,МесНомерМесяца,B47)=Поступки!$R$3:$R$607,ROW(Поступки!$R$3:$R$607)-1),ROW($A$1)),1)),\"\",INDEX(Поступки!$Q$2:$R$612,SMALL(IF(DATE(МесГод,МесНомерМесяца,B47)=Поступки!$R$3:$R$607,ROW(Поступки!$R$3:$R$607)-1),ROW($A$1)),1))","v":""},{"$f":"IF(ISERR(INDEX(Поступки!$Q$2:$R$612,SMALL(IF(DATE(МесГод,МесНомерМесяца,C47)=Поступки!$R$3:$R$607,ROW(Поступки!$R$3:$R$607)-1),ROW($A$1)),1)),\"\",INDEX(Поступки!$Q$2:$R$612,SMALL(IF(DATE(МесГод,МесНомерМесяца,C47)=Поступки!$R$3:$R$607,ROW(Поступки!$R$3:$R$607)-1),ROW($A$1)),1))","v":""},{"$f":"IF(ISERR(INDEX(Поступки!$Q$2:$R$612,SMALL(IF(DATE(МесГод,МесНомерМесяца,D47)=Поступки!$R$3:$R$607,ROW(Поступки!$R$3:$R$607)-1),ROW($A$1)),1)),\"\",INDEX(Поступки!$Q$2:$R$612,SMALL(IF(DATE(МесГод,МесНомерМесяца,D47)=Поступки!$R$3:$R$607,ROW(Поступки!$R$3:$R$607)-1),ROW($A$1)),1))","v":""},{"$f":"IF(ISERR(INDEX(Поступки!$Q$2:$R$612,SMALL(IF(DATE(МесГод,МесНомерМесяца,E47)=Поступки!$R$3:$R$607,ROW(Поступки!$R$3:$R$607)-1),ROW($A$1)),1)),\"\",INDEX(Поступки!$Q$2:$R$612,SMALL(IF(DATE(МесГод,МесНомерМесяца,E47)=Поступки!$R$3:$R$607,ROW(Поступки!$R$3:$R$607)-1),ROW($A$1)),1))","v":""},{"$f":"IF(ISERR(INDEX(Поступки!$Q$2:$R$612,SMALL(IF(DATE(МесГод,МесНомерМесяца,F47)=Поступки!$R$3:$R$607,ROW(Поступки!$R$3:$R$607)-1),ROW($A$1)),1)),\"\",INDEX(Поступки!$Q$2:$R$612,SMALL(IF(DATE(МесГод,МесНомерМесяца,F47)=Поступки!$R$3:$R$607,ROW(Поступки!$R$3:$R$607)-1),ROW($A$1)),1))","v":""},{"$f":"IF(ISERR(INDEX(Поступки!$Q$2:$R$612,SMALL(IF(DATE(МесГод,МесНомерМесяца,G47)=Поступки!$R$3:$R$607,ROW(Поступки!$R$3:$R$607)-1),ROW($A$1)),1)),\"\",INDEX(Поступки!$Q$2:$R$612,SMALL(IF(DATE(МесГод,МесНомерМесяца,G47)=Поступки!$R$3:$R$607,ROW(Поступки!$R$3:$R$607)-1),ROW($A$1)),1))","v":""},{"$f":"IF(ISERR(INDEX(Поступки!$Q$2:$R$612,SMALL(IF(DATE(МесГод,МесНомерМесяца,H47)=Поступки!$R$3:$R$607,ROW(Поступки!$R$3:$R$607)-1),ROW($A$1)),1)),\"\",INDEX(Поступки!$Q$2:$R$612,SMALL(IF(DATE(МесГод,МесНомерМесяца,H47)=Поступки!$R$3:$R$607,ROW(Поступки!$R$3:$R$607)-1),ROW($A$1)),1))","v":""}]
[null,{"$f":"IF(ISERR(INDEX(Поступки!$Q$2:$R$612,SMALL(IF(DATE(МесГод,МесНомерМесяца,B47)=Поступки!$R$3:$R$607,ROW(Поступки!$R$3:$R$607)-1),ROW($A$2)),1)),\"\",INDEX(Поступки!$Q$2:$R$612,SMALL(IF(DATE(МесГод,МесНомерМесяца,B47)=Поступки!$R$3:$R$607,ROW(Поступки!$R$3:$R$607)-1),ROW($A$2)),1))","v":""},{"$f":"IF(ISERR(INDEX(Поступки!$Q$2:$R$612,SMALL(IF(DATE(МесГод,МесНомерМесяца,C47)=Поступки!$R$3:$R$607,ROW(Поступки!$R$3:$R$607)-1),ROW($A$2)),1)),\"\",INDEX(Поступки!$Q$2:$R$612,SMALL(IF(DATE(МесГод,МесНомерМесяца,C47)=Поступки!$R$3:$R$607,ROW(Поступки!$R$3:$R$607)-1),ROW($A$2)),1))","v":""},{"$f":"IF(ISERR(INDEX(Поступки!$Q$2:$R$612,SMALL(IF(DATE(МесГод,МесНомерМесяца,D47)=Поступки!$R$3:$R$607,ROW(Поступки!$R$3:$R$607)-1),ROW($A$2)),1)),\"\",INDEX(Поступки!$Q$2:$R$612,SMALL(IF(DATE(МесГод,МесНомерМесяца,D47)=Поступки!$R$3:$R$607,ROW(Поступки!$R$3:$R$607)-1),ROW($A$2)),1))","v":""},{"$f":"IF(ISERR(INDEX(Поступки!$Q$2:$R$612,SMALL(IF(DATE(МесГод,МесНомерМесяца,E47)=Поступки!$R$3:$R$607,ROW(Поступки!$R$3:$R$607)-1),ROW($A$2)),1)),\"\",INDEX(Поступки!$Q$2:$R$612,SMALL(IF(DATE(МесГод,МесНомерМесяца,E47)=Поступки!$R$3:$R$607,ROW(Поступки!$R$3:$R$607)-1),ROW($A$2)),1))","v":""},{"$f":"IF(ISERR(INDEX(Поступки!$Q$2:$R$612,SMALL(IF(DATE(МесГод,МесНомерМесяца,F47)=Поступки!$R$3:$R$607,ROW(Поступки!$R$3:$R$607)-1),ROW($A$2)),1)),\"\",INDEX(Поступки!$Q$2:$R$612,SMALL(IF(DATE(МесГод,МесНомерМесяца,F47)=Поступки!$R$3:$R$607,ROW(Поступки!$R$3:$R$607)-1),ROW($A$2)),1))","v":""},{"$f":"IF(ISERR(INDEX(Поступки!$Q$2:$R$612,SMALL(IF(DATE(МесГод,МесНомерМесяца,G47)=Поступки!$R$3:$R$607,ROW(Поступки!$R$3:$R$607)-1),ROW($A$2)),1)),\"\",INDEX(Поступки!$Q$2:$R$612,SMALL(IF(DATE(МесГод,МесНомерМесяца,G47)=Поступки!$R$3:$R$607,ROW(Поступки!$R$3:$R$607)-1),ROW($A$2)),1))","v":""},{"$f":"IF(ISERR(INDEX(Поступки!$Q$2:$R$612,SMALL(IF(DATE(МесГод,МесНомерМесяца,H47)=Поступки!$R$3:$R$607,ROW(Поступки!$R$3:$R$607)-1),ROW($A$2)),1)),\"\",INDEX(Поступки!$Q$2:$R$612,SMALL(IF(DATE(МесГод,МесНомерМесяца,H47)=Поступки!$R$3:$R$607,ROW(Поступки!$R$3:$R$607)-1),ROW($A$2)),1))","v":""}]
[null,{"$f":"IF(ISERR(INDEX(Поступки!$Q$2:$R$612,SMALL(IF(DATE(МесГод,МесНомерМесяца,B47)=Поступки!$R$3:$R$607,ROW(Поступки!$R$3:$R$607)-1),ROW($A$3)),1)),\"\",INDEX(Поступки!$Q$2:$R$612,SMALL(IF(DATE(МесГод,МесНомерМесяца,B47)=Поступки!$R$3:$R$607,ROW(Поступки!$R$3:$R$607)-1),ROW($A$3)),1))","v":""},{"$f":"IF(ISERR(INDEX(Поступки!$Q$2:$R$612,SMALL(IF(DATE(МесГод,МесНомерМесяца,C47)=Поступки!$R$3:$R$607,ROW(Поступки!$R$3:$R$607)-1),ROW($A$3)),1)),\"\",INDEX(Поступки!$Q$2:$R$612,SMALL(IF(DATE(МесГод,МесНомерМесяца,C47)=Поступки!$R$3:$R$607,ROW(Поступки!$R$3:$R$607)-1),ROW($A$3)),1))","v":""},{"$f":"IF(ISERR(INDEX(Поступки!$Q$2:$R$612,SMALL(IF(DATE(МесГод,МесНомерМесяца,D47)=Поступки!$R$3:$R$607,ROW(Поступки!$R$3:$R$607)-1),ROW($A$3)),1)),\"\",INDEX(Поступки!$Q$2:$R$612,SMALL(IF(DATE(МесГод,МесНомерМесяца,D47)=Поступки!$R$3:$R$607,ROW(Поступки!$R$3:$R$607)-1),ROW($A$3)),1))","v":""},{"$f":"IF(ISERR(INDEX(Поступки!$Q$2:$R$612,SMALL(IF(DATE(МесГод,МесНомерМесяца,E47)=Поступки!$R$3:$R$607,ROW(Поступки!$R$3:$R$607)-1),ROW($A$3)),1)),\"\",INDEX(Поступки!$Q$2:$R$612,SMALL(IF(DATE(МесГод,МесНомерМесяца,E47)=Поступки!$R$3:$R$607,ROW(Поступки!$R$3:$R$607)-1),ROW($A$3)),1))","v":""},{"$f":"IF(ISERR(INDEX(Поступки!$Q$2:$R$612,SMALL(IF(DATE(МесГод,МесНомерМесяца,F47)=Поступки!$R$3:$R$607,ROW(Поступки!$R$3:$R$607)-1),ROW($A$3)),1)),\"\",INDEX(Поступки!$Q$2:$R$612,SMALL(IF(DATE(МесГод,МесНомерМесяца,F47)=Поступки!$R$3:$R$607,ROW(Поступки!$R$3:$R$607)-1),ROW($A$3)),1))","v":""},{"$f":"IF(ISERR(INDEX(Поступки!$Q$2:$R$612,SMALL(IF(DATE(МесГод,МесНомерМесяца,G47)=Поступки!$R$3:$R$607,ROW(Поступки!$R$3:$R$607)-1),ROW($A$3)),1)),\"\",INDEX(Поступки!$Q$2:$R$612,SMALL(IF(DATE(МесГод,МесНомерМесяца,G47)=Поступки!$R$3:$R$607,ROW(Поступки!$R$3:$R$607)-1),ROW($A$3)),1))","v":""},{"$f":"IF(ISERR(INDEX(Поступки!$Q$2:$R$612,SMALL(IF(DATE(МесГод,МесНомерМесяца,H47)=Поступки!$R$3:$R$607,ROW(Поступки!$R$3:$R$607)-1),ROW($A$3)),1)),\"\",INDEX(Поступки!$Q$2:$R$612,SMALL(IF(DATE(МесГод,МесНомерМесяца,H47)=Поступки!$R$3:$R$607,ROW(Поступки!$R$3:$R$607)-1),ROW($A$3)),1))","v":""}]
[null,{"$f":"IF(ISERR(INDEX(Поступки!$Q$2:$R$612,SMALL(IF(DATE(МесГод,МесНомерМесяца,B47)=Поступки!$R$3:$R$607,ROW(Поступки!$R$3:$R$607)-1),ROW($A$4)),1)),\"\",INDEX(Поступки!$Q$2:$R$612,SMALL(IF(DATE(МесГод,МесНомерМесяца,B47)=Поступки!$R$3:$R$607,ROW(Поступки!$R$3:$R$607)-1),ROW($A$4)),1))","v":""},{"$f":"IF(ISERR(INDEX(Поступки!$Q$2:$R$612,SMALL(IF(DATE(МесГод,МесНомерМесяца,C47)=Поступки!$R$3:$R$607,ROW(Поступки!$R$3:$R$607)-1),ROW($A$4)),1)),\"\",INDEX(Поступки!$Q$2:$R$612,SMALL(IF(DATE(МесГод,МесНомерМесяца,C47)=Поступки!$R$3:$R$607,ROW(Поступки!$R$3:$R$607)-1),ROW($A$4)),1))","v":""},{"$f":"IF(ISERR(INDEX(Поступки!$Q$2:$R$612,SMALL(IF(DATE(МесГод,МесНомерМесяца,D47)=Поступки!$R$3:$R$607,ROW(Поступки!$R$3:$R$607)-1),ROW($A$4)),1)),\"\",INDEX(Поступки!$Q$2:$R$612,SMALL(IF(DATE(МесГод,МесНомерМесяца,D47)=Поступки!$R$3:$R$607,ROW(Поступки!$R$3:$R$607)-1),ROW($A$4)),1))","v":""},{"$f":"IF(ISERR(INDEX(Поступки!$Q$2:$R$612,SMALL(IF(DATE(МесГод,МесНомерМесяца,E47)=Поступки!$R$3:$R$607,ROW(Поступки!$R$3:$R$607)-1),ROW($A$4)),1)),\"\",INDEX(Поступки!$Q$2:$R$612,SMALL(IF(DATE(МесГод,МесНомерМесяца,E47)=Поступки!$R$3:$R$607,ROW(Поступки!$R$3:$R$607)-1),ROW($A$4)),1))","v":""},{"$f":"IF(ISERR(INDEX(Поступки!$Q$2:$R$612,SMALL(IF(DATE(МесГод,МесНомерМесяца,F47)=Поступки!$R$3:$R$607,ROW(Поступки!$R$3:$R$607)-1),ROW($A$4)),1)),\"\",INDEX(Поступки!$Q$2:$R$612,SMALL(IF(DATE(МесГод,МесНомерМесяца,F47)=Поступки!$R$3:$R$607,ROW(Поступки!$R$3:$R$607)-1),ROW($A$4)),1))","v":""},{"$f":"IF(ISERR(INDEX(Поступки!$Q$2:$R$612,SMALL(IF(DATE(МесГод,МесНомерМесяца,G47)=Поступки!$R$3:$R$607,ROW(Поступки!$R$3:$R$607)-1),ROW($A$4)),1)),\"\",INDEX(Поступки!$Q$2:$R$612,SMALL(IF(DATE(МесГод,МесНомерМесяца,G47)=Поступки!$R$3:$R$607,ROW(Поступки!$R$3:$R$607)-1),ROW($A$4)),1))","v":""},{"$f":"IF(ISERR(INDEX(Поступки!$Q$2:$R$612,SMALL(IF(DATE(МесГод,МесНомерМесяца,H47)=Поступки!$R$3:$R$607,ROW(Поступки!$R$3:$R$607)-1),ROW($A$4)),1)),\"\",INDEX(Поступки!$Q$2:$R$612,SMALL(IF(DATE(МесГод,МесНомерМесяца,H47)=Поступки!$R$3:$R$607,ROW(Поступки!$R$3:$R$607)-1),ROW($A$4)),1))","v":""}]
[null,{"$f":"IF(ISERR(INDEX(Поступки!$Q$2:$R$612,SMALL(IF(DATE(МесГод,МесНомерМесяца,B47)=Поступки!$R$3:$R$607,ROW(Поступки!$R$3:$R$607)-1),ROW($A$5)),1)),\"\",INDEX(Поступки!$Q$2:$R$612,SMALL(IF(DATE(МесГод,МесНомерМесяца,B47)=Поступки!$R$3:$R$607,ROW(Поступки!$R$3:$R$607)-1),ROW($A$5)),1))","v":""},{"$f":"IF(ISERR(INDEX(Поступки!$Q$2:$R$612,SMALL(IF(DATE(МесГод,МесНомерМесяца,C47)=Поступки!$R$3:$R$607,ROW(Поступки!$R$3:$R$607)-1),ROW($A$5)),1)),\"\",INDEX(Поступки!$Q$2:$R$612,SMALL(IF(DATE(МесГод,МесНомерМесяца,C47)=Поступки!$R$3:$R$607,ROW(Поступки!$R$3:$R$607)-1),ROW($A$5)),1))","v":""},{"$f":"IF(ISERR(INDEX(Поступки!$Q$2:$R$612,SMALL(IF(DATE(МесГод,МесНомерМесяца,D47)=Поступки!$R$3:$R$607,ROW(Поступки!$R$3:$R$607)-1),ROW($A$5)),1)),\"\",INDEX(Поступки!$Q$2:$R$612,SMALL(IF(DATE(МесГод,МесНомерМесяца,D47)=Поступки!$R$3:$R$607,ROW(Поступки!$R$3:$R$607)-1),ROW($A$5)),1))","v":""},{"$f":"IF(ISERR(INDEX(Поступки!$Q$2:$R$612,SMALL(IF(DATE(МесГод,МесНомерМесяца,E47)=Поступки!$R$3:$R$607,ROW(Поступки!$R$3:$R$607)-1),ROW($A$5)),1)),\"\",INDEX(Поступки!$Q$2:$R$612,SMALL(IF(DATE(МесГод,МесНомерМесяца,E47)=Поступки!$R$3:$R$607,ROW(Поступки!$R$3:$R$607)-1),ROW($A$5)),1))","v":""},{"$f":"IF(ISERR(INDEX(Поступки!$Q$2:$R$612,SMALL(IF(DATE(МесГод,МесНомерМесяца,F47)=Поступки!$R$3:$R$607,ROW(Поступки!$R$3:$R$607)-1),ROW($A$5)),1)),\"\",INDEX(Поступки!$Q$2:$R$612,SMALL(IF(DATE(МесГод,МесНомерМесяца,F47)=Поступки!$R$3:$R$607,ROW(Поступки!$R$3:$R$607)-1),ROW($A$5)),1))","v":""},{"$f":"IF(ISERR(INDEX(Поступки!$Q$2:$R$612,SMALL(IF(DATE(МесГод,МесНомерМесяца,G47)=Поступки!$R$3:$R$607,ROW(Поступки!$R$3:$R$607)-1),ROW($A$5)),1)),\"\",INDEX(Поступки!$Q$2:$R$612,SMALL(IF(DATE(МесГод,МесНомерМесяца,G47)=Поступки!$R$3:$R$607,ROW(Поступки!$R$3:$R$607)-1),ROW($A$5)),1))","v":""},{"$f":"IF(ISERR(INDEX(Поступки!$Q$2:$R$612,SMALL(IF(DATE(МесГод,МесНомерМесяца,H47)=Поступки!$R$3:$R$607,ROW(Поступки!$R$3:$R$607)-1),ROW($A$5)),1)),\"\",INDEX(Поступки!$Q$2:$R$612,SMALL(IF(DATE(МесГод,МесНомерМесяца,H47)=Поступки!$R$3:$R$607,ROW(Поступки!$R$3:$R$607)-1),ROW($A$5)),1))","v":""}]
[null,{"$f":"IF(ISERR(INDEX(Поступки!$Q$2:$R$612,SMALL(IF(DATE(МесГод,МесНомерМесяца,B47)=Поступки!$R$3:$R$607,ROW(Поступки!$R$3:$R$607)-1),ROW($A$6)),1)),\"\",INDEX(Поступки!$Q$2:$R$612,SMALL(IF(DATE(МесГод,МесНомерМесяца,B47)=Поступки!$R$3:$R$607,ROW(Поступки!$R$3:$R$607)-1),ROW($A$6)),1))","v":""},{"$f":"IF(ISERR(INDEX(Поступки!$Q$2:$R$612,SMALL(IF(DATE(МесГод,МесНомерМесяца,C47)=Поступки!$R$3:$R$607,ROW(Поступки!$R$3:$R$607)-1),ROW($A$6)),1)),\"\",INDEX(Поступки!$Q$2:$R$612,SMALL(IF(DATE(МесГод,МесНомерМесяца,C47)=Поступки!$R$3:$R$607,ROW(Поступки!$R$3:$R$607)-1),ROW($A$6)),1))","v":""},{"$f":"IF(ISERR(INDEX(Поступки!$Q$2:$R$612,SMALL(IF(DATE(МесГод,МесНомерМесяца,D47)=Поступки!$R$3:$R$607,ROW(Поступки!$R$3:$R$607)-1),ROW($A$6)),1)),\"\",INDEX(Поступки!$Q$2:$R$612,SMALL(IF(DATE(МесГод,МесНомерМесяца,D47)=Поступки!$R$3:$R$607,ROW(Поступки!$R$3:$R$607)-1),ROW($A$6)),1))","v":""},{"$f":"IF(ISERR(INDEX(Поступки!$Q$2:$R$612,SMALL(IF(DATE(МесГод,МесНомерМесяца,E47)=Поступки!$R$3:$R$607,ROW(Поступки!$R$3:$R$607)-1),ROW($A$6)),1)),\"\",INDEX(Поступки!$Q$2:$R$612,SMALL(IF(DATE(МесГод,МесНомерМесяца,E47)=Поступки!$R$3:$R$607,ROW(Поступки!$R$3:$R$607)-1),ROW($A$6)),1))","v":""},{"$f":"IF(ISERR(INDEX(Поступки!$Q$2:$R$612,SMALL(IF(DATE(МесГод,МесНомерМесяца,F47)=Поступки!$R$3:$R$607,ROW(Поступки!$R$3:$R$607)-1),ROW($A$6)),1)),\"\",INDEX(Поступки!$Q$2:$R$612,SMALL(IF(DATE(МесГод,МесНомерМесяца,F47)=Поступки!$R$3:$R$607,ROW(Поступки!$R$3:$R$607)-1),ROW($A$6)),1))","v":""},{"$f":"IF(ISERR(INDEX(Поступки!$Q$2:$R$612,SMALL(IF(DATE(МесГод,МесНомерМесяца,G47)=Поступки!$R$3:$R$607,ROW(Поступки!$R$3:$R$607)-1),ROW($A$6)),1)),\"\",INDEX(Поступки!$Q$2:$R$612,SMALL(IF(DATE(МесГод,МесНомерМесяца,G47)=Поступки!$R$3:$R$607,ROW(Поступки!$R$3:$R$607)-1),ROW($A$6)),1))","v":""},{"$f":"IF(ISERR(INDEX(Поступки!$Q$2:$R$612,SMALL(IF(DATE(МесГод,МесНомерМесяца,H47)=Поступки!$R$3:$R$607,ROW(Поступки!$R$3:$R$607)-1),ROW($A$6)),1)),\"\",INDEX(Поступки!$Q$2:$R$612,SMALL(IF(DATE(МесГод,МесНомерМесяца,H47)=Поступки!$R$3:$R$607,ROW(Поступки!$R$3:$R$607)-1),ROW($A$6)),1))","v":""}]
[null,{"$f":"IF(ISERR(INDEX(Поступки!$Q$2:$R$612,SMALL(IF(DATE(МесГод,МесНомерМесяца,B47)=Поступки!$R$3:$R$607,ROW(Поступки!$R$3:$R$607)-1),ROW($A$7)),1)),\"\",INDEX(Поступки!$Q$2:$R$612,SMALL(IF(DATE(МесГод,МесНомерМесяца,B47)=Поступки!$R$3:$R$607,ROW(Поступки!$R$3:$R$607)-1),ROW($A$7)),1))","v":""},{"$f":"IF(ISERR(INDEX(Поступки!$Q$2:$R$612,SMALL(IF(DATE(МесГод,МесНомерМесяца,C47)=Поступки!$R$3:$R$607,ROW(Поступки!$R$3:$R$607)-1),ROW($A$7)),1)),\"\",INDEX(Поступки!$Q$2:$R$612,SMALL(IF(DATE(МесГод,МесНомерМесяца,C47)=Поступки!$R$3:$R$607,ROW(Поступки!$R$3:$R$607)-1),ROW($A$7)),1))","v":""},{"$f":"IF(ISERR(INDEX(Поступки!$Q$2:$R$612,SMALL(IF(DATE(МесГод,МесНомерМесяца,D47)=Поступки!$R$3:$R$607,ROW(Поступки!$R$3:$R$607)-1),ROW($A$7)),1)),\"\",INDEX(Поступки!$Q$2:$R$612,SMALL(IF(DATE(МесГод,МесНомерМесяца,D47)=Поступки!$R$3:$R$607,ROW(Поступки!$R$3:$R$607)-1),ROW($A$7)),1))","v":""},{"$f":"IF(ISERR(INDEX(Поступки!$Q$2:$R$612,SMALL(IF(DATE(МесГод,МесНомерМесяца,E47)=Поступки!$R$3:$R$607,ROW(Поступки!$R$3:$R$607)-1),ROW($A$7)),1)),\"\",INDEX(Поступки!$Q$2:$R$612,SMALL(IF(DATE(МесГод,МесНомерМесяца,E47)=Поступки!$R$3:$R$607,ROW(Поступки!$R$3:$R$607)-1),ROW($A$7)),1))","v":""},{"$f":"IF(ISERR(INDEX(Поступки!$Q$2:$R$612,SMALL(IF(DATE(МесГод,МесНомерМесяца,F47)=Поступки!$R$3:$R$607,ROW(Поступки!$R$3:$R$607)-1),ROW($A$7)),1)),\"\",INDEX(Поступки!$Q$2:$R$612,SMALL(IF(DATE(МесГод,МесНомерМесяца,F47)=Поступки!$R$3:$R$607,ROW(Поступки!$R$3:$R$607)-1),ROW($A$7)),1))","v":""},{"$f":"IF(ISERR(INDEX(Поступки!$Q$2:$R$612,SMALL(IF(DATE(МесГод,МесНомерМесяца,G47)=Поступки!$R$3:$R$607,ROW(Поступки!$R$3:$R$607)-1),ROW($A$7)),1)),\"\",INDEX(Поступки!$Q$2:$R$612,SMALL(IF(DATE(МесГод,МесНомерМесяца,G47)=Поступки!$R$3:$R$607,ROW(Поступки!$R$3:$R$607)-1),ROW($A$7)),1))","v":""},{"$f":"IF(ISERR(INDEX(Поступки!$Q$2:$R$612,SMALL(IF(DATE(МесГод,МесНомерМесяца,H47)=Поступки!$R$3:$R$607,ROW(Поступки!$R$3:$R$607)-1),ROW($A$7)),1)),\"\",INDEX(Поступки!$Q$2:$R$612,SMALL(IF(DATE(МесГод,МесНомерМесяца,H47)=Поступки!$R$3:$R$607,ROW(Поступки!$R$3:$R$607)-1),ROW($A$7)),1))","v":""}]
[null,{"$f":"IF(ISERR(INDEX(Поступки!$Q$2:$R$612,SMALL(IF(DATE(МесГод,МесНомерМесяца,B47)=Поступки!$R$3:$R$607,ROW(Поступки!$R$3:$R$607)-1),ROW($A$8)),1)),\"\",INDEX(Поступки!$Q$2:$R$612,SMALL(IF(DATE(МесГод,МесНомерМесяца,B47)=Поступки!$R$3:$R$607,ROW(Поступки!$R$3:$R$607)-1),ROW($A$8)),1))","v":""},{"$f":"IF(ISERR(INDEX(Поступки!$Q$2:$R$612,SMALL(IF(DATE(МесГод,МесНомерМесяца,C47)=Поступки!$R$3:$R$607,ROW(Поступки!$R$3:$R$607)-1),ROW($A$8)),1)),\"\",INDEX(Поступки!$Q$2:$R$612,SMALL(IF(DATE(МесГод,МесНомерМесяца,C47)=Поступки!$R$3:$R$607,ROW(Поступки!$R$3:$R$607)-1),ROW($A$8)),1))","v":""},{"$f":"IF(ISERR(INDEX(Поступки!$Q$2:$R$612,SMALL(IF(DATE(МесГод,МесНомерМесяца,D47)=Поступки!$R$3:$R$607,ROW(Поступки!$R$3:$R$607)-1),ROW($A$8)),1)),\"\",INDEX(Поступки!$Q$2:$R$612,SMALL(IF(DATE(МесГод,МесНомерМесяца,D47)=Поступки!$R$3:$R$607,ROW(Поступки!$R$3:$R$607)-1),ROW($A$8)),1))","v":""},{"$f":"IF(ISERR(INDEX(Поступки!$Q$2:$R$612,SMALL(IF(DATE(МесГод,МесНомерМесяца,E47)=Поступки!$R$3:$R$607,ROW(Поступки!$R$3:$R$607)-1),ROW($A$8)),1)),\"\",INDEX(Поступки!$Q$2:$R$612,SMALL(IF(DATE(МесГод,МесНомерМесяца,E47)=Поступки!$R$3:$R$607,ROW(Поступки!$R$3:$R$607)-1),ROW($A$8)),1))","v":""},{"$f":"IF(ISERR(INDEX(Поступки!$Q$2:$R$612,SMALL(IF(DATE(МесГод,МесНомерМесяца,F47)=Поступки!$R$3:$R$607,ROW(Поступки!$R$3:$R$607)-1),ROW($A$8)),1)),\"\",INDEX(Поступки!$Q$2:$R$612,SMALL(IF(DATE(МесГод,МесНомерМесяца,F47)=Поступки!$R$3:$R$607,ROW(Поступки!$R$3:$R$607)-1),ROW($A$8)),1))","v":""},{"$f":"IF(ISERR(INDEX(Поступки!$Q$2:$R$612,SMALL(IF(DATE(МесГод,МесНомерМесяца,G47)=Поступки!$R$3:$R$607,ROW(Поступки!$R$3:$R$607)-1),ROW($A$8)),1)),\"\",INDEX(Поступки!$Q$2:$R$612,SMALL(IF(DATE(МесГод,МесНомерМесяца,G47)=Поступки!$R$3:$R$607,ROW(Поступки!$R$3:$R$607)-1),ROW($A$8)),1))","v":""},{"$f":"IF(ISERR(INDEX(Поступки!$Q$2:$R$612,SMALL(IF(DATE(МесГод,МесНомерМесяца,H47)=Поступки!$R$3:$R$607,ROW(Поступки!$R$3:$R$607)-1),ROW($A$8)),1)),\"\",INDEX(Поступки!$Q$2:$R$612,SMALL(IF(DATE(МесГод,МесНомерМесяца,H47)=Поступки!$R$3:$R$607,ROW(Поступки!$R$3:$R$607)-1),ROW($A$8)),1))","v":""}]
[null,{"$f":"IF(ISERR(INDEX(Поступки!$Q$2:$R$612,SMALL(IF(DATE(МесГод,МесНомерМесяца,B47)=Поступки!$R$3:$R$607,ROW(Поступки!$R$3:$R$607)-1),ROW($A$9)),1)),\"\",INDEX(Поступки!$Q$2:$R$612,SMALL(IF(DATE(МесГод,МесНомерМесяца,B47)=Поступки!$R$3:$R$607,ROW(Поступки!$R$3:$R$607)-1),ROW($A$9)),1))","v":""},{"$f":"IF(ISERR(INDEX(Поступки!$Q$2:$R$612,SMALL(IF(DATE(МесГод,МесНомерМесяца,C47)=Поступки!$R$3:$R$607,ROW(Поступки!$R$3:$R$607)-1),ROW($A$9)),1)),\"\",INDEX(Поступки!$Q$2:$R$612,SMALL(IF(DATE(МесГод,МесНомерМесяца,C47)=Поступки!$R$3:$R$607,ROW(Поступки!$R$3:$R$607)-1),ROW($A$9)),1))","v":""},{"$f":"IF(ISERR(INDEX(Поступки!$Q$2:$R$612,SMALL(IF(DATE(МесГод,МесНомерМесяца,D47)=Поступки!$R$3:$R$607,ROW(Поступки!$R$3:$R$607)-1),ROW($A$9)),1)),\"\",INDEX(Поступки!$Q$2:$R$612,SMALL(IF(DATE(МесГод,МесНомерМесяца,D47)=Поступки!$R$3:$R$607,ROW(Поступки!$R$3:$R$607)-1),ROW($A$9)),1))","v":""},{"$f":"IF(ISERR(INDEX(Поступки!$Q$2:$R$612,SMALL(IF(DATE(МесГод,МесНомерМесяца,E47)=Поступки!$R$3:$R$607,ROW(Поступки!$R$3:$R$607)-1),ROW($A$9)),1)),\"\",INDEX(Поступки!$Q$2:$R$612,SMALL(IF(DATE(МесГод,МесНомерМесяца,E47)=Поступки!$R$3:$R$607,ROW(Поступки!$R$3:$R$607)-1),ROW($A$9)),1))","v":""},{"$f":"IF(ISERR(INDEX(Поступки!$Q$2:$R$612,SMALL(IF(DATE(МесГод,МесНомерМесяца,F47)=Поступки!$R$3:$R$607,ROW(Поступки!$R$3:$R$607)-1),ROW($A$9)),1)),\"\",INDEX(Поступки!$Q$2:$R$612,SMALL(IF(DATE(МесГод,МесНомерМесяца,F47)=Поступки!$R$3:$R$607,ROW(Поступки!$R$3:$R$607)-1),ROW($A$9)),1))","v":""},{"$f":"IF(ISERR(INDEX(Поступки!$Q$2:$R$612,SMALL(IF(DATE(МесГод,МесНомерМесяца,G47)=Поступки!$R$3:$R$607,ROW(Поступки!$R$3:$R$607)-1),ROW($A$9)),1)),\"\",INDEX(Поступки!$Q$2:$R$612,SMALL(IF(DATE(МесГод,МесНомерМесяца,G47)=Поступки!$R$3:$R$607,ROW(Поступки!$R$3:$R$607)-1),ROW($A$9)),1))","v":""},{"$f":"IF(ISERR(INDEX(Поступки!$Q$2:$R$612,SMALL(IF(DATE(МесГод,МесНомерМесяца,H47)=Поступки!$R$3:$R$607,ROW(Поступки!$R$3:$R$607)-1),ROW($A$9)),1)),\"\",INDEX(Поступки!$Q$2:$R$612,SMALL(IF(DATE(МесГод,МесНомерМесяца,H47)=Поступки!$R$3:$R$607,ROW(Поступки!$R$3:$R$607)-1),ROW($A$9)),1))","v":""}]
[null,{"$f":"IF(ISERR(INDEX(Поступки!$Q$2:$R$612,SMALL(IF(DATE(МесГод,МесНомерМесяца,B47)=Поступки!$R$3:$R$607,ROW(Поступки!$R$3:$R$607)-1),ROW($A$10)),1)),\"\",INDEX(Поступки!$Q$2:$R$612,SMALL(IF(DATE(МесГод,МесНомерМесяца,B47)=Поступки!$R$3:$R$607,ROW(Поступки!$R$3:$R$607)-1),ROW($A$10)),1))","v":""},{"$f":"IF(ISERR(INDEX(Поступки!$Q$2:$R$612,SMALL(IF(DATE(МесГод,МесНомерМесяца,C47)=Поступки!$R$3:$R$607,ROW(Поступки!$R$3:$R$607)-1),ROW($A$10)),1)),\"\",INDEX(Поступки!$Q$2:$R$612,SMALL(IF(DATE(МесГод,МесНомерМесяца,C47)=Поступки!$R$3:$R$607,ROW(Поступки!$R$3:$R$607)-1),ROW($A$10)),1))","v":""},{"$f":"IF(ISERR(INDEX(Поступки!$Q$2:$R$612,SMALL(IF(DATE(МесГод,МесНомерМесяца,D47)=Поступки!$R$3:$R$607,ROW(Поступки!$R$3:$R$607)-1),ROW($A$10)),1)),\"\",INDEX(Поступки!$Q$2:$R$612,SMALL(IF(DATE(МесГод,МесНомерМесяца,D47)=Поступки!$R$3:$R$607,ROW(Поступки!$R$3:$R$607)-1),ROW($A$10)),1))","v":""},{"$f":"IF(ISERR(INDEX(Поступки!$Q$2:$R$612,SMALL(IF(DATE(МесГод,МесНомерМесяца,E47)=Поступки!$R$3:$R$607,ROW(Поступки!$R$3:$R$607)-1),ROW($A$10)),1)),\"\",INDEX(Поступки!$Q$2:$R$612,SMALL(IF(DATE(МесГод,МесНомерМесяца,E47)=Поступки!$R$3:$R$607,ROW(Поступки!$R$3:$R$607)-1),ROW($A$10)),1))","v":""},{"$f":"IF(ISERR(INDEX(Поступки!$Q$2:$R$612,SMALL(IF(DATE(МесГод,МесНомерМесяца,F47)=Поступки!$R$3:$R$607,ROW(Поступки!$R$3:$R$607)-1),ROW($A$10)),1)),\"\",INDEX(Поступки!$Q$2:$R$612,SMALL(IF(DATE(МесГод,МесНомерМесяца,F47)=Поступки!$R$3:$R$607,ROW(Поступки!$R$3:$R$607)-1),ROW($A$10)),1))","v":""},{"$f":"IF(ISERR(INDEX(Поступки!$Q$2:$R$612,SMALL(IF(DATE(МесГод,МесНомерМесяца,G47)=Поступки!$R$3:$R$607,ROW(Поступки!$R$3:$R$607)-1),ROW($A$10)),1)),\"\",INDEX(Поступки!$Q$2:$R$612,SMALL(IF(DATE(МесГод,МесНомерМесяца,G47)=Поступки!$R$3:$R$607,ROW(Поступки!$R$3:$R$607)-1),ROW($A$10)),1))","v":""},{"$f":"IF(ISERR(INDEX(Поступки!$Q$2:$R$612,SMALL(IF(DATE(МесГод,МесНомерМесяца,H47)=Поступки!$R$3:$R$607,ROW(Поступки!$R$3:$R$607)-1),ROW($A$10)),1)),\"\",INDEX(Поступки!$Q$2:$R$612,SMALL(IF(DATE(МесГод,МесНомерМесяца,H47)=Поступки!$R$3:$R$607,ROW(Поступки!$R$3:$R$607)-1),ROW($A$10)),1))","v":""}]
[null,{"$f":"IF(LEN(H47)>0,IF(H47=DAY(DATE(МесГод,МесНомерМесяца+1,0)),\"\",H47+1),\"\")","v":""},{"$f":"IF(LEN(B58)>0,IF(B58=DAY(DATE(МесГод,МесНомерМесяца+1,0)),\"\",B58+1),\"\")","v":""},"",{"$f":"IF(LEN(D58)>0,IF(D58=DAY(DATE(МесГод,МесНомерМесяца+1,0)),\"\",D58+1),\"\")","v":""},"","",""]
[null,{"$f":"IF(ISERR(INDEX(Поступки!$Q$2:$R$612,SMALL(IF(DATE(МесГод,МесНомерМесяца,B58)=Поступки!$R$3:$R$607,ROW(Поступки!$R$3:$R$607)-1),ROW($A$1)),1)),\"\",INDEX(Поступки!$Q$2:$R$612,SMALL(IF(DATE(МесГод,МесНомерМесяца,B58)=Поступки!$R$3:$R$607,ROW(Поступки!$R$3:$R$607)-1),ROW($A$1)),1))","v":""},{"$f":"IF(ISERR(INDEX(Поступки!$Q$2:$R$612,SMALL(IF(DATE(МесГод,МесНомерМесяца,C58)=Поступки!$R$3:$R$607,ROW(Поступки!$R$3:$R$607)-1),ROW($A$1)),1)),\"\",INDEX(Поступки!$Q$2:$R$612,SMALL(IF(DATE(МесГод,МесНомерМесяца,C58)=Поступки!$R$3:$R$607,ROW(Поступки!$R$3:$R$607)-1),ROW($A$1)),1))","v":""},{"$f":"IF(ISERR(INDEX(Поступки!$Q$2:$R$612,SMALL(IF(DATE(МесГод,МесНомерМесяца,D58)=Поступки!$R$3:$R$607,ROW(Поступки!$R$3:$R$607)-1),ROW($A$1)),1)),\"\",INDEX(Поступки!$Q$2:$R$612,SMALL(IF(DATE(МесГод,МесНомерМесяца,D58)=Поступки!$R$3:$R$607,ROW(Поступки!$R$3:$R$607)-1),ROW($A$1)),1))","v":""},{"$f":"IF(ISERR(INDEX(Поступки!$Q$2:$R$612,SMALL(IF(DATE(МесГод,МесНомерМесяца,E58)=Поступки!$R$3:$R$607,ROW(Поступки!$R$3:$R$607)-1),ROW($A$1)),1)),\"\",INDEX(Поступки!$Q$2:$R$612,SMALL(IF(DATE(МесГод,МесНомерМесяца,E58)=Поступки!$R$3:$R$607,ROW(Поступки!$R$3:$R$607)-1),ROW($A$1)),1))","v":""},{"$f":"IF(ISERR(INDEX(Поступки!$Q$2:$R$612,SMALL(IF(DATE(МесГод,МесНомерМесяца,F58)=Поступки!$R$3:$R$607,ROW(Поступки!$R$3:$R$607)-1),ROW($A$1)),1)),\"\",INDEX(Поступки!$Q$2:$R$612,SMALL(IF(DATE(МесГод,МесНомерМесяца,F58)=Поступки!$R$3:$R$607,ROW(Поступки!$R$3:$R$607)-1),ROW($A$1)),1))","v":""},{"$f":"IF(ISERR(INDEX(Поступки!$Q$2:$R$612,SMALL(IF(DATE(МесГод,МесНомерМесяца,G58)=Поступки!$R$3:$R$607,ROW(Поступки!$R$3:$R$607)-1),ROW($A$1)),1)),\"\",INDEX(Поступки!$Q$2:$R$612,SMALL(IF(DATE(МесГод,МесНомерМесяца,G58)=Поступки!$R$3:$R$607,ROW(Поступки!$R$3:$R$607)-1),ROW($A$1)),1))","v":""},{"$f":"IF(ISERR(INDEX(Поступки!$Q$2:$R$612,SMALL(IF(DATE(МесГод,МесНомерМесяца,H58)=Поступки!$R$3:$R$607,ROW(Поступки!$R$3:$R$607)-1),ROW($A$1)),1)),\"\",INDEX(Поступки!$Q$2:$R$612,SMALL(IF(DATE(МесГод,МесНомерМесяца,H58)=Поступки!$R$3:$R$607,ROW(Поступки!$R$3:$R$607)-1),ROW($A$1)),1))","v":""}]
[null,{"$f":"IF(ISERR(INDEX(Поступки!$Q$2:$R$612,SMALL(IF(DATE(МесГод,МесНомерМесяца,B58)=Поступки!$R$3:$R$607,ROW(Поступки!$R$3:$R$607)-1),ROW($A$2)),1)),\"\",INDEX(Поступки!$Q$2:$R$612,SMALL(IF(DATE(МесГод,МесНомерМесяца,B58)=Поступки!$R$3:$R$607,ROW(Поступки!$R$3:$R$607)-1),ROW($A$2)),1))","v":""},{"$f":"IF(ISERR(INDEX(Поступки!$Q$2:$R$612,SMALL(IF(DATE(МесГод,МесНомерМесяца,C58)=Поступки!$R$3:$R$607,ROW(Поступки!$R$3:$R$607)-1),ROW($A$2)),1)),\"\",INDEX(Поступки!$Q$2:$R$612,SMALL(IF(DATE(МесГод,МесНомерМесяца,C58)=Поступки!$R$3:$R$607,ROW(Поступки!$R$3:$R$607)-1),ROW($A$2)),1))","v":""},{"$f":"IF(ISERR(INDEX(Поступки!$Q$2:$R$612,SMALL(IF(DATE(МесГод,МесНомерМесяца,D58)=Поступки!$R$3:$R$607,ROW(Поступки!$R$3:$R$607)-1),ROW($A$2)),1)),\"\",INDEX(Поступки!$Q$2:$R$612,SMALL(IF(DATE(МесГод,МесНомерМесяца,D58)=Поступки!$R$3:$R$607,ROW(Поступки!$R$3:$R$607)-1),ROW($A$2)),1))","v":""},{"$f":"IF(ISERR(INDEX(Поступки!$Q$2:$R$612,SMALL(IF(DATE(МесГод,МесНомерМесяца,E58)=Поступки!$R$3:$R$607,ROW(Поступки!$R$3:$R$607)-1),ROW($A$2)),1)),\"\",INDEX(Поступки!$Q$2:$R$612,SMALL(IF(DATE(МесГод,МесНомерМесяца,E58)=Поступки!$R$3:$R$607,ROW(Поступки!$R$3:$R$607)-1),ROW($A$2)),1))","v":""},{"$f":"IF(ISERR(INDEX(Поступки!$Q$2:$R$612,SMALL(IF(DATE(МесГод,МесНомерМесяца,F58)=Поступки!$R$3:$R$607,ROW(Поступки!$R$3:$R$607)-1),ROW($A$2)),1)),\"\",INDEX(Поступки!$Q$2:$R$612,SMALL(IF(DATE(МесГод,МесНомерМесяца,F58)=Поступки!$R$3:$R$607,ROW(Поступки!$R$3:$R$607)-1),ROW($A$2)),1))","v":""},{"$f":"IF(ISERR(INDEX(Поступки!$Q$2:$R$612,SMALL(IF(DATE(МесГод,МесНомерМесяца,G58)=Поступки!$R$3:$R$607,ROW(Поступки!$R$3:$R$607)-1),ROW($A$2)),1)),\"\",INDEX(Поступки!$Q$2:$R$612,SMALL(IF(DATE(МесГод,МесНомерМесяца,G58)=Поступки!$R$3:$R$607,ROW(Поступки!$R$3:$R$607)-1),ROW($A$2)),1))","v":""},{"$f":"IF(ISERR(INDEX(Поступки!$Q$2:$R$612,SMALL(IF(DATE(МесГод,МесНомерМесяца,H58)=Поступки!$R$3:$R$607,ROW(Поступки!$R$3:$R$607)-1),ROW($A$2)),1)),\"\",INDEX(Поступки!$Q$2:$R$612,SMALL(IF(DATE(МесГод,МесНомерМесяца,H58)=Поступки!$R$3:$R$607,ROW(Поступки!$R$3:$R$607)-1),ROW($A$2)),1))","v":""},null,null,null,null,null,null,null,null,null,null,null,null,null,null,null,null,null,null,null,"сентябрь"]
[null,{"$f":"IF(ISERR(INDEX(Поступки!$Q$2:$R$612,SMALL(IF(DATE(МесГод,МесНомерМесяца,B58)=Поступки!$R$3:$R$607,ROW(Поступки!$R$3:$R$607)-1),ROW($A$3)),1)),\"\",INDEX(Поступки!$Q$2:$R$612,SMALL(IF(DATE(МесГод,МесНомерМесяца,B58)=Поступки!$R$3:$R$607,ROW(Поступки!$R$3:$R$607)-1),ROW($A$3)),1))","v":""},{"$f":"IF(ISERR(INDEX(Поступки!$Q$2:$R$612,SMALL(IF(DATE(МесГод,МесНомерМесяца,C58)=Поступки!$R$3:$R$607,ROW(Поступки!$R$3:$R$607)-1),ROW($A$3)),1)),\"\",INDEX(Поступки!$Q$2:$R$612,SMALL(IF(DATE(МесГод,МесНомерМесяца,C58)=Поступки!$R$3:$R$607,ROW(Поступки!$R$3:$R$607)-1),ROW($A$3)),1))","v":""},{"$f":"IF(ISERR(INDEX(Поступки!$Q$2:$R$612,SMALL(IF(DATE(МесГод,МесНомерМесяца,D58)=Поступки!$R$3:$R$607,ROW(Поступки!$R$3:$R$607)-1),ROW($A$3)),1)),\"\",INDEX(Поступки!$Q$2:$R$612,SMALL(IF(DATE(МесГод,МесНомерМесяца,D58)=Поступки!$R$3:$R$607,ROW(Поступки!$R$3:$R$607)-1),ROW($A$3)),1))","v":""},{"$f":"IF(ISERR(INDEX(Поступки!$Q$2:$R$612,SMALL(IF(DATE(МесГод,МесНомерМесяца,E58)=Поступки!$R$3:$R$607,ROW(Поступки!$R$3:$R$607)-1),ROW($A$3)),1)),\"\",INDEX(Поступки!$Q$2:$R$612,SMALL(IF(DATE(МесГод,МесНомерМесяца,E58)=Поступки!$R$3:$R$607,ROW(Поступки!$R$3:$R$607)-1),ROW($A$3)),1))","v":""},{"$f":"IF(ISERR(INDEX(Поступки!$Q$2:$R$612,SMALL(IF(DATE(МесГод,МесНомерМесяца,F58)=Поступки!$R$3:$R$607,ROW(Поступки!$R$3:$R$607)-1),ROW($A$3)),1)),\"\",INDEX(Поступки!$Q$2:$R$612,SMALL(IF(DATE(МесГод,МесНомерМесяца,F58)=Поступки!$R$3:$R$607,ROW(Поступки!$R$3:$R$607)-1),ROW($A$3)),1))","v":""},{"$f":"IF(ISERR(INDEX(Поступки!$Q$2:$R$612,SMALL(IF(DATE(МесГод,МесНомерМесяца,G58)=Поступки!$R$3:$R$607,ROW(Поступки!$R$3:$R$607)-1),ROW($A$3)),1)),\"\",INDEX(Поступки!$Q$2:$R$612,SMALL(IF(DATE(МесГод,МесНомерМесяца,G58)=Поступки!$R$3:$R$607,ROW(Поступки!$R$3:$R$607)-1),ROW($A$3)),1))","v":""},{"$f":"IF(ISERR(INDEX(Поступки!$Q$2:$R$612,SMALL(IF(DATE(МесГод,МесНомерМесяца,H58)=Поступки!$R$3:$R$607,ROW(Поступки!$R$3:$R$607)-1),ROW($A$3)),1)),\"\",INDEX(Поступки!$Q$2:$R$612,SMALL(IF(DATE(МесГод,МесНомерМесяца,H58)=Поступки!$R$3:$R$607,ROW(Поступки!$R$3:$R$607)-1),ROW($A$3)),1))","v":""},null,null,null,null,null,null,null,null,null,null,null,null,null,null,null,null,null,null,null,"октябрь"]
[null,{"$f":"IF(ISERR(INDEX(Поступки!$Q$2:$R$612,SMALL(IF(DATE(МесГод,МесНомерМесяца,B58)=Поступки!$R$3:$R$607,ROW(Поступки!$R$3:$R$607)-1),ROW($A$4)),1)),\"\",INDEX(Поступки!$Q$2:$R$612,SMALL(IF(DATE(МесГод,МесНомерМесяца,B58)=Поступки!$R$3:$R$607,ROW(Поступки!$R$3:$R$607)-1),ROW($A$4)),1))","v":""},{"$f":"IF(ISERR(INDEX(Поступки!$Q$2:$R$612,SMALL(IF(DATE(МесГод,МесНомерМесяца,C58)=Поступки!$R$3:$R$607,ROW(Поступки!$R$3:$R$607)-1),ROW($A$4)),1)),\"\",INDEX(Поступки!$Q$2:$R$612,SMALL(IF(DATE(МесГод,МесНомерМесяца,C58)=Поступки!$R$3:$R$607,ROW(Поступки!$R$3:$R$607)-1),ROW($A$4)),1))","v":""},{"$f":"IF(ISERR(INDEX(Поступки!$Q$2:$R$612,SMALL(IF(DATE(МесГод,МесНомерМесяца,D58)=Поступки!$R$3:$R$607,ROW(Поступки!$R$3:$R$607)-1),ROW($A$4)),1)),\"\",INDEX(Поступки!$Q$2:$R$612,SMALL(IF(DATE(МесГод,МесНомерМесяца,D58)=Поступки!$R$3:$R$607,ROW(Поступки!$R$3:$R$607)-1),ROW($A$4)),1))","v":""},{"$f":"IF(ISERR(INDEX(Поступки!$Q$2:$R$612,SMALL(IF(DATE(МесГод,МесНомерМесяца,E58)=Поступки!$R$3:$R$607,ROW(Поступки!$R$3:$R$607)-1),ROW($A$4)),1)),\"\",INDEX(Поступки!$Q$2:$R$612,SMALL(IF(DATE(МесГод,МесНомерМесяца,E58)=Поступки!$R$3:$R$607,ROW(Поступки!$R$3:$R$607)-1),ROW($A$4)),1))","v":""},{"$f":"IF(ISERR(INDEX(Поступки!$Q$2:$R$612,SMALL(IF(DATE(МесГод,МесНомерМесяца,F58)=Поступки!$R$3:$R$607,ROW(Поступки!$R$3:$R$607)-1),ROW($A$4)),1)),\"\",INDEX(Поступки!$Q$2:$R$612,SMALL(IF(DATE(МесГод,МесНомерМесяца,F58)=Поступки!$R$3:$R$607,ROW(Поступки!$R$3:$R$607)-1),ROW($A$4)),1))","v":""},{"$f":"IF(ISERR(INDEX(Поступки!$Q$2:$R$612,SMALL(IF(DATE(МесГод,МесНомерМесяца,G58)=Поступки!$R$3:$R$607,ROW(Поступки!$R$3:$R$607)-1),ROW($A$4)),1)),\"\",INDEX(Поступки!$Q$2:$R$612,SMALL(IF(DATE(МесГод,МесНомерМесяца,G58)=Поступки!$R$3:$R$607,ROW(Поступки!$R$3:$R$607)-1),ROW($A$4)),1))","v":""},{"$f":"IF(ISERR(INDEX(Поступки!$Q$2:$R$612,SMALL(IF(DATE(МесГод,МесНомерМесяца,H58)=Поступки!$R$3:$R$607,ROW(Поступки!$R$3:$R$607)-1),ROW($A$4)),1)),\"\",INDEX(Поступки!$Q$2:$R$612,SMALL(IF(DATE(МесГод,МесНомерМесяца,H58)=Поступки!$R$3:$R$607,ROW(Поступки!$R$3:$R$607)-1),ROW($A$4)),1))","v":""},null,null,null,null,null,null,null,null,null,null,null,null,null,null,null,null,null,null,null,3]
[null,{"$f":"IF(ISERR(INDEX(Поступки!$Q$2:$R$612,SMALL(IF(DATE(МесГод,МесНомерМесяца,B58)=Поступки!$R$3:$R$607,ROW(Поступки!$R$3:$R$607)-1),ROW($A$5)),1)),\"\",INDEX(Поступки!$Q$2:$R$612,SMALL(IF(DATE(МесГод,МесНомерМесяца,B58)=Поступки!$R$3:$R$607,ROW(Поступки!$R$3:$R$607)-1),ROW($A$5)),1))","v":""},{"$f":"IF(ISERR(INDEX(Поступки!$Q$2:$R$612,SMALL(IF(DATE(МесГод,МесНомерМесяца,C58)=Поступки!$R$3:$R$607,ROW(Поступки!$R$3:$R$607)-1),ROW($A$5)),1)),\"\",INDEX(Поступки!$Q$2:$R$612,SMALL(IF(DATE(МесГод,МесНомерМесяца,C58)=Поступки!$R$3:$R$607,ROW(Поступки!$R$3:$R$607)-1),ROW($A$5)),1))","v":""},{"$f":"IF(ISERR(INDEX(Поступки!$Q$2:$R$612,SMALL(IF(DATE(МесГод,МесНомерМесяца,D58)=Поступки!$R$3:$R$607,ROW(Поступки!$R$3:$R$607)-1),ROW($A$5)),1)),\"\",INDEX(Поступки!$Q$2:$R$612,SMALL(IF(DATE(МесГод,МесНомерМесяца,D58)=Поступки!$R$3:$R$607,ROW(Поступки!$R$3:$R$607)-1),ROW($A$5)),1))","v":""},{"$f":"IF(ISERR(INDEX(Поступки!$Q$2:$R$612,SMALL(IF(DATE(МесГод,МесНомерМесяца,E58)=Поступки!$R$3:$R$607,ROW(Поступки!$R$3:$R$607)-1),ROW($A$5)),1)),\"\",INDEX(Поступки!$Q$2:$R$612,SMALL(IF(DATE(МесГод,МесНомерМесяца,E58)=Поступки!$R$3:$R$607,ROW(Поступки!$R$3:$R$607)-1),ROW($A$5)),1))","v":""},{"$f":"IF(ISERR(INDEX(Поступки!$Q$2:$R$612,SMALL(IF(DATE(МесГод,МесНомерМесяца,F58)=Поступки!$R$3:$R$607,ROW(Поступки!$R$3:$R$607)-1),ROW($A$5)),1)),\"\",INDEX(Поступки!$Q$2:$R$612,SMALL(IF(DATE(МесГод,МесНомерМесяца,F58)=Поступки!$R$3:$R$607,ROW(Поступки!$R$3:$R$607)-1),ROW($A$5)),1))","v":""},{"$f":"IF(ISERR(INDEX(Поступки!$Q$2:$R$612,SMALL(IF(DATE(МесГод,МесНомерМесяца,G58)=Поступки!$R$3:$R$607,ROW(Поступки!$R$3:$R$607)-1),ROW($A$5)),1)),\"\",INDEX(Поступки!$Q$2:$R$612,SMALL(IF(DATE(МесГод,МесНомерМесяца,G58)=Поступки!$R$3:$R$607,ROW(Поступки!$R$3:$R$607)-1),ROW($A$5)),1))","v":""},{"$f":"IF(ISERR(INDEX(Поступки!$Q$2:$R$612,SMALL(IF(DATE(МесГод,МесНомерМесяца,H58)=Поступки!$R$3:$R$607,ROW(Поступки!$R$3:$R$607)-1),ROW($A$5)),1)),\"\",INDEX(Поступки!$Q$2:$R$612,SMALL(IF(DATE(МесГод,МесНомерМесяца,H58)=Поступки!$R$3:$R$607,ROW(Поступки!$R$3:$R$607)-1),ROW($A$5)),1))","v":""},null,null,null,null,null,null,null,null,null,null,null,null,null,null,null,null,null,null,null,4]
[null,{"$f":"IF(ISERR(INDEX(Поступки!$Q$2:$R$612,SMALL(IF(DATE(МесГод,МесНомерМесяца,B58)=Поступки!$R$3:$R$607,ROW(Поступки!$R$3:$R$607)-1),ROW($A$6)),1)),\"\",INDEX(Поступки!$Q$2:$R$612,SMALL(IF(DATE(МесГод,МесНомерМесяца,B58)=Поступки!$R$3:$R$607,ROW(Поступки!$R$3:$R$607)-1),ROW($A$6)),1))","v":""},{"$f":"IF(ISERR(INDEX(Поступки!$Q$2:$R$612,SMALL(IF(DATE(МесГод,МесНомерМесяца,C58)=Поступки!$R$3:$R$607,ROW(Поступки!$R$3:$R$607)-1),ROW($A$6)),1)),\"\",INDEX(Поступки!$Q$2:$R$612,SMALL(IF(DATE(МесГод,МесНомерМесяца,C58)=Поступки!$R$3:$R$607,ROW(Поступки!$R$3:$R$607)-1),ROW($A$6)),1))","v":""},{"$f":"IF(ISERR(INDEX(Поступки!$Q$2:$R$612,SMALL(IF(DATE(МесГод,МесНомерМесяца,D58)=Поступки!$R$3:$R$607,ROW(Поступки!$R$3:$R$607)-1),ROW($A$6)),1)),\"\",INDEX(Поступки!$Q$2:$R$612,SMALL(IF(DATE(МесГод,МесНомерМесяца,D58)=Поступки!$R$3:$R$607,ROW(Поступки!$R$3:$R$607)-1),ROW($A$6)),1))","v":""},{"$f":"IF(ISERR(INDEX(Поступки!$Q$2:$R$612,SMALL(IF(DATE(МесГод,МесНомерМесяца,E58)=Поступки!$R$3:$R$607,ROW(Поступки!$R$3:$R$607)-1),ROW($A$6)),1)),\"\",INDEX(Поступки!$Q$2:$R$612,SMALL(IF(DATE(МесГод,МесНомерМесяца,E58)=Поступки!$R$3:$R$607,ROW(Поступки!$R$3:$R$607)-1),ROW($A$6)),1))","v":""},{"$f":"IF(ISERR(INDEX(Поступки!$Q$2:$R$612,SMALL(IF(DATE(МесГод,МесНомерМесяца,F58)=Поступки!$R$3:$R$607,ROW(Поступки!$R$3:$R$607)-1),ROW($A$6)),1)),\"\",INDEX(Поступки!$Q$2:$R$612,SMALL(IF(DATE(МесГод,МесНомерМесяца,F58)=Поступки!$R$3:$R$607,ROW(Поступки!$R$3:$R$607)-1),ROW($A$6)),1))","v":""},{"$f":"IF(ISERR(INDEX(Поступки!$Q$2:$R$612,SMALL(IF(DATE(МесГод,МесНомерМесяца,G58)=Поступки!$R$3:$R$607,ROW(Поступки!$R$3:$R$607)-1),ROW($A$6)),1)),\"\",INDEX(Поступки!$Q$2:$R$612,SMALL(IF(DATE(МесГод,МесНомерМесяца,G58)=Поступки!$R$3:$R$607,ROW(Поступки!$R$3:$R$607)-1),ROW($A$6)),1))","v":""},{"$f":"IF(ISERR(INDEX(Поступки!$Q$2:$R$612,SMALL(IF(DATE(МесГод,МесНомерМесяца,H58)=Поступки!$R$3:$R$607,ROW(Поступки!$R$3:$R$607)-1),ROW($A$6)),1)),\"\",INDEX(Поступки!$Q$2:$R$612,SMALL(IF(DATE(МесГод,МесНомерМесяца,H58)=Поступки!$R$3:$R$607,ROW(Поступки!$R$3:$R$607)-1),ROW($A$6)),1))","v":""}]
[null,{"$f":"IF(ISERR(INDEX(Поступки!$Q$2:$R$612,SMALL(IF(DATE(МесГод,МесНомерМесяца,B58)=Поступки!$R$3:$R$607,ROW(Поступки!$R$3:$R$607)-1),ROW($A$7)),1)),\"\",INDEX(Поступки!$Q$2:$R$612,SMALL(IF(DATE(МесГод,МесНомерМесяца,B58)=Поступки!$R$3:$R$607,ROW(Поступки!$R$3:$R$607)-1),ROW($A$7)),1))","v":""},{"$f":"IF(ISERR(INDEX(Поступки!$Q$2:$R$612,SMALL(IF(DATE(МесГод,МесНомерМесяца,C58)=Поступки!$R$3:$R$607,ROW(Поступки!$R$3:$R$607)-1),ROW($A$7)),1)),\"\",INDEX(Поступки!$Q$2:$R$612,SMALL(IF(DATE(МесГод,МесНомерМесяца,C58)=Поступки!$R$3:$R$607,ROW(Поступки!$R$3:$R$607)-1),ROW($A$7)),1))","v":""},{"$f":"IF(ISERR(INDEX(Поступки!$Q$2:$R$612,SMALL(IF(DATE(МесГод,МесНомерМесяца,D58)=Поступки!$R$3:$R$607,ROW(Поступки!$R$3:$R$607)-1),ROW($A$7)),1)),\"\",INDEX(Поступки!$Q$2:$R$612,SMALL(IF(DATE(МесГод,МесНомерМесяца,D58)=Поступки!$R$3:$R$607,ROW(Поступки!$R$3:$R$607)-1),ROW($A$7)),1))","v":""},{"$f":"IF(ISERR(INDEX(Поступки!$Q$2:$R$612,SMALL(IF(DATE(МесГод,МесНомерМесяца,E58)=Поступки!$R$3:$R$607,ROW(Поступки!$R$3:$R$607)-1),ROW($A$7)),1)),\"\",INDEX(Поступки!$Q$2:$R$612,SMALL(IF(DATE(МесГод,МесНомерМесяца,E58)=Поступки!$R$3:$R$607,ROW(Поступки!$R$3:$R$607)-1),ROW($A$7)),1))","v":""},{"$f":"IF(ISERR(INDEX(Поступки!$Q$2:$R$612,SMALL(IF(DATE(МесГод,МесНомерМесяца,F58)=Поступки!$R$3:$R$607,ROW(Поступки!$R$3:$R$607)-1),ROW($A$7)),1)),\"\",INDEX(Поступки!$Q$2:$R$612,SMALL(IF(DATE(МесГод,МесНомерМесяца,F58)=Поступки!$R$3:$R$607,ROW(Поступки!$R$3:$R$607)-1),ROW($A$7)),1))","v":""},{"$f":"IF(ISERR(INDEX(Поступки!$Q$2:$R$612,SMALL(IF(DATE(МесГод,МесНомерМесяца,G58)=Поступки!$R$3:$R$607,ROW(Поступки!$R$3:$R$607)-1),ROW($A$7)),1)),\"\",INDEX(Поступки!$Q$2:$R$612,SMALL(IF(DATE(МесГод,МесНомерМесяца,G58)=Поступки!$R$3:$R$607,ROW(Поступки!$R$3:$R$607)-1),ROW($A$7)),1))","v":""},{"$f":"IF(ISERR(INDEX(Поступки!$Q$2:$R$612,SMALL(IF(DATE(МесГод,МесНомерМесяца,H58)=Поступки!$R$3:$R$607,ROW(Поступки!$R$3:$R$607)-1),ROW($A$7)),1)),\"\",INDEX(Поступки!$Q$2:$R$612,SMALL(IF(DATE(МесГод,МесНомерМесяца,H58)=Поступки!$R$3:$R$607,ROW(Поступки!$R$3:$R$607)-1),ROW($A$7)),1))","v":""}]
[null,{"$f":"IF(ISERR(INDEX(Поступки!$Q$2:$R$612,SMALL(IF(DATE(МесГод,МесНомерМесяца,B58)=Поступки!$R$3:$R$607,ROW(Поступки!$R$3:$R$607)-1),ROW($A$8)),1)),\"\",INDEX(Поступки!$Q$2:$R$612,SMALL(IF(DATE(МесГод,МесНомерМесяца,B58)=Поступки!$R$3:$R$607,ROW(Поступки!$R$3:$R$607)-1),ROW($A$8)),1))","v":""},{"$f":"IF(ISERR(INDEX(Поступки!$Q$2:$R$612,SMALL(IF(DATE(МесГод,МесНомерМесяца,C58)=Поступки!$R$3:$R$607,ROW(Поступки!$R$3:$R$607)-1),ROW($A$8)),1)),\"\",INDEX(Поступки!$Q$2:$R$612,SMALL(IF(DATE(МесГод,МесНомерМесяца,C58)=Поступки!$R$3:$R$607,ROW(Поступки!$R$3:$R$607)-1),ROW($A$8)),1))","v":""},{"$f":"IF(ISERR(INDEX(Поступки!$Q$2:$R$612,SMALL(IF(DATE(МесГод,МесНомерМесяца,D58)=Поступки!$R$3:$R$607,ROW(Поступки!$R$3:$R$607)-1),ROW($A$8)),1)),\"\",INDEX(Поступки!$Q$2:$R$612,SMALL(IF(DATE(МесГод,МесНомерМесяца,D58)=Поступки!$R$3:$R$607,ROW(Поступки!$R$3:$R$607)-1),ROW($A$8)),1))","v":""},{"$f":"IF(ISERR(INDEX(Поступки!$Q$2:$R$612,SMALL(IF(DATE(МесГод,МесНомерМесяца,E58)=Поступки!$R$3:$R$607,ROW(Поступки!$R$3:$R$607)-1),ROW($A$8)),1)),\"\",INDEX(Поступки!$Q$2:$R$612,SMALL(IF(DATE(МесГод,МесНомерМесяца,E58)=Поступки!$R$3:$R$607,ROW(Поступки!$R$3:$R$607)-1),ROW($A$8)),1))","v":""},{"$f":"IF(ISERR(INDEX(Поступки!$Q$2:$R$612,SMALL(IF(DATE(МесГод,МесНомерМесяца,F58)=Поступки!$R$3:$R$607,ROW(Поступки!$R$3:$R$607)-1),ROW($A$8)),1)),\"\",INDEX(Поступки!$Q$2:$R$612,SMALL(IF(DATE(МесГод,МесНомерМесяца,F58)=Поступки!$R$3:$R$607,ROW(Поступки!$R$3:$R$607)-1),ROW($A$8)),1))","v":""},{"$f":"IF(ISERR(INDEX(Поступки!$Q$2:$R$612,SMALL(IF(DATE(МесГод,МесНомерМесяца,G58)=Поступки!$R$3:$R$607,ROW(Поступки!$R$3:$R$607)-1),ROW($A$8)),1)),\"\",INDEX(Поступки!$Q$2:$R$612,SMALL(IF(DATE(МесГод,МесНомерМесяца,G58)=Поступки!$R$3:$R$607,ROW(Поступки!$R$3:$R$607)-1),ROW($A$8)),1))","v":""},{"$f":"IF(ISERR(INDEX(Поступки!$Q$2:$R$612,SMALL(IF(DATE(МесГод,МесНомерМесяца,H58)=Поступки!$R$3:$R$607,ROW(Поступки!$R$3:$R$607)-1),ROW($A$8)),1)),\"\",INDEX(Поступки!$Q$2:$R$612,SMALL(IF(DATE(МесГод,МесНомерМесяца,H58)=Поступки!$R$3:$R$607,ROW(Поступки!$R$3:$R$607)-1),ROW($A$8)),1))","v":""}]
[null,{"$f":"IF(ISERR(INDEX(Поступки!$Q$2:$R$612,SMALL(IF(DATE(МесГод,МесНомерМесяца,B58)=Поступки!$R$3:$R$607,ROW(Поступки!$R$3:$R$607)-1),ROW($A$9)),1)),\"\",INDEX(Поступки!$Q$2:$R$612,SMALL(IF(DATE(МесГод,МесНомерМесяца,B58)=Поступки!$R$3:$R$607,ROW(Поступки!$R$3:$R$607)-1),ROW($A$9)),1))","v":""},{"$f":"IF(ISERR(INDEX(Поступки!$Q$2:$R$612,SMALL(IF(DATE(МесГод,МесНомерМесяца,C58)=Поступки!$R$3:$R$607,ROW(Поступки!$R$3:$R$607)-1),ROW($A$9)),1)),\"\",INDEX(Поступки!$Q$2:$R$612,SMALL(IF(DATE(МесГод,МесНомерМесяца,C58)=Поступки!$R$3:$R$607,ROW(Поступки!$R$3:$R$607)-1),ROW($A$9)),1))","v":""},{"$f":"IF(ISERR(INDEX(Поступки!$Q$2:$R$612,SMALL(IF(DATE(МесГод,МесНомерМесяца,D58)=Поступки!$R$3:$R$607,ROW(Поступки!$R$3:$R$607)-1),ROW($A$9)),1)),\"\",INDEX(Поступки!$Q$2:$R$612,SMALL(IF(DATE(МесГод,МесНомерМесяца,D58)=Поступки!$R$3:$R$607,ROW(Поступки!$R$3:$R$607)-1),ROW($A$9)),1))","v":""},{"$f":"IF(ISERR(INDEX(Поступки!$Q$2:$R$612,SMALL(IF(DATE(МесГод,МесНомерМесяца,E58)=Поступки!$R$3:$R$607,ROW(Поступки!$R$3:$R$607)-1),ROW($A$9)),1)),\"\",INDEX(Поступки!$Q$2:$R$612,SMALL(IF(DATE(МесГод,МесНомерМесяца,E58)=Поступки!$R$3:$R$607,ROW(Поступки!$R$3:$R$607)-1),ROW($A$9)),1))","v":""},{"$f":"IF(ISERR(INDEX(Поступки!$Q$2:$R$612,SMALL(IF(DATE(МесГод,МесНомерМесяца,F58)=Поступки!$R$3:$R$607,ROW(Поступки!$R$3:$R$607)-1),ROW($A$9)),1)),\"\",INDEX(Поступки!$Q$2:$R$612,SMALL(IF(DATE(МесГод,МесНомерМесяца,F58)=Поступки!$R$3:$R$607,ROW(Поступки!$R$3:$R$607)-1),ROW($A$9)),1))","v":""},{"$f":"IF(ISERR(INDEX(Поступки!$Q$2:$R$612,SMALL(IF(DATE(МесГод,МесНомерМесяца,G58)=Поступки!$R$3:$R$607,ROW(Поступки!$R$3:$R$607)-1),ROW($A$9)),1)),\"\",INDEX(Поступки!$Q$2:$R$612,SMALL(IF(DATE(МесГод,МесНомерМесяца,G58)=Поступки!$R$3:$R$607,ROW(Поступки!$R$3:$R$607)-1),ROW($A$9)),1))","v":""},{"$f":"IF(ISERR(INDEX(Поступки!$Q$2:$R$612,SMALL(IF(DATE(МесГод,МесНомерМесяца,H58)=Поступки!$R$3:$R$607,ROW(Поступки!$R$3:$R$607)-1),ROW($A$9)),1)),\"\",INDEX(Поступки!$Q$2:$R$612,SMALL(IF(DATE(МесГод,МесНомерМесяца,H58)=Поступки!$R$3:$R$607,ROW(Поступки!$R$3:$R$607)-1),ROW($A$9)),1))","v":""}]
[null,{"$f":"IF(ISERR(INDEX(Поступки!$Q$2:$R$612,SMALL(IF(DATE(МесГод,МесНомерМесяца,B58)=Поступки!$R$3:$R$607,ROW(Поступки!$R$3:$R$607)-1),ROW($A$10)),1)),\"\",INDEX(Поступки!$Q$2:$R$612,SMALL(IF(DATE(МесГод,МесНомерМесяца,B58)=Поступки!$R$3:$R$607,ROW(Поступки!$R$3:$R$607)-1),ROW($A$10)),1))","v":""},{"$f":"IF(ISERR(INDEX(Поступки!$Q$2:$R$612,SMALL(IF(DATE(МесГод,МесНомерМесяца,C58)=Поступки!$R$3:$R$607,ROW(Поступки!$R$3:$R$607)-1),ROW($A$10)),1)),\"\",INDEX(Поступки!$Q$2:$R$612,SMALL(IF(DATE(МесГод,МесНомерМесяца,C58)=Поступки!$R$3:$R$607,ROW(Поступки!$R$3:$R$607)-1),ROW($A$10)),1))","v":""},{"$f":"IF(ISERR(INDEX(Поступки!$Q$2:$R$612,SMALL(IF(DATE(МесГод,МесНомерМесяца,D58)=Поступки!$R$3:$R$607,ROW(Поступки!$R$3:$R$607)-1),ROW($A$10)),1)),\"\",INDEX(Поступки!$Q$2:$R$612,SMALL(IF(DATE(МесГод,МесНомерМесяца,D58)=Поступки!$R$3:$R$607,ROW(Поступки!$R$3:$R$607)-1),ROW($A$10)),1))","v":""},{"$f":"IF(ISERR(INDEX(Поступки!$Q$2:$R$612,SMALL(IF(DATE(МесГод,МесНомерМесяца,E58)=Поступки!$R$3:$R$607,ROW(Поступки!$R$3:$R$607)-1),ROW($A$10)),1)),\"\",INDEX(Поступки!$Q$2:$R$612,SMALL(IF(DATE(МесГод,МесНомерМесяца,E58)=Поступки!$R$3:$R$607,ROW(Поступки!$R$3:$R$607)-1),ROW($A$10)),1))","v":""},{"$f":"IF(ISERR(INDEX(Поступки!$Q$2:$R$612,SMALL(IF(DATE(МесГод,МесНомерМесяца,F58)=Поступки!$R$3:$R$607,ROW(Поступки!$R$3:$R$607)-1),ROW($A$10)),1)),\"\",INDEX(Поступки!$Q$2:$R$612,SMALL(IF(DATE(МесГод,МесНомерМесяца,F58)=Поступки!$R$3:$R$607,ROW(Поступки!$R$3:$R$607)-1),ROW($A$10)),1))","v":""},{"$f":"IF(ISERR(INDEX(Поступки!$Q$2:$R$612,SMALL(IF(DATE(МесГод,МесНомерМесяца,G58)=Поступки!$R$3:$R$607,ROW(Поступки!$R$3:$R$607)-1),ROW($A$10)),1)),\"\",INDEX(Поступки!$Q$2:$R$612,SMALL(IF(DATE(МесГод,МесНомерМесяца,G58)=Поступки!$R$3:$R$607,ROW(Поступки!$R$3:$R$607)-1),ROW($A$10)),1))","v":""},{"$f":"IF(ISERR(INDEX(Поступки!$Q$2:$R$612,SMALL(IF(DATE(МесГод,МесНомерМесяца,H58)=Поступки!$R$3:$R$607,ROW(Поступки!$R$3:$R$607)-1),ROW($A$10)),1)),\"\",INDEX(Поступки!$Q$2:$R$612,SMALL(IF(DATE(МесГод,МесНомерМесяца,H58)=Поступки!$R$3:$R$607,ROW(Поступки!$R$3:$R$607)-1),ROW($A$10)),1))","v":""}]

{"sheet":"Часы","index":2,"n_rows":9997,"n_cols":23,"rows_kept":9997,"cut":false,"hidden":false,"merged":[]}
[null,"2018-12-31",null,{"$f":"B1+1","v":"2019-01-01"},null,{"$f":"D1+1","v":"2019-01-02"},null,{"$f":"F1+1","v":"2019-01-03"},null,{"$f":"H1+1","v":"2019-01-04"},null,{"$f":"J1+1","v":"2019-01-05"},null,{"$f":"L1+1","v":"2019-01-06"},null,"час","доля",null,"весь год","доля",null,null,{"$f":"IFERROR(INDEX(M$10001:M$11010,SMALL(IF(M$10001:M$11010<>\"\",$AC$1:$AC$1010),ROW(B1))),\"\")","v":""}]
["здоровье",null,null,null,null,null,null,null,null,null,null,null,null,null,null,{"$f":"SUM(B2:O2)","v":0},{"$f":"SUM(B2:O2)*100/SUM(B2:O9)","v":{"$error":"#DIV/0!"}},null,"здоровье",{"$f":"SUM(P2,P11,P20,P29,P38,P47,P56,P65,P74,P83,P92,P101,P110,P119,P128,P137,P146,P155,P164,P173,P182,P191,P200,P209,P218,P227,P236,P245,P254,P263,P272,P281,P290,P299,P308,P317,P326,P335,P344,P353,P362,P371,P380,P389,P398,P407,P416,P425,P434,P443,P452,P461,P470)*100/SUM(P:P)","v":{"$error":"#DIV/0!"}}]
["быт",null,null,null,null,null,null,null,null,null,null,null,null,null,null,0,{"$f":"SUM(B3:O3)*100/SUM(B2:O9)","v":{"$error":"#DIV/0!"}},null,"быт",{"$error":"#DIV/0!"}]
["близкие",null,null,null,null,null,null,null,null,null,null,null,null,null,null,0,{"$f":"SUM(B4:O4)*100/SUM(B2:O9)","v":{"$error":"#DIV/0!"}},null,"близкие",{"$error":"#DIV/0!"}]
["общество",null,null,null,null,null,null,null,null,null,null,null,null,null,null,0,{"$f":"SUM(B5:O5)*100/SUM(B2:O9)","v":{"$error":"#DIV/0!"}},null,"общество",{"$error":"#DIV/0!"}]
["игра",null,null,null,null,null,null,null,null,null,null,null,null,null,null,0,{"$f":"SUM(B6:O6)*100/SUM(B2:O9)","v":{"$error":"#DIV/0!"}},null,"игра",{"$error":"#DIV/0!"}]
["учёба",null,null,null,null,null,null,null,null,null,null,null,null,null,null,0,{"$f":"SUM(B7:O7)*100/SUM(B2:O9)","v":{"$error":"#DIV/0!"}},null,"учёба",{"$error":"#DIV/0!"}]
["труд",null,null,null,null,null,null,null,null,null,null,null,null,null,null,0,{"$f":"SUM(B8:O8)*100/SUM(B2:O9)","v":{"$error":"#DIV/0!"}},null,"труд",{"$error":"#DIV/0!"}]
["признание",null,null,null,null,null,null,null,null,null,null,null,null,null,null,0,{"$f":"SUM(B9:O9)*100/SUM(B2:O9)","v":{"$error":"#DIV/0!"}},null,"признание",{"$error":"#DIV/0!"}]
[null,{"$f":"N1+1","v":"2019-01-07"},null,{"$f":"B10+1","v":"2019-01-08"},null,{"$f":"D10+1","v":"2019-01-09"},null,{"$f":"F10+1","v":"2019-01-10"},null,{"$f":"H10+1","v":"2019-01-11"},null,{"$f":"J10+1","v":"2019-01-12"},null,{"$f":"L10+1","v":"2019-01-13"}]
["здоровье",null,null,null,null,null,null,null,null,null,null,null,null,null,null,{"$f":"SUM(B11:O11)","v":0},{"$f":"SUM(B11:O11)*100/SUM(B11:O18)","v":{"$error":"#DIV/0!"}}]
["быт",null,null,null,null,null,null,null,null,null,null,null,null,null,null,0,{"$f":"SUM(B12:O12)*100/SUM(B11:O18)","v":{"$error":"#DIV/0!"}}]
["близкие",null,null,null,null,null,null,null,null,null,null,null,null,null,null,0,{"$f":"SUM(B13:O13)*100/SUM(B11:O18)","v":{"$error":"#DIV/0!"}}]
["общество",null,null,null,null,null,null,null,null,null,null,null,null,null,null,0,{"$f":"SUM(B14:O14)*100/SUM(B11:O18)","v":{"$error":"#DIV/0!"}}]
["игра",null,null,null,null,null,null,null,null,null,null,null,null,null,null,0,{"$f":"SUM(B15:O15)*100/SUM(B11:O18)","v":{"$error":"#DIV/0!"}}]
["учёба",null,null,null,null,null,null,null,null,null,null,null,null,null,null,0,{"$f":"SUM(B16:O16)*100/SUM(B11:O18)","v":{"$error":"#DIV/0!"}}]
["труд",null,null,null,null,null,null,null,null,null,null,null,null,null,null,0,{"$f":"SUM(B17:O17)*100/SUM(B11:O18)","v":{"$error":"#DIV/0!"}}]
["признание",null,null,null,null,null,null,null,null,null,null,null,null,null,null,0,{"$f":"SUM(B18:O18)*100/SUM(B11:O18)","v":{"$error":"#DIV/0!"}}]
[null,{"$f":"N10+1","v":"2019-01-14"},null,{"$f":"B19+1","v":"2019-01-15"},null,{"$f":"D19+1","v":"2019-01-16"},null,{"$f":"F19+1","v":"2019-01-17"},null,{"$f":"H19+1","v":"2019-01-18"},null,{"$f":"J19+1","v":"2019-01-19"},null,{"$f":"L19+1","v":"2019-01-20"}]
["здоровье",null,null,null,null,null,null,null,null,null,null,null,null,null,null,{"$f":"SUM(B20:O20)","v":0},{"$f":"SUM(B20:O20)*100/SUM(B20:O27)","v":{"$error":"#DIV/0!"}}]
["быт",null,null,null,null,null,null,null,null,null,null,null,null,null,null,0,{"$f":"SUM(B21:O21)*100/SUM(B20:O27)","v":{"$error":"#DIV/0!"}}]
["близкие",null,null,null,null,null,null,null,null,null,null,null,null,null,null,0,{"$f":"SUM(B22:O22)*100/SUM(B20:O27)","v":{"$error":"#DIV/0!"}}]
["общество",null,null,null,null,null,null,null,null,null,null,null,null,null,null,0,{"$f":"SUM(B23:O23)*100/SUM(B20:O27)","v":{"$error":"#DIV/0!"}}]
["игра",null,null,null,null,null,null,null,null,null,null,null,null,null,null,0,{"$f":"SUM(B24:O24)*100/SUM(B20:O27)","v":{"$error":"#DIV/0!"}}]
["учёба",null,null,null,null,null,null,null,null,null,null,null,null,null,null,0,{"$f":"SUM(B25:O25)*100/SUM(B20:O27)","v":{"$error":"#DIV/0!"}}]
["труд",null,null,null,null,null,null,null,null,null,null,null,null,null,null,0,{"$f":"SUM(B26:O26)*100/SUM(B20:O27)","v":{"$error":"#DIV/0!"}}]
["признание",null,null,null,null,null,null,null,null,null,null,null,null,null,null,0,{"$f":"SUM(B27:O27)*100/SUM(B20:O27)","v":{"$error":"#DIV/0!"}}]
[null,{"$f":"N19+1","v":"2019-01-21"},null,{"$f":"B28+1","v":"2019-01-22"},null,{"$f":"D28+1","v":"2019-01-23"},null,{"$f":"F28+1","v":"2019-01-24"},null,{"$f":"H28+1","v":"2019-01-25"},null,{"$f":"J28+1","v":"2019-01-26"},null,{"$f":"L28+1","v":"2019-01-27"}]
["здоровье",null,null,null,null,null,null,null,null,null,null,null,null,null,null,{"$f":"SUM(B29:O29)","v":0},{"$f":"SUM(B29:O29)*100/SUM(B29:O36)","v":{"$error":"#DIV/0!"}}]
["быт",null,null,null,null,null,null,null,null,null,null,null,null,null,null,0,{"$f":"SUM(B30:O30)*100/SUM(B29:O36)","v":{"$error":"#DIV/0!"}}]
["близкие",null,null,null,null,null,null,null,null,null,null,null,null,null,null,0,{"$f":"SUM(B31:O31)*100/SUM(B29:O36)","v":{"$error":"#DIV/0!"}}]
["общество",null,null,null,null,null,null,null,null,null,null,null,null,null,null,0,{"$f":"SUM(B32:O32)*100/SUM(B29:O36)","v":{"$error":"#DIV/0!"}}]
["игра",null,null,null,null,null,null,null,null,null,null,null,null,null,null,0,{"$f":"SUM(B33:O33)*100/SUM(B29:O36)","v":{"$error":"#DIV/0!"}}]
["учёба",null,null,null,null,null,null,null,null,null,null,null,null,null,null,0,{"$f":"SUM(B34:O34)*100/SUM(B29:O36)","v":{"$error":"#DIV/0!"}}]
["труд",null,null,null,null,null,null,null,null,null,null,null,null,null,null,0,{"$f":"SUM(B35:O35)*100/SUM(B29:O36)","v":{"$error":"#DIV/0!"}}]
["признание",null,null,null,null,null,null,null,null,null,null,null,null,null,null,0,{"$f":"SUM(B36:O36)*100/SUM(B29:O36)","v":{"$error":"#DIV/0!"}}]
[null,{"$f":"N28+1","v":"2019-01-28"},null,{"$f":"B37+1","v":"2019-01-29"},null,{"$f":"D37+1","v":"2019-01-30"},null,{"$f":"F37+1","v":"2019-01-31"},null,{"$f":"H37+1","v":"2019-02-01"},null,{"$f":"J37+1","v":"2019-02-02"},null,{"$f":"L37+1","v":"2019-02-03"}]
["здоровье",null,null,null,null,null,null,null,null,null,null,null,null,null,null,{"$f":"SUM(B38:O38)","v":0},{"$f":"SUM(B38:O38)*100/SUM(B38:O45)","v":{"$error":"#DIV/0!"}}]
["быт",null,null,null,null,null,null,null,null,null,null,null,null,null,null,0,{"$f":"SUM(B39:O39)*100/SUM(B38:O45)","v":{"$error":"#DIV/0!"}}]
["близкие",null,null,null,null,null,null,null,null,null,null,null,null,null,null,0,{"$f":"SUM(B40:O40)*100/SUM(B38:O45)","v":{"$error":"#DIV/0!"}}]
["общество",null,null,null,null,null,null,null,null,null,null,null,null,null,null,0,{"$f":"SUM(B41:O41)*100/SUM(B38:O45)","v":{"$error":"#DIV/0!"}}]
["игра",null,null,null,null,null,null,null,null,null,null,null,null,null,null,0,{"$f":"SUM(B42:O42)*100/SUM(B38:O45)","v":{"$error":"#DIV/0!"}}]
["учёба",null,null,null,null,null,null,null,null,null,null,null,null,null,null,0,{"$f":"SUM(B43:O43)*100/SUM(B38:O45)","v":{"$error":"#DIV/0!"}}]
["труд",null,null,null,null,null,null,null,null,null,null,null,null,null,null,0,{"$f":"SUM(B44:O44)*100/SUM(B38:O45)","v":{"$error":"#DIV/0!"}}]
["признание",null,null,null,null,null,null,null,null,null,null,null,null,null,null,0,{"$f":"SUM(B45:O45)*100/SUM(B38:O45)","v":{"$error":"#DIV/0!"}}]
[null,{"$f":"N37+1","v":"2019-02-04"},null,{"$f":"B46+1","v":"2019-02-05"},null,{"$f":"D46+1","v":"2019-02-06"},null,{"$f":"F46+1","v":"2019-02-07"},null,{"$f":"H46+1","v":"2019-02-08"},null,{"$f":"J46+1","v":"2019-02-09"},null,{"$f":"L46+1","v":"2019-02-10"}]
["здоровье",null,null,null,null,null,null,null,null,null,null,null,null,null,null,{"$f":"SUM(B47:O47)","v":0},{"$f":"SUM(B47:O47)*100/SUM(B47:O54)","v":{"$error":"#DIV/0!"}}]
["быт",null,null,null,null,null,null,null,null,null,null,null,null,null,null,0,{"$f":"SUM(B48:O48)*100/SUM(B47:O54)","v":{"$error":"#DIV/0!"}}]
["близкие",null,null,null,null,null,null,null,null,null,null,null,null,null,null,0,{"$f":"SUM(B49:O49)*100/SUM(B47:O54)","v":{"$error":"#DIV/0!"}}]
["общество",null,null,null,null,null,null,null,null,null,null,null,null,null,null,0,{"$f":"SUM(B50:O50)*100/SUM(B47:O54)","v":{"$error":"#DIV/0!"}}]
["игра",null,null,null,null,null,null,null,null,null,null,null,null,null,null,0,{"$f":"SUM(B51:O51)*100/SUM(B47:O54)","v":{"$error":"#DIV/0!"}}]
["учёба",null,null,null,null,null,null,null,null,null,null,null,null,null,null,0,{"$f":"SUM(B52:O52)*100/SUM(B47:O54)","v":{"$error":"#DIV/0!"}}]
["труд",null,null,null,null,null,null,null,null,null,null,null,null,null,null,0,{"$f":"SUM(B53:O53)*100/SUM(B47:O54)","v":{"$error":"#DIV/0!"}}]
["признание",null,null,null,null,null,null,null,null,null,null,null,null,null,null,0,{"$f":"SUM(B54:O54)*100/SUM(B47:O54)","v":{"$error":"#DIV/0!"}}]
[null,{"$f":"N46+1","v":"2019-02-11"},null,{"$f":"B55+1","v":"2019-02-12"},null,{"$f":"D55+1","v":"2019-02-13"},null,{"$f":"F55+1","v":"2019-02-14"},null,{"$f":"H55+1","v":"2019-02-15"},null,{"$f":"J55+1","v":"2019-02-16"},null,{"$f":"L55+1","v":"2019-02-17"}]
["здоровье",null,null,null,null,null,null,null,null,null,null,null,null,null,null,{"$f":"SUM(B56:O56)","v":0},{"$f":"SUM(B56:O56)*100/SUM(B56:O63)","v":{"$error":"#DIV/0!"}}]
["быт",null,null,null,null,null,null,null,null,null,null,null,null,null,null,0,{"$f":"SUM(B57:O57)*100/SUM(B56:O63)","v":{"$error":"#DIV/0!"}}]
["близкие",null,null,null,null,null,null,null,null,null,null,null,null,null,null,0,{"$f":"SUM(B58:O58)*100/SUM(B56:O63)","v":{"$error":"#DIV/0!"}}]
["общество",null,null,null,null,null,null,null,null,null,null,null,null,null,null,0,{"$f":"SUM(B59:O59)*100/SUM(B56:O63)","v":{"$error":"#DIV/0!"}}]
["игра",null,null,null,null,null,null,null,null,null,null,null,null,null,null,0,{"$f":"SUM(B60:O60)*100/SUM(B56:O63)","v":{"$error":"#DIV/0!"}}]
["учёба",null,null,null,null,null,null,null,null,null,null,null,null,null,null,0,{"$f":"SUM(B61:O61)*100/SUM(B56:O63)","v":{"$error":"#DIV/0!"}}]
["труд",null,null,null,null,null,null,null,null,null,null,null,null,null,null,0,{"$f":"SUM(B62:O62)*100/SUM(B56:O63)","v":{"$error":"#DIV/0!"}}]
["признание",null,null,null,null,null,null,null,null,null,null,null,null,null,null,0,{"$f":"SUM(B63:O63)*100/SUM(B56:O63)","v":{"$error":"#DIV/0!"}}]
[null,{"$f":"N55+1","v":"2019-02-18"},null,{"$f":"B64+1","v":"2019-02-19"},null,{"$f":"D64+1","v":"2019-02-20"},null,{"$f":"F64+1","v":"2019-02-21"},null,{"$f":"H64+1","v":"2019-02-22"},null,{"$f":"J64+1","v":"2019-02-23"},null,{"$f":"L64+1","v":"2019-02-24"}]
["здоровье",null,null,null,null,null,null,null,null,null,null,null,null,null,null,{"$f":"SUM(B65:O65)","v":0},{"$f":"SUM(B65:O65)*100/SUM(B65:O72)","v":{"$error":"#DIV/0!"}}]
["быт",null,null,null,null,null,null,null,null,null,null,null,null,null,null,0,{"$f":"SUM(B66:O66)*100/SUM(B65:O72)","v":{"$error":"#DIV/0!"}}]
["близкие",null,null,null,null,null,null,null,null,null,null,null,null,null,null,0,{"$f":"SUM(B67:O67)*100/SUM(B65:O72)","v":{"$error":"#DIV/0!"}}]
["общество",null,null,null,null,null,null,null,null,null,null,null,null,null,null,0,{"$f":"SUM(B68:O68)*100/SUM(B65:O72)","v":{"$error":"#DIV/0!"}}]
["игра",null,null,null,null,null,null,null,null,null,null,null,null,null,null,0,{"$f":"SUM(B69:O69)*100/SUM(B65:O72)","v":{"$error":"#DIV/0!"}}]
["учёба",null,null,null,null,null,null,null,null,null,null,null,null,null,null,0,{"$f":"SUM(B70:O70)*100/SUM(B65:O72)","v":{"$error":"#DIV/0!"}}]
["труд",null,null,null,null,null,null,null,null,null,null,null,null,null,null,0,{"$f":"SUM(B71:O71)*100/SUM(B65:O72)","v":{"$error":"#DIV/0!"}}]
["признание",null,null,null,null,null,null,null,null,null,null,null,null,null,null,0,{"$f":"SUM(B72:O72)*100/SUM(B65:O72)","v":{"$error":"#DIV/0!"}}]
[null,{"$f":"N64+1","v":"2019-02-25"},null,{"$f":"B73+1","v":"2019-02-26"},null,{"$f":"D73+1","v":"2019-02-27"},null,{"$f":"F73+1","v":"2019-02-28"},null,{"$f":"H73+1","v":"2019-03-01"},null,{"$f":"J73+1","v":"2019-03-02"},null,{"$f":"L73+1","v":"2019-03-03"}]
["здоровье",null,null,null,null,null,null,null,null,null,null,null,null,null,null,{"$f":"SUM(B74:O74)","v":0},{"$f":"SUM(B74:O74)*100/SUM(B74:O81)","v":{"$error":"#DIV/0!"}}]
["быт",null,null,null,null,null,null,null,null,null,null,null,null,null,null,0,{"$f":"SUM(B75:O75)*100/SUM(B74:O81)","v":{"$error":"#DIV/0!"}}]
["близкие",null,null,null,null,null,null,null,null,null,null,null,null,null,null,0,{"$f":"SUM(B76:O76)*100/SUM(B74:O81)","v":{"$error":"#DIV/0!"}}]
["общество",null,null,null,null,null,null,null,null,null,null,null,null,null,null,0,{"$f":"SUM(B77:O77)*100/SUM(B74:O81)","v":{"$error":"#DIV/0!"}}]
["игра",null,null,null,null,null,null,null,null,null,null,null,null,null,null,0,{"$f":"SUM(B78:O78)*100/SUM(B74:O81)","v":{"$error":"#DIV/0!"}}]
["учёба",null,null,null,null,null,null,null,null,null,null,null,null,null,null,0,{"$f":"SUM(B79:O79)*100/SUM(B74:O81)","v":{"$error":"#DIV/0!"}}]
["труд",null,null,null,null,null,null,null,null,null,null,null,null,null,null,0,{"$f":"SUM(B80:O80)*100/SUM(B74:O81)","v":{"$error":"#DIV/0!"}}]
["признание",null,null,null,null,null,null,null,null,null,null,null,null,null,null,0,{"$f":"SUM(B81:O81)*100/SUM(B74:O81)","v":{"$error":"#DIV/0!"}}]
[null,{"$f":"N73+1","v":"2019-03-04"},null,{"$f":"B82+1","v":"2019-03-05"},null,{"$f":"D82+1","v":"2019-03-06"},null,{"$f":"F82+1","v":"2019-03-07"},null,{"$f":"H82+1","v":"2019-03-08"},null,{"$f":"J82+1","v":"2019-03-09"},null,{"$f":"L82+1","v":"2019-03-10"}]
["здоровье",null,null,null,null,null,null,null,null,null,null,null,null,null,null,{"$f":"SUM(B83:O83)","v":0},{"$f":"SUM(B83:O83)*100/SUM(B83:O90)","v":{"$error":"#DIV/0!"}}]
["быт",null,null,null,null,null,null,null,null,null,null,null,null,null,null,0,{"$f":"SUM(B84:O84)*100/SUM(B83:O90)","v":{"$error":"#DIV/0!"}}]
["близкие",null,null,null,null,null,null,null,null,null,null,null,null,null,null,0,{"$f":"SUM(B85:O85)*100/SUM(B83:O90)","v":{"$error":"#DIV/0!"}}]
["общество",null,null,null,null,null,null,null,null,null,null,null,null,null,null,0,{"$f":"SUM(B86:O86)*100/SUM(B83:O90)","v":{"$error":"#DIV/0!"}}]
["игра",null,null,null,null,null,null,null,null,null,null,null,null,null,null,0,{"$f":"SUM(B87:O87)*100/SUM(B83:O90)","v":{"$error":"#DIV/0!"}}]
["учёба",null,null,null,null,null,null,null,null,null,null,null,null,null,null,0,{"$f":"SUM(B88:O88)*100/SUM(B83:O90)","v":{"$error":"#DIV/0!"}}]
["труд",null,null,null,null,null,null,null,null,null,null,null,null,null,null,0,{"$f":"SUM(B89:O89)*100/SUM(B83:O90)","v":{"$error":"#DIV/0!"}}]
["признание",null,null,null,null,null,null,null,null,null,null,null,null,null,null,0,{"$f":"SUM(B90:O90)*100/SUM(B83:O90)","v":{"$error":"#DIV/0!"}}]
[null,{"$f":"N82+1","v":"2019-03-11"},null,{"$f":"B91+1","v":"2019-03-12"},null,{"$f":"D91+1","v":"2019-03-13"},null,{"$f":"F91+1","v":"2019-03-14"},null,{"$f":"H91+1","v":"2019-03-15"},null,{"$f":"J91+1","v":"2019-03-16"},null,{"$f":"L91+1","v":"2019-03-17"}]
["здоровье",null,null,null,null,null,null,null,null,null,null,null,null,null,null,{"$f":"SUM(B92:O92)","v":0},{"$f":"SUM(B92:O92)*100/SUM(B92:O99)","v":{"$error":"#DIV/0!"}}]
["быт",null,null,null,null,null,null,null,null,null,null,null,null,null,null,0,{"$f":"SUM(B93:O93)*100/SUM(B92:O99)","v":{"$error":"#DIV/0!"}}]
["близкие",null,null,null,null,null,null,null,null,null,null,null,null,null,null,0,{"$f":"SUM(B94:O94)*100/SUM(B92:O99)","v":{"$error":"#DIV/0!"}}]
["общество",null,null,null,null,null,null,null,null,null,null,null,null,null,null,0,{"$f":"SUM(B95:O95)*100/SUM(B92:O99)","v":{"$error":"#DIV/0!"}}]
["игра",null,null,null,null,null,null,null,null,null,null,null,null,null,null,0,{"$f":"SUM(B96:O96)*100/SUM(B92:O99)","v":{"$error":"#DIV/0!"}}]
["учёба",null,null,null,null,null,null,null,null,null,null,null,null,null,null,0,{"$f":"SUM(B97:O97)*100/SUM(B92:O99)","v":{"$error":"#DIV/0!"}}]
["труд",null,null,null,null,null,null,null,null,null,null,null,null,null,null,0,{"$f":"SUM(B98:O98)*100/SUM(B92:O99)","v":{"$error":"#DIV/0!"}}]
["признание",null,null,null,null,null,null,null,null,null,null,null,null,null,null,0,{"$f":"SUM(B99:O99)*100/SUM(B92:O99)","v":{"$error":"#DIV/0!"}}]
[null,{"$f":"N91+1","v":"2019-03-18"},null,{"$f":"B100+1","v":"2019-03-19"},null,{"$f":"D100+1","v":"2019-03-20"},null,{"$f":"F100+1","v":"2019-03-21"},null,{"$f":"H100+1","v":"2019-03-22"},null,{"$f":"J100+1","v":"2019-03-23"},null,{"$f":"L100+1","v":"2019-03-24"}]
["здоровье",null,null,null,null,null,null,null,null,null,null,null,null,null,null,{"$f":"SUM(B101:O101)","v":0},{"$f":"SUM(B101:O101)*100/SUM(B101:O108)","v":{"$error":"#DIV/0!"}}]
["быт",null,null,null,null,null,null,null,null,null,null,null,null,null,null,0,{"$f":"SUM(B102:O102)*100/SUM(B101:O108)","v":{"$error":"#DIV/0!"}}]
["близкие",null,null,null,null,null,null,null,null,null,null,null,null,null,null,0,{"$f":"SUM(B103:O103)*100/SUM(B101:O108)","v":{"$error":"#DIV/0!"}}]
["общество",null,null,null,null,null,null,null,null,null,null,null,null,null,null,0,{"$f":"SUM(B104:O104)*100/SUM(B101:O108)","v":{"$error":"#DIV/0!"}}]
["игра",null,null,null,null,null,null,null,null,null,null,null,null,null,null,0,{"$f":"SUM(B105:O105)*100/SUM(B101:O108)","v":{"$error":"#DIV/0!"}}]
["учёба",null,null,null,null,null,null,null,null,null,null,null,null,null,null,0,{"$f":"SUM(B106:O106)*100/SUM(B101:O108)","v":{"$error":"#DIV/0!"}}]
["труд",null,null,null,null,null,null,null,null,null,null,null,null,null,null,0,{"$f":"SUM(B107:O107)*100/SUM(B101:O108)","v":{"$error":"#DIV/0!"}}]
["признание",null,null,null,null,null,null,null,null,null,null,null,null,null,null,0,{"$f":"SUM(B108:O108)*100/SUM(B101:O108)","v":{"$error":"#DIV/0!"}}]
[null,{"$f":"N100+1","v":"2019-03-25"},null,{"$f":"B109+1","v":"2019-03-26"},null,{"$f":"D109+1","v":"2019-03-27"},null,{"$f":"F109+1","v":"2019-03-28"},null,{"$f":"H109+1","v":"2019-03-29"},null,{"$f":"J109+1","v":"2019-03-30"},null,{"$f":"L109+1","v":"2019-03-31"}]
["здоровье",null,null,null,null,null,null,null,null,null,null,null,null,null,null,{"$f":"SUM(B110:O110)","v":0},{"$f":"SUM(B110:O110)*100/SUM(B110:O117)","v":{"$error":"#DIV/0!"}}]
["быт",null,null,null,null,null,null,null,null,null,null,null,null,null,null,0,{"$f":"SUM(B111:O111)*100/SUM(B110:O117)","v":{"$error":"#DIV/0!"}}]
["близкие",null,null,null,null,null,null,null,null,null,null,null,null,null,null,0,{"$f":"SUM(B112:O112)*100/SUM(B110:O117)","v":{"$error":"#DIV/0!"}}]
["общество",null,null,null,null,null,null,null,null,null,null,null,null,null,null,0,{"$f":"SUM(B113:O113)*100/SUM(B110:O117)","v":{"$error":"#DIV/0!"}}]
["игра",null,null,null,null,null,null,null,null,null,null,null,null,null,null,0,{"$f":"SUM(B114:O114)*100/SUM(B110:O117)","v":{"$error":"#DIV/0!"}}]
["учёба",null,null,null,null,null,null,null,null,null,null,null,null,null,null,0,{"$f":"SUM(B115:O115)*100/SUM(B110:O117)","v":{"$error":"#DIV/0!"}}]
["труд",null,null,null,null,null,null,null,null,null,null,null,null,null,null,0,{"$f":"SUM(B116:O116)*100/SUM(B110:O117)","v":{"$error":"#DIV/0!"}}]
["признание",null,null,null,null,null,null,null,null,null,null,null,null,null,null,0,{"$f":"SUM(B117:O117)*100/SUM(B110:O117)","v":{"$error":"#DIV/0!"}}]
[null,{"$f":"N109+1","v":"2019-04-01"},null,{"$f":"B118+1","v":"2019-04-02"},null,{"$f":"D118+1","v":"2019-04-03"},null,{"$f":"F118+1","v":"2019-04-04"},null,{"$f":"H118+1","v":"2019-04-05"},null,{"$f":"J118+1","v":"2019-04-06"},null,{"$f":"L118+1","v":"2019-04-07"}]
["здоровье",null,null,null,null,null,null,null,null,null,null,null,null,null,null,{"$f":"SUM(B119:O119)","v":0},{"$f":"SUM(B119:O119)*100/SUM(B119:O126)","v":{"$error":"#DIV/0!"}}]
["быт",null,null,null,null,null,null,null,null,null,null,null,null,null,null,0,{"$f":"SUM(B120:O120)*100/SUM(B119:O126)","v":{"$error":"#DIV/0!"}}]
["близкие",null,null,null,null,null,null,null,null,null,null,null,null,null,null,0,{"$f":"SUM(B121:O121)*100/SUM(B119:O126)","v":{"$error":"#DIV/0!"}}]
["общество",null,null,null,null,null,null,null,null,null,null,null,null,null,null,0,{"$f":"SUM(B122:O122)*100/SUM(B119:O126)","v":{"$error":"#DIV/0!"}}]
["игра",null,null,null,null,null,null,null,null,null,null,null,null,null,null,0,{"$f":"SUM(B123:O123)*100/SUM(B119:O126)","v":{"$error":"#DIV/0!"}}]
["учёба",null,null,null,null,null,null,null,null,null,null,null,null,null,null,0,{"$f":"SUM(B124:O124)*100/SUM(B119:O126)","v":{"$error":"#DIV/0!"}}]
["труд",null,null,null,null,null,null,null,null,null,null,null,null,null,null,0,{"$f":"SUM(B125:O125)*100/SUM(B119:O126)","v":{"$error":"#DIV/0!"}}]
["признание",null,null,null,null,null,null,null,null,null,null,null,null,null,null,0,{"$f":"SUM(B126:O126)*100/SUM(B119:O126)","v":{"$error":"#DIV/0!"}}]
[null,{"$f":"N118+1","v":"2019-04-08"},null,{"$f":"B127+1","v":"2019-04-09"},null,{"$f":"D127+1","v":"2019-04-10"},null,{"$f":"F127+1","v":"2019-04-11"},null,{"$f":"H127+1","v":"2019-04-12"},null,{"$f":"J127+1","v":"2019-04-13"},null,{"$f":"L127+1","v":"2019-04-14"}]
["здоровье",null,null,null,null,null,null,null,null,null,null,null,null,null,null,{"$f":"SUM(B128:O128)","v":0},{"$f":"SUM(B128:O128)*100/SUM(B128:O135)","v":{"$error":"#DIV/0!"}}]
["быт",null,null,null,null,null,null,null,null,null,null,null,null,null,null,0,{"$f":"SUM(B129:O129)*100/SUM(B128:O135)","v":{"$error":"#DIV/0!"}}]
["близкие",null,null,null,null,null,null,null,null,null,null,null,null,null,null,0,{"$f":"SUM(B130:O130)*100/SUM(B128:O135)","v":{"$error":"#DIV/0!"}}]
["общество",null,null,null,null,null,null,null,null,null,null,null,null,null,null,0,{"$f":"SUM(B131:O131)*100/SUM(B128:O135)","v":{"$error":"#DIV/0!"}}]
["игра",null,null,null,null,null,null,null,null,null,null,null,null,null,null,0,{"$f":"SUM(B132:O132)*100/SUM(B128:O135)","v":{"$error":"#DIV/0!"}}]
["учёба",null,null,null,null,null,null,null,null,null,null,null,null,null,null,0,{"$f":"SUM(B133:O133)*100/SUM(B128:O135)","v":{"$error":"#DIV/0!"}}]
["труд",null,null,null,null,null,null,null,null,null,null,null,null,null,null,0,{"$f":"SUM(B134:O134)*100/SUM(B128:O135)","v":{"$error":"#DIV/0!"}}]
["признание",null,null,null,null,null,null,null,null,null,null,null,null,null,null,0,{"$f":"SUM(B135:O135)*100/SUM(B128:O135)","v":{"$error":"#DIV/0!"}}]
[null,{"$f":"N127+1","v":"2019-04-15"},null,{"$f":"B136+1","v":"2019-04-16"},null,{"$f":"D136+1","v":"2019-04-17"},null,{"$f":"F136+1","v":"2019-04-18"},null,{"$f":"H136+1","v":"2019-04-19"},null,{"$f":"J136+1","v":"2019-04-20"},null,{"$f":"L136+1","v":"2019-04-21"}]
["здоровье",null,null,null,null,null,null,null,null,null,null,null,null,null,null,{"$f":"SUM(B137:O137)","v":0},{"$f":"SUM(B137:O137)*100/SUM(B137:O144)","v":{"$error":"#DIV/0!"}}]
["быт",null,null,null,null,null,null,null,null,null,null,null,null,null,null,0,{"$f":"SUM(B138:O138)*100/SUM(B137:O144)","v":{"$error":"#DIV/0!"}}]
["близкие",null,null,null,null,null,null,null,null,null,null,null,null,null,null,0,{"$f":"SUM(B139:O139)*100/SUM(B137:O144)","v":{"$error":"#DIV/0!"}}]
["общество",null,null,null,null,null,null,null,null,null,null,null,null,null,null,0,{"$f":"SUM(B140:O140)*100/SUM(B137:O144)","v":{"$error":"#DIV/0!"}}]
["игра",null,null,null,null,null,null,null,null,null,null,null,null,null,null,0,{"$f":"SUM(B141:O141)*100/SUM(B137:O144)","v":{"$error":"#DIV/0!"}}]
["учёба",null,null,null,null,null,null,null,null,null,null,null,null,null,null,0,{"$f":"SUM(B142:O142)*100/SUM(B137:O144)","v":{"$error":"#DIV/0!"}}]
["труд",null,null,null,null,null,null,null,null,null,null,null,null,null,null,0,{"$f":"SUM(B143:O143)*100/SUM(B137:O144)","v":{"$error":"#DIV/0!"}}]
["признание",null,null,null,null,null,null,null,null,null,null,null,null,null,null,0,{"$f":"SUM(B144:O144)*100/SUM(B137:O144)","v":{"$error":"#DIV/0!"}}]
[null,{"$f":"N136+1","v":"2019-04-22"},null,{"$f":"B145+1","v":"2019-04-23"},null,{"$f":"D145+1","v":"2019-04-24"},null,{"$f":"F145+1","v":"2019-04-25"},null,{"$f":"H145+1","v":"2019-04-26"},null,{"$f":"J145+1","v":"2019-04-27"},null,{"$f":"L145+1","v":"2019-04-28"}]
["здоровье",null,null,null,null,null,null,null,null,null,null,null,null,null,null,{"$f":"SUM(B146:O146)","v":0},{"$f":"SUM(B146:O146)*100/SUM(B146:O153)","v":{"$error":"#DIV/0!"}}]
["быт",null,null,null,null,null,null,null,null,null,null,null,null,null,null,0,{"$f":"SUM(B147:O147)*100/SUM(B146:O153)","v":{"$error":"#DIV/0!"}}]
["близкие",null,null,null,null,null,null,null,null,null,null,null,null,null,null,0,{"$f":"SUM(B148:O148)*100/SUM(B146:O153)","v":{"$error":"#DIV/0!"}}]
["общество",null,null,null,null,null,null,null,null,null,null,null,null,null,null,0,{"$f":"SUM(B149:O149)*100/SUM(B146:O153)","v":{"$error":"#DIV/0!"}}]
["игра",null,null,null,null,null,null,null,null,null,null,null,null,null,null,0,{"$f":"SUM(B150:O150)*100/SUM(B146:O153)","v":{"$error":"#DIV/0!"}}]
["учёба",null,null,null,null,null,null,null,null,null,null,null,null,null,null,0,{"$f":"SUM(B151:O151)*100/SUM(B146:O153)","v":{"$error":"#DIV/0!"}}]
["труд",null,null,null,null,null,null,null,null,null,null,null,null,null,null,0,{"$f":"SUM(B152:O152)*100/SUM(B146:O153)","v":{"$error":"#DIV/0!"}}]
["признание",null,null,null,null,null,null,null,null,null,null,null,null,null,null,0,{"$f":"SUM(B153:O153)*100/SUM(B146:O153)","v":{"$error":"#DIV/0!"}}]
[null,{"$f":"N145+1","v":"2019-04-29"},null,{"$f":"B154+1","v":"2019-04-30"},null,{"$f":"D154+1","v":"2019-05-01"},null,{"$f":"F154+1","v":"2019-05-02"},null,{"$f":"H154+1","v":"2019-05-03"},null,{"$f":"J154+1","v":"2019-05-04"},null,{"$f":"L154+1","v":"2019-05-05"}]
["здоровье",null,null,null,null,null,null,null,null,null,null,null,null,null,null,{"$f":"SUM(B155:O155)","v":0},{"$f":"SUM(B155:O155)*100/SUM(B155:O162)","v":{"$error":"#DIV/0!"}}]
["быт",null,null,null,null,null,null,null,null,null,null,null,null,null,null,0,{"$f":"SUM(B156:O156)*100/SUM(B155:O162)","v":{"$error":"#DIV/0!"}}]
["близкие",null,null,null,null,null,null,null,null,null,null,null,null,null,null,0,{"$f":"SUM(B157:O157)*100/SUM(B155:O162)","v":{"$error":"#DIV/0!"}}]
["общество",null,null,null,null,null,null,null,null,null,null,null,null,null,null,0,{"$f":"SUM(B158:O158)*100/SUM(B155:O162)","v":{"$error":"#DIV/0!"}}]
["игра",null,null,null,null,null,null,null,null,null,null,null,null,null,null,0,{"$f":"SUM(B159:O159)*100/SUM(B155:O162)","v":{"$error":"#DIV/0!"}}]
["учёба",null,null,null,null,null,null,null,null,null,null,null,null,null,null,0,{"$f":"SUM(B160:O160)*100/SUM(B155:O162)","v":{"$error":"#DIV/0!"}}]
["труд",null,null,null,null,null,null,null,null,null,null,null,null,null,null,0,{"$f":"SUM(B161:O161)*100/SUM(B155:O162)","v":{"$error":"#DIV/0!"}}]
["признание",null,null,null,null,null,null,null,null,null,null,null,null,null,null,0,{"$f":"SUM(B162:O162)*100/SUM(B155:O162)","v":{"$error":"#DIV/0!"}}]
[null,{"$f":"N154+1","v":"2019-05-06"},null,{"$f":"B163+1","v":"2019-05-07"},null,{"$f":"D163+1","v":"2019-05-08"},null,{"$f":"F163+1","v":"2019-05-09"},null,{"$f":"H163+1","v":"2019-05-10"},null,{"$f":"J163+1","v":"2019-05-11"},null,{"$f":"L163+1","v":"2019-05-12"}]
["здоровье",null,null,null,null,null,null,null,null,null,null,null,null,null,null,{"$f":"SUM(B164:O164)","v":0},{"$f":"SUM(B164:O164)*100/SUM(B164:O171)","v":{"$error":"#DIV/0!"}}]
["быт",null,null,null,null,null,null,null,null,null,null,null,null,null,null,0,{"$f":"SUM(B165:O165)*100/SUM(B164:O171)","v":{"$error":"#DIV/0!"}}]
["близкие",null,null,null,null,null,null,null,null,null,null,null,null,null,null,0,{"$f":"SUM(B166:O166)*100/SUM(B164:O171)","v":{"$error":"#DIV/0!"}}]
["общество",null,null,null,null,null,null,null,null,null,null,null,null,null,null,0,{"$f":"SUM(B167:O167)*100/SUM(B164:O171)","v":{"$error":"#DIV/0!"}}]
["игра",null,null,null,null,null,null,null,null,null,null,null,null,null,null,0,{"$f":"SUM(B168:O168)*100/SUM(B164:O171)","v":{"$error":"#DIV/0!"}}]
["учёба",null,null,null,null,null,null,null,null,null,null,null,null,null,null,0,{"$f":"SUM(B169:O169)*100/SUM(B164:O171)","v":{"$error":"#DIV/0!"}}]
["труд",null,null,null,null,null,null,null,null,null,null,null,null,null,null,0,{"$f":"SUM(B170:O170)*100/SUM(B164:O171)","v":{"$error":"#DIV/0!"}}]
["признание",null,null,null,null,null,null,null,null,null,null,null,null,null,null,0,{"$f":"SUM(B171:O171)*100/SUM(B164:O171)","v":{"$error":"#DIV/0!"}}]
[null,{"$f":"N163+1","v":"2019-05-13"},null,{"$f":"B172+1","v":"2019-05-14"},null,{"$f":"D172+1","v":"2019-05-15"},null,{"$f":"F172+1","v":"2019-05-16"},null,{"$f":"H172+1","v":"2019-05-17"},null,{"$f":"J172+1","v":"2019-05-18"},null,{"$f":"L172+1","v":"2019-05-19"}]
["здоровье",null,null,null,null,null,null,null,null,null,null,null,null,null,null,{"$f":"SUM(B173:O173)","v":0},{"$f":"SUM(B173:O173)*100/SUM(B173:O180)","v":{"$error":"#DIV/0!"}}]
["быт",null,null,null,null,null,null,null,null,null,null,null,null,null,null,0,{"$f":"SUM(B174:O174)*100/SUM(B173:O180)","v":{"$error":"#DIV/0!"}}]
["близкие",null,null,null,null,null,null,null,null,null,null,null,null,null,null,0,{"$f":"SUM(B175:O175)*100/SUM(B173:O180)","v":{"$error":"#DIV/0!"}}]
["общество",null,null,null,null,null,null,null,null,null,null,null,null,null,null,0,{"$f":"SUM(B176:O176)*100/SUM(B173:O180)","v":{"$error":"#DIV/0!"}}]
["игра",null,null,null,null,null,null,null,null,null,null,null,null,null,null,0,{"$f":"SUM(B177:O177)*100/SUM(B173:O180)","v":{"$error":"#DIV/0!"}}]
["учёба",null,null,null,null,null,null,null,null,null,null,null,null,null,null,0,{"$f":"SUM(B178:O178)*100/SUM(B173:O180)","v":{"$error":"#DIV/0!"}}]
["труд",null,null,null,null,null,null,null,null,null,null,null,null,null,null,0,{"$f":"SUM(B179:O179)*100/SUM(B173:O180)","v":{"$error":"#DIV/0!"}}]
["признание",null,null,null,null,null,null,null,null,null,null,null,null,null,null,0,{"$f":"SUM(B180:O180)*100/SUM(B173:O180)","v":{"$error":"#DIV/0!"}}]
[null,{"$f":"N172+1","v":"2019-05-20"},null,{"$f":"B181+1","v":"2019-05-21"},null,{"$f":"D181+1","v":"2019-05-22"},null,{"$f":"F181+1","v":"2019-05-23"},null,{"$f":"H181+1","v":"2019-05-24"},null,{"$f":"J181+1","v":"2019-05-25"},null,{"$f":"L181+1","v":"2019-05-26"}]
["здоровье",null,null,null,null,null,null,null,null,null,null,null,null,null,null,{"$f":"SUM(B182:O182)","v":0},{"$f":"SUM(B182:O182)*100/SUM(B182:O189)","v":{"$error":"#DIV/0!"}}]
["быт",null,null,null,null,null,null,null,null,null,null,null,null,null,null,0,{"$f":"SUM(B183:O183)*100/SUM(B182:O189)","v":{"$error":"#DIV/0!"}}]
["близкие",null,null,null,null,null,null,null,null,null,null,null,null,null,null,0,{"$f":"SUM(B184:O184)*100/SUM(B182:O189)","v":{"$error":"#DIV/0!"}}]
["общество",null,null,null,null,null,null,null,null,null,null,null,null,null,null,0,{"$f":"SUM(B185:O185)*100/SUM(B182:O189)","v":{"$error":"#DIV/0!"}}]
["игра",null,null,null,null,null,null,null,null,null,null,null,null,null,null,0,{"$f":"SUM(B186:O186)*100/SUM(B182:O189)","v":{"$error":"#DIV/0!"}}]
["учёба",null,null,null,null,null,null,null,null,null,null,null,null,null,null,0,{"$f":"SUM(B187:O187)*100/SUM(B182:O189)","v":{"$error":"#DIV/0!"}}]
["труд",null,null,null,null,null,null,null,null,null,null,null,null,null,null,0,{"$f":"SUM(B188:O188)*100/SUM(B182:O189)","v":{"$error":"#DIV/0!"}}]
["признание",null,null,null,null,null,null,null,null,null,null,null,null,null,null,0,{"$f":"SUM(B189:O189)*100/SUM(B182:O189)","v":{"$error":"#DIV/0!"}}]
[null,{"$f":"N181+1","v":"2019-05-27"},null,{"$f":"B190+1","v":"2019-05-28"},null,{"$f":"D190+1","v":"2019-05-29"},null,{"$f":"F190+1","v":"2019-05-30"},null,{"$f":"H190+1","v":"2019-05-31"},null,{"$f":"J190+1","v":"2019-06-01"},null,{"$f":"L190+1","v":"2019-06-02"}]
["здоровье",null,null,null,null,null,null,null,null,null,null,null,null,null,null,{"$f":"SUM(B191:O191)","v":0},{"$f":"SUM(B191:O191)*100/SUM(B191:O198)","v":{"$error":"#DIV/0!"}}]
["быт",null,null,null,null,null,null,null,null,null,null,null,null,null,null,0,{"$f":"SUM(B192:O192)*100/SUM(B191:O198)","v":{"$error":"#DIV/0!"}}]
["близкие",null,null,null,null,null,null,null,null,null,null,null,null,null,null,0,{"$f":"SUM(B193:O193)*100/SUM(B191:O198)","v":{"$error":"#DIV/0!"}}]
["общество",null,null,null,null,null,null,null,null,null,null,null,null,null,null,0,{"$f":"SUM(B194:O194)*100/SUM(B191:O198)","v":{"$error":"#DIV/0!"}}]
["игра",null,null,null,null,null,null,null,null,null,null,null,null,null,null,0,{"$f":"SUM(B195:O195)*100/SUM(B191:O198)","v":{"$error":"#DIV/0!"}}]
["учёба",null,null,null,null,null,null,null,null,null,null,null,null,null,null,0,{"$f":"SUM(B196:O196)*100/SUM(B191:O198)","v":{"$error":"#DIV/0!"}}]
["труд",null,null,null,null,null,null,null,null,null,null,null,null,null,null,0,{"$f":"SUM(B197:O197)*100/SUM(B191:O198)","v":{"$error":"#DIV/0!"}}]
["признание",null,null,null,null,null,null,null,null,null,null,null,null,null,null,0,{"$f":"SUM(B198:O198)*100/SUM(B191:O198)","v":{"$error":"#DIV/0!"}}]
[null,{"$f":"N190+1","v":"2019-06-03"},null,{"$f":"B199+1","v":"2019-06-04"},null,{"$f":"D199+1","v":"2019-06-05"},null,{"$f":"F199+1","v":"2019-06-06"},null,{"$f":"H199+1","v":"2019-06-07"},null,{"$f":"J199+1","v":"2019-06-08"},null,{"$f":"L199+1","v":"2019-06-09"}]
["здоровье",null,null,null,null,null,null,null,null,null,null,null,null,null,null,{"$f":"SUM(B200:O200)","v":0},{"$f":"SUM(B200:O200)*100/SUM(B200:O207)","v":{"$error":"#DIV/0!"}}]
["быт",null,null,null,null,null,null,null,null,null,null,null,null,null,null,0,{"$f":"SUM(B201:O201)*100/SUM(B200:O207)","v":{"$error":"#DIV/0!"}}]
["близкие",null,null,null,null,null,null,null,null,null,null,null,null,null,null,0,{"$f":"SUM(B202:O202)*100/SUM(B200:O207)","v":{"$error":"#DIV/0!"}}]
["общество",null,null,null,null,null,null,null,null,null,null,null,null,null,null,0,{"$f":"SUM(B203:O203)*100/SUM(B200:O207)","v":{"$error":"#DIV/0!"}}]
["игра",null,null,null,null,null,null,null,null,null,null,null,null,null,null,0,{"$f":"SUM(B204:O204)*100/SUM(B200:O207)","v":{"$error":"#DIV/0!"}}]
["учёба",null,null,null,null,null,null,null,null,null,null,null,null,null,null,0,{"$f":"SUM(B205:O205)*100/SUM(B200:O207)","v":{"$error":"#DIV/0!"}}]
["труд",null,null,null,null,null,null,null,null,null,null,null,null,null,null,0,{"$f":"SUM(B206:O206)*100/SUM(B200:O207)","v":{"$error":"#DIV/0!"}}]
["признание",null,null,null,null,null,null,null,null,null,null,null,null,null,null,0,{"$f":"SUM(B207:O207)*100/SUM(B200:O207)","v":{"$error":"#DIV/0!"}}]
[null,{"$f":"N199+1","v":"2019-06-10"},null,{"$f":"B208+1","v":"2019-06-11"},null,{"$f":"D208+1","v":"2019-06-12"},null,{"$f":"F208+1","v":"2019-06-13"},null,{"$f":"H208+1","v":"2019-06-14"},null,{"$f":"J208+1","v":"2019-06-15"},null,{"$f":"L208+1","v":"2019-06-16"}]
["здоровье",null,null,null,null,null,null,null,null,null,null,null,null,null,null,{"$f":"SUM(B209:O209)","v":0},{"$f":"SUM(B209:O209)*100/SUM(B209:O216)","v":{"$error":"#DIV/0!"}}]
["быт",null,null,null,null,null,null,null,null,null,null,null,null,null,null,0,{"$f":"SUM(B210:O210)*100/SUM(B209:O216)","v":{"$error":"#DIV/0!"}}]
["близкие",null,null,null,null,null,null,null,null,null,null,null,null,null,null,0,{"$f":"SUM(B211:O211)*100/SUM(B209:O216)","v":{"$error":"#DIV/0!"}}]
["общество",null,null,null,null,null,null,null,null,null,null,null,null,null,null,0,{"$f":"SUM(B212:O212)*100/SUM(B209:O216)","v":{"$error":"#DIV/0!"}}]
["игра",null,null,null,null,null,null,null,null,null,null,null,null,null,null,0,{"$f":"SUM(B213:O213)*100/SUM(B209:O216)","v":{"$error":"#DIV/0!"}}]
["учёба",null,null,null,null,null,null,null,null,null,null,null,null,null,null,0,{"$f":"SUM(B214:O214)*100/SUM(B209:O216)","v":{"$error":"#DIV/0!"}}]
["труд",null,null,null,null,null,null,null,null,null,null,null,null,null,null,0,{"$f":"SUM(B215:O215)*100/SUM(B209:O216)","v":{"$error":"#DIV/0!"}}]
["признание",null,null,null,null,null,null,null,null,null,null,null,null,null,null,0,{"$f":"SUM(B216:O216)*100/SUM(B209:O216)","v":{"$error":"#DIV/0!"}}]
[null,{"$f":"N208+1","v":"2019-06-17"},null,{"$f":"B217+1","v":"2019-06-18"},null,{"$f":"D217+1","v":"2019-06-19"},null,{"$f":"F217+1","v":"2019-06-20"},null,{"$f":"H217+1","v":"2019-06-21"},null,{"$f":"J217+1","v":"2019-06-22"},null,{"$f":"L217+1","v":"2019-06-23"}]
["здоровье",null,null,null,null,null,null,null,null,null,null,null,null,null,null,{"$f":"SUM(B218:O218)","v":0},{"$f":"SUM(B218:O218)*100/SUM(B218:O225)","v":{"$error":"#DIV/0!"}}]
["быт",null,null,null,null,null,null,null,null,null,null,null,null,null,null,0,{"$f":"SUM(B219:O219)*100/SUM(B218:O225)","v":{"$error":"#DIV/0!"}}]
["близкие",null,null,null,null,null,null,null,null,null,null,null,null,null,null,0,{"$f":"SUM(B220:O220)*100/SUM(B218:O225)","v":{"$error":"#DIV/0!"}}]
["общество",null,null,null,null,null,null,null,null,null,null,null,null,null,null,0,{"$f":"SUM(B221:O221)*100/SUM(B218:O225)","v":{"$error":"#DIV/0!"}}]
["игра",null,null,null,null,null,null,null,null,null,null,null,null,null,null,0,{"$f":"SUM(B222:O222)*100/SUM(B218:O225)","v":{"$error":"#DIV/0!"}}]
["учёба",null,null,null,null,null,null,null,null,null,null,null,null,null,null,0,{"$f":"SUM(B223:O223)*100/SUM(B218:O225)","v":{"$error":"#DIV/0!"}}]
["труд",null,null,null,null,null,null,null,null,null,null,null,null,null,null,0,{"$f":"SUM(B224:O224)*100/SUM(B218:O225)","v":{"$error":"#DIV/0!"}}]
["признание",null,null,null,null,null,null,null,null,null,null,null,null,null,null,0,{"$f":"SUM(B225:O225)*100/SUM(B218:O225)","v":{"$error":"#DIV/0!"}}]
[null,{"$f":"N217+1","v":"2019-06-24"},null,{"$f":"B226+1","v":"2019-06-25"},null,{"$f":"D226+1","v":"2019-06-26"},null,{"$f":"F226+1","v":"2019-06-27"},null,{"$f":"H226+1","v":"2019-06-28"},null,{"$f":"J226+1","v":"2019-06-29"},null,{"$f":"L226+1","v":"2019-06-30"}]
["здоровье",null,null,null,null,null,null,null,null,null,null,null,null,null,null,{"$f":"SUM(B227:O227)","v":0},{"$f":"SUM(B227:O227)*100/SUM(B227:O234)","v":{"$error":"#DIV/0!"}}]
["быт",null,null,null,null,null,null,null,null,null,null,null,null,null,null,0,{"$f":"SUM(B228:O228)*100/SUM(B227:O234)","v":{"$error":"#DIV/0!"}}]
["близкие",null,null,null,null,null,null,null,null,null,null,null,null,null,null,0,{"$f":"SUM(B229:O229)*100/SUM(B227:O234)","v":{"$error":"#DIV/0!"}}]
["общество",null,null,null,null,null,null,null,null,null,null,null,null,null,null,0,{"$f":"SUM(B230:O230)*100/SUM(B227:O234)","v":{"$error":"#DIV/0!"}}]
["игра",null,null,null,null,null,null,null,null,null,null,null,null,null,null,0,{"$f":"SUM(B231:O231)*100/SUM(B227:O234)","v":{"$error":"#DIV/0!"}}]
["учёба",null,null,null,null,null,null,null,null,null,null,null,null,null,null,0,{"$f":"SUM(B232:O232)*100/SUM(B227:O234)","v":{"$error":"#DIV/0!"}}]
["труд",null,null,null,null,null,null,null,null,null,null,null,null,null,null,0,{"$f":"SUM(B233:O233)*100/SUM(B227:O234)","v":{"$error":"#DIV/0!"}}]
["признание",null,null,null,null,null,null,null,null,null,null,null,null,null,null,0,{"$f":"SUM(B234:O234)*100/SUM(B227:O234)","v":{"$error":"#DIV/0!"}}]
[null,{"$f":"N226+1","v":"2019-07-01"},null,{"$f":"B235+1","v":"2019-07-02"},null,{"$f":"D235+1","v":"2019-07-03"},null,{"$f":"F235+1","v":"2019-07-04"},null,{"$f":"H235+1","v":"2019-07-05"},null,{"$f":"J235+1","v":"2019-07-06"},null,{"$f":"L235+1","v":"2019-07-07"}]
["здоровье",null,null,null,null,null,null,null,null,null,null,null,null,null,null,{"$f":"SUM(B236:O236)","v":0},{"$f":"SUM(B236:O236)*100/SUM(B236:O243)","v":{"$error":"#DIV/0!"}}]
["быт",null,null,null,null,null,null,null,null,null,null,null,null,null,null,0,{"$f":"SUM(B237:O237)*100/SUM(B236:O243)","v":{"$error":"#DIV/0!"}}]
["близкие",null,null,null,null,null,null,null,null,null,null,null,null,null,null,0,{"$f":"SUM(B238:O238)*100/SUM(B236:O243)","v":{"$error":"#DIV/0!"}}]
["общество",null,null,null,null,null,null,null,null,null,null,null,null,null,null,0,{"$f":"SUM(B239:O239)*100/SUM(B236:O243)","v":{"$error":"#DIV/0!"}}]
["игра",null,null,null,null,null,null,null,null,null,null,null,null,null,null,0,{"$f":"SUM(B240:O240)*100/SUM(B236:O243)","v":{"$error":"#DIV/0!"}}]
["учёба",null,null,null,null,null,null,null,null,null,null,null,null,null,null,0,{"$f":"SUM(B241:O241)*100/SUM(B236:O243)","v":{"$error":"#DIV/0!"}}]
["труд",null,null,null,null,null,null,null,null,null,null,null,null,null,null,0,{"$f":"SUM(B242:O242)*100/SUM(B236:O243)","v":{"$error":"#DIV/0!"}}]
["признание",null,null,null,null,null,null,null,null,null,null,null,null,null,null,0,{"$f":"SUM(B243:O243)*100/SUM(B236:O243)","v":{"$error":"#DIV/0!"}}]
[null,{"$f":"N235+1","v":"2019-07-08"},null,{"$f":"B244+1","v":"2019-07-09"},null,{"$f":"D244+1","v":"2019-07-10"},null,{"$f":"F244+1","v":"2019-07-11"},null,{"$f":"H244+1","v":"2019-07-12"},null,{"$f":"J244+1","v":"2019-07-13"},null,{"$f":"L244+1","v":"2019-07-14"}]
["здоровье",null,null,null,null,null,null,null,null,null,null,null,null,null,null,{"$f":"SUM(B245:O245)","v":0},{"$f":"SUM(B245:O245)*100/SUM(B245:O252)","v":{"$error":"#DIV/0!"}}]
["быт",null,null,null,null,null,null,null,null,null,null,null,null,null,null,0,{"$f":"SUM(B246:O246)*100/SUM(B245:O252)","v":{"$error":"#DIV/0!"}}]
["близкие",null,null,null,null,null,null,null,null,null,null,null,null,null,null,0,{"$f":"SUM(B247:O247)*100/SUM(B245:O252)","v":{"$error":"#DIV/0!"}}]
["общество",null,null,null,null,null,null,null,null,null,null,null,null,null,null,0,{"$f":"SUM(B248:O248)*100/SUM(B245:O252)","v":{"$error":"#DIV/0!"}}]
["игра",null,null,null,null,null,null,null,null,null,null,null,null,null,null,0,{"$f":"SUM(B249:O249)*100/SUM(B245:O252)","v":{"$error":"#DIV/0!"}}]
["учёба",null,null,null,null,null,null,null,null,null,null,null,null,null,null,0,{"$f":"SUM(B250:O250)*100/SUM(B245:O252)","v":{"$error":"#DIV/0!"}}]
["труд",null,null,null,null,null,null,null,null,null,null,null,null,null,null,0,{"$f":"SUM(B251:O251)*100/SUM(B245:O252)","v":{"$error":"#DIV/0!"}}]
["признание",null,null,null,null,null,null,null,null,null,null,null,null,null,null,0,{"$f":"SUM(B252:O252)*100/SUM(B245:O252)","v":{"$error":"#DIV/0!"}}]
[null,{"$f":"N244+1","v":"2019-07-15"},null,{"$f":"B253+1","v":"2019-07-16"},null,{"$f":"D253+1","v":"2019-07-17"},null,{"$f":"F253+1","v":"2019-07-18"},null,{"$f":"H253+1","v":"2019-07-19"},null,{"$f":"J253+1","v":"2019-07-20"},null,{"$f":"L253+1","v":"2019-07-21"}]
["здоровье",null,null,null,null,null,null,null,null,null,null,null,null,null,null,{"$f":"SUM(B254:O254)","v":0},{"$f":"SUM(B254:O254)*100/SUM(B254:O261)","v":{"$error":"#DIV/0!"}}]
["быт",null,null,null,null,null,null,null,null,null,null,null,null,null,null,0,{"$f":"SUM(B255:O255)*100/SUM(B254:O261)","v":{"$error":"#DIV/0!"}}]
["близкие",null,null,null,null,null,null,null,null,null,null,null,null,null,null,0,{"$f":"SUM(B256:O256)*100/SUM(B254:O261)","v":{"$error":"#DIV/0!"}}]
["общество",null,null,null,null,null,null,null,null,null,null,null,null,null,null,0,{"$f":"SUM(B257:O257)*100/SUM(B254:O261)","v":{"$error":"#DIV/0!"}}]
["игра",null,null,null,null,null,null,null,null,null,null,null,null,null,null,0,{"$f":"SUM(B258:O258)*100/SUM(B254:O261)","v":{"$error":"#DIV/0!"}}]
["учёба",null,null,null,null,null,null,null,null,null,null,null,null,null,null,0,{"$f":"SUM(B259:O259)*100/SUM(B254:O261)","v":{"$error":"#DIV/0!"}}]
["труд",null,null,null,null,null,null,null,null,null,null,null,null,null,null,0,{"$f":"SUM(B260:O260)*100/SUM(B254:O261)","v":{"$error":"#DIV/0!"}}]
["признание",null,null,null,null,null,null,null,null,null,null,null,null,null,null,0,{"$f":"SUM(B261:O261)*100/SUM(B254:O261)","v":{"$error":"#DIV/0!"}}]
[null,{"$f":"N253+1","v":"2019-07-22"},null,{"$f":"B262+1","v":"2019-07-23"},null,{"$f":"D262+1","v":"2019-07-24"},null,{"$f":"F262+1","v":"2019-07-25"},null,{"$f":"H262+1","v":"2019-07-26"},null,{"$f":"J262+1","v":"2019-07-27"},null,{"$f":"L262+1","v":"2019-07-28"}]
["здоровье",null,null,null,null,null,null,null,null,null,null,null,null,null,null,{"$f":"SUM(B263:O263)","v":0},{"$f":"SUM(B263:O263)*100/SUM(B263:O270)","v":{"$error":"#DIV/0!"}}]
["быт",null,null,null,null,null,null,null,null,null,null,null,null,null,null,0,{"$f":"SUM(B264:O264)*100/SUM(B263:O270)","v":{"$error":"#DIV/0!"}}]
["близкие",null,null,null,null,null,null,null,null,null,null,null,null,null,null,0,{"$f":"SUM(B265:O265)*100/SUM(B263:O270)","v":{"$error":"#DIV/0!"}}]
["общество",null,null,null,null,null,null,null,null,null,null,null,null,null,null,0,{"$f":"SUM(B266:O266)*100/SUM(B263:O270)","v":{"$error":"#DIV/0!"}}]
["игра",null,null,null,null,null,null,null,null,null,null,null,null,null,null,0,{"$f":"SUM(B267:O267)*100/SUM(B263:O270)","v":{"$error":"#DIV/0!"}}]
["учёба",null,null,null,null,null,null,null,null,null,null,null,null,null,null,0,{"$f":"SUM(B268:O268)*100/SUM(B263:O270)","v":{"$error":"#DIV/0!"}}]
["труд",null,null,null,null,null,null,null,null,null,null,null,null,null,null,0,{"$f":"SUM(B269:O269)*100/SUM(B263:O270)","v":{"$error":"#DIV/0!"}}]
["признание",null,null,null,null,null,null,null,null,null,null,null,null,null,null,0,{"$f":"SUM(B270:O270)*100/SUM(B263:O270)","v":{"$error":"#DIV/0!"}}]
[null,{"$f":"N262+1","v":"2019-07-29"},null,{"$f":"B271+1","v":"2019-07-30"},null,{"$f":"D271+1","v":"2019-07-31"},null,{"$f":"F271+1","v":"2019-08-01"},null,{"$f":"H271+1","v":"2019-08-02"},null,{"$f":"J271+1","v":"2019-08-03"},null,{"$f":"L271+1","v":"2019-08-04"}]
["здоровье",null,null,null,null,null,null,null,null,null,null,null,null,null,null,{"$f":"SUM(B272:O272)","v":0},{"$f":"SUM(B272:O272)*100/SUM(B272:O279)","v":{"$error":"#DIV/0!"}}]
["быт",null,null,null,null,null,null,null,null,null,null,null,null,null,null,0,{"$f":"SUM(B273:O273)*100/SUM(B272:O279)","v":{"$error":"#DIV/0!"}}]
["близкие",null,null,null,null,null,null,null,null,null,null,null,null,null,null,0,{"$f":"SUM(B274:O274)*100/SUM(B272:O279)","v":{"$error":"#DIV/0!"}}]
["общество",null,null,null,null,null,null,null,null,null,null,null,null,null,null,0,{"$f":"SUM(B275:O275)*100/SUM(B272:O279)","v":{"$error":"#DIV/0!"}}]
["игра",null,null,null,null,null,null,null,null,null,null,null,null,null,null,0,{"$f":"SUM(B276:O276)*100/SUM(B272:O279)","v":{"$error":"#DIV/0!"}}]
["учёба",null,null,null,null,null,null,null,null,null,null,null,null,null,null,0,{"$f":"SUM(B277:O277)*100/SUM(B272:O279)","v":{"$error":"#DIV/0!"}}]
["труд",null,null,null,null,null,null,null,null,null,null,null,null,null,null,0,{"$f":"SUM(B278:O278)*100/SUM(B272:O279)","v":{"$error":"#DIV/0!"}}]
["признание",null,null,null,null,null,null,null,null,null,null,null,null,null,null,0,{"$f":"SUM(B279:O279)*100/SUM(B272:O279)","v":{"$error":"#DIV/0!"}}]
[null,{"$f":"N271+1","v":"2019-08-05"},null,{"$f":"B280+1","v":"2019-08-06"},null,{"$f":"D280+1","v":"2019-08-07"},null,{"$f":"F280+1","v":"2019-08-08"},null,{"$f":"H280+1","v":"2019-08-09"},null,{"$f":"J280+1","v":"2019-08-10"},null,{"$f":"L280+1","v":"2019-08-11"}]
["здоровье",null,null,null,null,null,null,null,null,null,null,null,null,null,null,{"$f":"SUM(B281:O281)","v":0},{"$f":"SUM(B281:O281)*100/SUM(B281:O288)","v":{"$error":"#DIV/0!"}}]
["быт",null,null,null,null,null,null,null,null,null,null,null,null,null,null,0,{"$f":"SUM(B282:O282)*100/SUM(B281:O288)","v":{"$error":"#DIV/0!"}}]
["близкие",null,null,null,null,null,null,null,null,null,null,null,null,null,null,0,{"$f":"SUM(B283:O283)*100/SUM(B281:O288)","v":{"$error":"#DIV/0!"}}]
["общество",null,null,null,null,null,null,null,null,null,null,null,null,null,null,0,{"$f":"SUM(B284:O284)*100/SUM(B281:O288)","v":{"$error":"#DIV/0!"}}]
["игра",null,null,null,null,null,null,null,null,null,null,null,null,null,null,0,{"$f":"SUM(B285:O285)*100/SUM(B281:O288)","v":{"$error":"#DIV/0!"}}]
["учёба",null,null,null,null,null,null,null,null,null,null,null,null,null,null,0,{"$f":"SUM(B286:O286)*100/SUM(B281:O288)","v":{"$error":"#DIV/0!"}}]
["труд",null,null,null,null,null,null,null,null,null,null,null,null,null,null,0,{"$f":"SUM(B287:O287)*100/SUM(B281:O288)","v":{"$error":"#DIV/0!"}}]
["признание",null,null,null,null,null,null,null,null,null,null,null,null,null,null,0,{"$f":"SUM(B288:O288)*100/SUM(B281:O288)","v":{"$error":"#DIV/0!"}}]
[null,{"$f":"N280+1","v":"2019-08-12"},null,{"$f":"B289+1","v":"2019-08-13"},null,{"$f":"D289+1","v":"2019-08-14"},null,{"$f":"F289+1","v":"2019-08-15"},null,{"$f":"H289+1","v":"2019-08-16"},null,{"$f":"J289+1","v":"2019-08-17"},null,{"$f":"L289+1","v":"2019-08-18"}]
["здоровье",null,null,null,null,null,null,null,null,null,null,null,null,null,null,{"$f":"SUM(B290:O290)","v":0},{"$f":"SUM(B290:O290)*100/SUM(B290:O297)","v":{"$error":"#DIV/0!"}}]
["быт",null,null,null,null,null,null,null,null,null,null,null,null,null,null,0,{"$f":"SUM(B291:O291)*100/SUM(B290:O297)","v":{"$error":"#DIV/0!"}}]
["близкие",null,null,null,null,null,null,null,null,null,null,null,null,null,null,0,{"$f":"SUM(B292:O292)*100/SUM(B290:O297)","v":{"$error":"#DIV/0!"}}]
["общество",null,null,null,null,null,null,null,null,null,null,null,null,null,null,0,{"$f":"SUM(B293:O293)*100/SUM(B290:O297)","v":{"$error":"#DIV/0!"}}]
["игра",null,null,null,null,null,null,null,null,null,null,null,null,null,null,0,{"$f":"SUM(B294:O294)*100/SUM(B290:O297)","v":{"$error":"#DIV/0!"}}]
["учёба",null,null,null,null,null,null,null,null,null,null,null,null,null,null,0,{"$f":"SUM(B295:O295)*100/SUM(B290:O297)","v":{"$error":"#DIV/0!"}}]
["труд",null,null,null,null,null,null,null,null,null,null,null,null,null,null,0,{"$f":"SUM(B296:O296)*100/SUM(B290:O297)","v":{"$error":"#DIV/0!"}}]
["признание",null,null,null,null,null,null,null,null,null,null,null,null,null,null,0,{"$f":"SUM(B297:O297)*100/SUM(B290:O297)","v":{"$error":"#DIV/0!"}}]
[null,{"$f":"N289+1","v":"2019-08-19"},null,{"$f":"B298+1","v":"2019-08-20"},null,{"$f":"D298+1","v":"2019-08-21"},null,{"$f":"F298+1","v":"2019-08-22"},null,{"$f":"H298+1","v":"2019-08-23"},null,{"$f":"J298+1","v":"2019-08-24"},null,{"$f":"L298+1","v":"2019-08-25"}]
["здоровье",null,null,null,null,null,null,null,null,null,null,null,null,null,null,{"$f":"SUM(B299:O299)","v":0},{"$f":"SUM(B299:O299)*100/SUM(B299:O306)","v":{"$error":"#DIV/0!"}}]
["быт",null,null,null,null,null,null,null,null,null,null,null,null,null,null,0,{"$f":"SUM(B300:O300)*100/SUM(B299:O306)","v":{"$error":"#DIV/0!"}}]
["близкие",null,null,null,null,null,null,null,null,null,null,null,null,null,null,0,{"$f":"SUM(B301:O301)*100/SUM(B299:O306)","v":{"$error":"#DIV/0!"}}]
["общество",null,null,null,null,null,null,null,null,null,null,null,null,null,null,0,{"$f":"SUM(B302:O302)*100/SUM(B299:O306)","v":{"$error":"#DIV/0!"}}]
["игра",null,null,null,null,null,null,null,null,null,null,null,null,null,null,0,{"$f":"SUM(B303:O303)*100/SUM(B299:O306)","v":{"$error":"#DIV/0!"}}]
["учёба",null,null,null,null,null,null,null,null,null,null,null,null,null,null,0,{"$f":"SUM(B304:O304)*100/SUM(B299:O306)","v":{"$error":"#DIV/0!"}}]
["труд",null,null,null,null,null,null,null,null,null,null,null,null,null,null,0,{"$f":"SUM(B305:O305)*100/SUM(B299:O306)","v":{"$error":"#DIV/0!"}}]
["признание",null,null,null,null,null,null,null,null,null,null,null,null,null,null,0,{"$f":"SUM(B306:O306)*100/SUM(B299:O306)","v":{"$error":"#DIV/0!"}}]
[null,{"$f":"N298+1","v":"2019-08-26"},null,{"$f":"B307+1","v":"2019-08-27"},null,{"$f":"D307+1","v":"2019-08-28"},null,{"$f":"F307+1","v":"2019-08-29"},null,{"$f":"H307+1","v":"2019-08-30"},null,{"$f":"J307+1","v":"2019-08-31"},null,{"$f":"L307+1","v":"2019-09-01"}]
["здоровье",null,null,null,null,null,null,null,null,null,null,null,null,null,null,{"$f":"SUM(B308:O308)","v":0},{"$f":"SUM(B308:O308)*100/SUM(B308:O315)","v":{"$error":"#DIV/0!"}}]
["быт",null,null,null,null,null,null,null,null,null,null,null,null,null,null,0,{"$f":"SUM(B309:O309)*100/SUM(B308:O315)","v":{"$error":"#DIV/0!"}}]
["близкие",null,null,null,null,null,null,null,null,null,null,null,null,null,null,0,{"$f":"SUM(B310:O310)*100/SUM(B308:O315)","v":{"$error":"#DIV/0!"}}]
["общество",null,null,null,null,null,null,null,null,null,null,null,null,null,null,0,{"$f":"SUM(B311:O311)*100/SUM(B308:O315)","v":{"$error":"#DIV/0!"}}]
["игра",null,null,null,null,null,null,null,null,null,null,null,null,null,null,0,{"$f":"SUM(B312:O312)*100/SUM(B308:O315)","v":{"$error":"#DIV/0!"}}]
["учёба",null,null,null,null,null,null,null,null,null,null,null,null,null,null,0,{"$f":"SUM(B313:O313)*100/SUM(B308:O315)","v":{"$error":"#DIV/0!"}}]
["труд",null,null,null,null,null,null,null,null,null,null,null,null,null,null,0,{"$f":"SUM(B314:O314)*100/SUM(B308:O315)","v":{"$error":"#DIV/0!"}}]
["признание",null,null,null,null,null,null,null,null,null,null,null,null,null,null,0,{"$f":"SUM(B315:O315)*100/SUM(B308:O315)","v":{"$error":"#DIV/0!"}}]
[null,{"$f":"N307+1","v":"2019-09-02"},null,{"$f":"B316+1","v":"2019-09-03"},null,{"$f":"D316+1","v":"2019-09-04"},null,{"$f":"F316+1","v":"2019-09-05"},null,{"$f":"H316+1","v":"2019-09-06"},null,{"$f":"J316+1","v":"2019-09-07"},null,{"$f":"L316+1","v":"2019-09-08"}]
["здоровье",null,null,null,null,null,null,null,null,null,null,null,null,null,null,{"$f":"SUM(B317:O317)","v":0},{"$f":"SUM(B317:O317)*100/SUM(B317:O324)","v":{"$error":"#DIV/0!"}}]
["быт",null,null,null,null,null,null,null,null,null,null,null,null,null,null,0,{"$f":"SUM(B318:O318)*100/SUM(B317:O324)","v":{"$error":"#DIV/0!"}}]
["близкие",null,null,null,null,null,null,null,null,null,null,null,null,null,null,0,{"$f":"SUM(B319:O319)*100/SUM(B317:O324)","v":{"$error":"#DIV/0!"}}]
["общество",null,null,null,null,null,null,null,null,null,null,null,null,null,null,0,{"$f":"SUM(B320:O320)*100/SUM(B317:O324)","v":{"$error":"#DIV/0!"}}]
["игра",null,null,null,null,null,null,null,null,null,null,null,null,null,null,0,{"$f":"SUM(B321:O321)*100/SUM(B317:O324)","v":{"$error":"#DIV/0!"}}]
["учёба",null,null,null,null,null,null,null,null,null,null,null,null,null,null,0,{"$f":"SUM(B322:O322)*100/SUM(B317:O324)","v":{"$error":"#DIV/0!"}}]
["труд",null,null,null,null,null,null,null,null,null,null,null,null,null,null,0,{"$f":"SUM(B323:O323)*100/SUM(B317:O324)","v":{"$error":"#DIV/0!"}}]
["признание",null,null,null,null,null,null,null,null,null,null,null,null,null,null,0,{"$f":"SUM(B324:O324)*100/SUM(B317:O324)","v":{"$error":"#DIV/0!"}}]
[null,{"$f":"N316+1","v":"2019-09-09"},null,{"$f":"B325+1","v":"2019-09-10"},null,{"$f":"D325+1","v":"2019-09-11"},null,{"$f":"F325+1","v":"2019-09-12"},null,{"$f":"H325+1","v":"2019-09-13"},null,{"$f":"J325+1","v":"2019-09-14"},null,{"$f":"L325+1","v":"2019-09-15"}]
["здоровье",null,null,null,null,null,null,null,null,null,null,null,null,null,null,{"$f":"SUM(B326:O326)","v":0},{"$f":"SUM(B326:O326)*100/SUM(B326:O333)","v":{"$error":"#DIV/0!"}}]
["быт",null,null,null,null,null,null,null,null,null,null,null,null,null,null,0,{"$f":"SUM(B327:O327)*100/SUM(B326:O333)","v":{"$error":"#DIV/0!"}}]
["близкие",null,null,null,null,null,null,null,null,null,null,null,null,null,null,0,{"$f":"SUM(B328:O328)*100/SUM(B326:O333)","v":{"$error":"#DIV/0!"}}]
["общество",null,null,null,null,null,null,null,null,null,null,null,null,null,null,0,{"$f":"SUM(B329:O329)*100/SUM(B326:O333)","v":{"$error":"#DIV/0!"}}]
["игра",null,null,null,null,null,null,null,null,null,null,null,null,null,null,0,{"$f":"SUM(B330:O330)*100/SUM(B326:O333)","v":{"$error":"#DIV/0!"}}]
["учёба",null,null,null,null,null,null,null,null,null,null,null,null,null,null,0,{"$f":"SUM(B331:O331)*100/SUM(B326:O333)","v":{"$error":"#DIV/0!"}}]
["труд",null,null,null,null,null,null,null,null,null,null,null,null,null,null,0,{"$f":"SUM(B332:O332)*100/SUM(B326:O333)","v":{"$error":"#DIV/0!"}}]
["признание",null,null,null,null,null,null,null,null,null,null,null,null,null,null,0,{"$f":"SUM(B333:O333)*100/SUM(B326:O333)","v":{"$error":"#DIV/0!"}}]
[null,{"$f":"N325+1","v":"2019-09-16"},null,{"$f":"B334+1","v":"2019-09-17"},null,{"$f":"D334+1","v":"2019-09-18"},null,{"$f":"F334+1","v":"2019-09-19"},null,{"$f":"H334+1","v":"2019-09-20"},null,{"$f":"J334+1","v":"2019-09-21"},null,{"$f":"L334+1","v":"2019-09-22"}]
["здоровье",null,null,null,null,null,null,null,null,null,null,null,null,null,null,{"$f":"SUM(B335:O335)","v":0},{"$f":"SUM(B335:O335)*100/SUM(B335:O342)","v":{"$error":"#DIV/0!"}}]
["быт",null,null,null,null,null,null,null,null,null,null,null,null,null,null,0,{"$f":"SUM(B336:O336)*100/SUM(B335:O342)","v":{"$error":"#DIV/0!"}}]
["близкие",null,null,null,null,null,null,null,null,null,null,null,null,null,null,0,{"$f":"SUM(B337:O337)*100/SUM(B335:O342)","v":{"$error":"#DIV/0!"}}]
["общество",null,null,null,null,null,null,null,null,null,null,null,null,null,null,0,{"$f":"SUM(B338:O338)*100/SUM(B335:O342)","v":{"$error":"#DIV/0!"}}]
["игра",null,null,null,null,null,null,null,null,null,null,null,null,null,null,0,{"$f":"SUM(B339:O339)*100/SUM(B335:O342)","v":{"$error":"#DIV/0!"}}]
["учёба",null,null,null,null,null,null,null,null,null,null,null,null,null,null,0,{"$f":"SUM(B340:O340)*100/SUM(B335:O342)","v":{"$error":"#DIV/0!"}}]
["труд",null,null,null,null,null,null,null,null,null,null,null,null,null,null,0,{"$f":"SUM(B341:O341)*100/SUM(B335:O342)","v":{"$error":"#DIV/0!"}}]
["признание",null,null,null,null,null,null,null,null,null,null,null,null,null,null,0,{"$f":"SUM(B342:O342)*100/SUM(B335:O342)","v":{"$error":"#DIV/0!"}}]
[null,{"$f":"N334+1","v":"2019-09-23"},null,{"$f":"B343+1","v":"2019-09-24"},null,{"$f":"D343+1","v":"2019-09-25"},null,{"$f":"F343+1","v":"2019-09-26"},null,{"$f":"H343+1","v":"2019-09-27"},null,{"$f":"J343+1","v":"2019-09-28"},null,{"$f":"L343+1","v":"2019-09-29"}]
["здоровье",null,null,null,null,null,null,null,null,null,null,null,null,null,null,{"$f":"SUM(B344:O344)","v":0},{"$f":"SUM(B344:O344)*100/SUM(B344:O351)","v":{"$error":"#DIV/0!"}}]
["быт",null,null,null,null,null,null,null,null,null,null,null,null,null,null,0,{"$f":"SUM(B345:O345)*100/SUM(B344:O351)","v":{"$error":"#DIV/0!"}}]
["близкие",null,null,null,null,null,null,null,null,null,null,null,null,null,null,0,{"$f":"SUM(B346:O346)*100/SUM(B344:O351)","v":{"$error":"#DIV/0!"}}]
["общество",null,null,null,null,null,null,null,null,null,null,null,null,null,null,0,{"$f":"SUM(B347:O347)*100/SUM(B344:O351)","v":{"$error":"#DIV/0!"}}]
["игра",null,null,null,null,null,null,null,null,null,null,null,null,null,null,0,{"$f":"SUM(B348:O348)*100/SUM(B344:O351)","v":{"$error":"#DIV/0!"}}]
["учёба",null,null,null,null,null,null,null,null,null,null,null,null,null,null,0,{"$f":"SUM(B349:O349)*100/SUM(B344:O351)","v":{"$error":"#DIV/0!"}}]
["труд",null,null,null,null,null,null,null,null,null,null,null,null,null,null,0,{"$f":"SUM(B350:O350)*100/SUM(B344:O351)","v":{"$error":"#DIV/0!"}}]
["признание",null,null,null,null,null,null,null,null,null,null,null,null,null,null,0,{"$f":"SUM(B351:O351)*100/SUM(B344:O351)","v":{"$error":"#DIV/0!"}}]
[null,{"$f":"N343+1","v":"2019-09-30"},null,{"$f":"B352+1","v":"2019-10-01"},null,{"$f":"D352+1","v":"2019-10-02"},null,{"$f":"F352+1","v":"2019-10-03"},null,{"$f":"H352+1","v":"2019-10-04"},null,{"$f":"J352+1","v":"2019-10-05"},null,{"$f":"L352+1","v":"2019-10-06"}]
["здоровье",null,null,null,null,null,null,null,null,null,null,null,null,null,null,{"$f":"SUM(B353:O353)","v":0},{"$f":"SUM(B353:O353)*100/SUM(B353:O360)","v":{"$error":"#DIV/0!"}}]
["быт",null,null,null,null,null,null,null,null,null,null,null,null,null,null,0,{"$f":"SUM(B354:O354)*100/SUM(B353:O360)","v":{"$error":"#DIV/0!"}}]
["близкие",null,null,null,null,null,null,null,null,null,null,null,null,null,null,0,{"$f":"SUM(B355:O355)*100/SUM(B353:O360)","v":{"$error":"#DIV/0!"}}]
["общество",null,null,null,null,null,null,null,null,null,null,null,null,null,null,0,{"$f":"SUM(B356:O356)*100/SUM(B353:O360)","v":{"$error":"#DIV/0!"}}]
["игра",null,null,null,null,null,null,null,null,null,null,null,null,null,null,0,{"$f":"SUM(B357:O357)*100/SUM(B353:O360)","v":{"$error":"#DIV/0!"}}]
["учёба",null,null,null,null,null,null,null,null,null,null,null,null,null,null,0,{"$f":"SUM(B358:O358)*100/SUM(B353:O360)","v":{"$error":"#DIV/0!"}}]
["труд",null,null,null,null,null,null,null,null,null,null,null,null,null,null,0,{"$f":"SUM(B359:O359)*100/SUM(B353:O360)","v":{"$error":"#DIV/0!"}}]
["признание",null,null,null,null,null,null,null,null,null,null,null,null,null,null,0,{"$f":"SUM(B360:O360)*100/SUM(B353:O360)","v":{"$error":"#DIV/0!"}}]
[null,{"$f":"N352+1","v":"2019-10-07"},null,{"$f":"B361+1","v":"2019-10-08"},null,{"$f":"D361+1","v":"2019-10-09"},null,{"$f":"F361+1","v":"2019-10-10"},null,{"$f":"H361+1","v":"2019-10-11"},null,{"$f":"J361+1","v":"2019-10-12"},null,{"$f":"L361+1","v":"2019-10-13"}]
["здоровье",null,null,null,null,null,null,null,null,null,null,null,null,null,null,{"$f":"SUM(B362:O362)","v":0},{"$f":"SUM(B362:O362)*100/SUM(B362:O369)","v":{"$error":"#DIV/0!"}}]
["быт",null,null,null,null,null,null,null,null,null,null,null,null,null,null,0,{"$f":"SUM(B363:O363)*100/SUM(B362:O369)","v":{"$error":"#DIV/0!"}}]
["близкие",null,null,null,null,null,null,null,null,null,null,null,null,null,null,0,{"$f":"SUM(B364:O364)*100/SUM(B362:O369)","v":{"$error":"#DIV/0!"}}]
["общество",null,null,null,null,null,null,null,null,null,null,null,null,null,null,0,{"$f":"SUM(B365:O365)*100/SUM(B362:O369)","v":{"$error":"#DIV/0!"}}]
["игра",null,null,null,null,null,null,null,null,null,null,null,null,null,null,0,{"$f":"SUM(B366:O366)*100/SUM(B362:O369)","v":{"$error":"#DIV/0!"}}]
["учёба",null,null,null,null,null,null,null,null,null,null,null,null,null,null,0,{"$f":"SUM(B367:O367)*100/SUM(B362:O369)","v":{"$error":"#DIV/0!"}}]
["труд",null,null,null,null,null,null,null,null,null,null,null,null,null,null,0,{"$f":"SUM(B368:O368)*100/SUM(B362:O369)","v":{"$error":"#DIV/0!"}}]
["признание",null,null,null,null,null,null,null,null,null,null,null,null,null,null,0,{"$f":"SUM(B369:O369)*100/SUM(B362:O369)","v":{"$error":"#DIV/0!"}}]
[null,{"$f":"N361+1","v":"2019-10-14"},null,{"$f":"B370+1","v":"2019-10-15"},null,{"$f":"D370+1","v":"2019-10-16"},null,{"$f":"F370+1","v":"2019-10-17"},null,{"$f":"H370+1","v":"2019-10-18"},null,{"$f":"J370+1","v":"2019-10-19"},null,{"$f":"L370+1","v":"2019-10-20"}]
["здоровье",null,null,null,null,null,null,null,null,null,null,null,null,null,null,{"$f":"SUM(B371:O371)","v":0},{"$f":"SUM(B371:O371)*100/SUM(B371:O378)","v":{"$error":"#DIV/0!"}}]
["быт",null,null,null,null,null,null,null,null,null,null,null,null,null,null,0,{"$f":"SUM(B372:O372)*100/SUM(B371:O378)","v":{"$error":"#DIV/0!"}}]
["близкие",null,null,null,null,null,null,null,null,null,null,null,null,null,null,0,{"$f":"SUM(B373:O373)*100/SUM(B371:O378)","v":{"$error":"#DIV/0!"}}]
["общество",null,null,null,null,null,null,null,null,null,null,null,null,null,null,0,{"$f":"SUM(B374:O374)*100/SUM(B371:O378)","v":{"$error":"#DIV/0!"}}]
["игра",null,null,null,null,null,null,null,null,null,null,null,null,null,null,0,{"$f":"SUM(B375:O375)*100/SUM(B371:O378)","v":{"$error":"#DIV/0!"}}]
["учёба",null,null,null,null,null,null,null,null,null,null,null,null,null,null,0,{"$f":"SUM(B376:O376)*100/SUM(B371:O378)","v":{"$error":"#DIV/0!"}}]
["труд",null,null,null,null,null,null,null,null,null,null,null,null,null,null,0,{"$f":"SUM(B377:O377)*100/SUM(B371:O378)","v":{"$error":"#DIV/0!"}}]
["признание",null,null,null,null,null,null,null,null,null,null,null,null,null,null,0,{"$f":"SUM(B378:O378)*100/SUM(B371:O378)","v":{"$error":"#DIV/0!"}}]
[null,{"$f":"N370+1","v":"2019-10-21"},null,{"$f":"B379+1","v":"2019-10-22"},null,{"$f":"D379+1","v":"2019-10-23"},null,{"$f":"F379+1","v":"2019-10-24"},null,{"$f":"H379+1","v":"2019-10-25"},null,{"$f":"J379+1","v":"2019-10-26"},null,{"$f":"L379+1","v":"2019-10-27"}]
["здоровье",null,null,null,null,null,null,null,null,null,null,null,null,null,null,{"$f":"SUM(B380:O380)","v":0},{"$f":"SUM(B380:O380)*100/SUM(B380:O387)","v":{"$error":"#DIV/0!"}}]
["быт",null,null,null,null,null,null,null,null,null,null,null,null,null,null,0,{"$f":"SUM(B381:O381)*100/SUM(B380:O387)","v":{"$error":"#DIV/0!"}}]
["близкие",null,null,null,null,null,null,null,null,null,null,null,null,null,null,0,{"$f":"SUM(B382:O382)*100/SUM(B380:O387)","v":{"$error":"#DIV/0!"}}]
["общество",null,null,null,null,null,null,null,null,null,null,null,null,null,null,0,{"$f":"SUM(B383:O383)*100/SUM(B380:O387)","v":{"$error":"#DIV/0!"}}]
["игра",null,null,null,null,null,null,null,null,null,null,null,null,null,null,0,{"$f":"SUM(B384:O384)*100/SUM(B380:O387)","v":{"$error":"#DIV/0!"}}]
["учёба",null,null,null,null,null,null,null,null,null,null,null,null,null,null,0,{"$f":"SUM(B385:O385)*100/SUM(B380:O387)","v":{"$error":"#DIV/0!"}}]
["труд",null,null,null,null,null,null,null,null,null,null,null,null,null,null,0,{"$f":"SUM(B386:O386)*100/SUM(B380:O387)","v":{"$error":"#DIV/0!"}}]
["признание",null,null,null,null,null,null,null,null,null,null,null,null,null,null,0,{"$f":"SUM(B387:O387)*100/SUM(B380:O387)","v":{"$error":"#DIV/0!"}}]
[null,{"$f":"N379+1","v":"2019-10-28"},null,{"$f":"B388+1","v":"2019-10-29"},null,{"$f":"D388+1","v":"2019-10-30"},null,{"$f":"F388+1","v":"2019-10-31"},null,{"$f":"H388+1","v":"2019-11-01"},null,{"$f":"J388+1","v":"2019-11-02"},null,{"$f":"L388+1","v":"2019-11-03"}]
["здоровье",null,null,null,null,null,null,null,null,null,null,null,null,null,null,{"$f":"SUM(B389:O389)","v":0},{"$f":"SUM(B389:O389)*100/SUM(B389:O396)","v":{"$error":"#DIV/0!"}}]
["быт",null,null,null,null,null,null,null,null,null,null,null,null,null,null,0,{"$f":"SUM(B390:O390)*100/SUM(B389:O396)","v":{"$error":"#DIV/0!"}}]
["близкие",null,null,null,null,null,null,null,null,null,null,null,null,null,null,0,{"$f":"SUM(B391:O391)*100/SUM(B389:O396)","v":{"$error":"#DIV/0!"}}]
["общество",null,null,null,null,null,null,null,null,null,null,null,null,null,null,0,{"$f":"SUM(B392:O392)*100/SUM(B389:O396)","v":{"$error":"#DIV/0!"}}]
["игра",null,null,null,null,null,null,null,null,null,null,null,null,null,null,0,{"$f":"SUM(B393:O393)*100/SUM(B389:O396)","v":{"$error":"#DIV/0!"}}]
["учёба",null,null,null,null,null,null,null,null,null,null,null,null,null,null,0,{"$f":"SUM(B394:O394)*100/SUM(B389:O396)","v":{"$error":"#DIV/0!"}}]
["труд",null,null,null,null,null,null,null,null,null,null,null,null,null,null,0,{"$f":"SUM(B395:O395)*100/SUM(B389:O396)","v":{"$error":"#DIV/0!"}}]
["признание",null,null,null,null,null,null,null,null,null,null,null,null,null,null,0,{"$f":"SUM(B396:O396)*100/SUM(B389:O396)","v":{"$error":"#DIV/0!"}}]
[null,{"$f":"N388+1","v":"2019-11-04"},null,{"$f":"B397+1","v":"2019-11-05"},null,{"$f":"D397+1","v":"2019-11-06"},null,{"$f":"F397+1","v":"2019-11-07"},null,{"$f":"H397+1","v":"2019-11-08"},null,{"$f":"J397+1","v":"2019-11-09"},null,{"$f":"L397+1","v":"2019-11-10"}]
["здоровье",null,null,null,null,null,null,null,null,null,null,null,null,null,null,{"$f":"SUM(B398:O398)","v":0},{"$f":"SUM(B398:O398)*100/SUM(B398:O405)","v":{"$error":"#DIV/0!"}}]
["быт",null,null,null,null,null,null,null,null,null,null,null,null,null,null,0,{"$f":"SUM(B399:O399)*100/SUM(B398:O405)","v":{"$error":"#DIV/0!"}}]
["близкие",null,null,null,null,null,null,null,null,null,null,null,null,null,null,0,{"$f":"SUM(B400:O400)*100/SUM(B398:O405)","v":{"$error":"#DIV/0!"}}]
["общество",null,null,null,null,null,null,null,null,null,null,null,null,null,null,0,{"$f":"SUM(B401:O401)*100/SUM(B398:O405)","v":{"$error":"#DIV/0!"}}]
["игра",null,null,null,null,null,null,null,null,null,null,null,null,null,null,0,{"$f":"SUM(B402:O402)*100/SUM(B398:O405)","v":{"$error":"#DIV/0!"}}]
["учёба",null,null,null,null,null,null,null,null,null,null,null,null,null,null,0,{"$f":"SUM(B403:O403)*100/SUM(B398:O405)","v":{"$error":"#DIV/0!"}}]
["труд",null,null,null,null,null,null,null,null,null,null,null,null,null,null,0,{"$f":"SUM(B404:O404)*100/SUM(B398:O405)","v":{"$error":"#DIV/0!"}}]
["признание",null,null,null,null,null,null,null,null,null,null,null,null,null,null,0,{"$f":"SUM(B405:O405)*100/SUM(B398:O405)","v":{"$error":"#DIV/0!"}}]
[null,{"$f":"N397+1","v":"2019-11-11"},null,{"$f":"B406+1","v":"2019-11-12"},null,{"$f":"D406+1","v":"2019-11-13"},null,{"$f":"F406+1","v":"2019-11-14"},null,{"$f":"H406+1","v":"2019-11-15"},null,{"$f":"J406+1","v":"2019-11-16"},null,{"$f":"L406+1","v":"2019-11-17"}]
["здоровье",null,null,null,null,null,null,null,null,null,null,null,null,null,null,{"$f":"SUM(B407:O407)","v":0},{"$f":"SUM(B407:O407)*100/SUM(B407:O414)","v":{"$error":"#DIV/0!"}}]
["быт",null,null,null,null,null,null,null,null,null,null,null,null,null,null,0,{"$f":"SUM(B408:O408)*100/SUM(B407:O414)","v":{"$error":"#DIV/0!"}}]
["близкие",null,null,null,null,null,null,null,null,null,null,null,null,null,null,0,{"$f":"SUM(B409:O409)*100/SUM(B407:O414)","v":{"$error":"#DIV/0!"}}]
["общество",null,null,null,null,null,null,null,null,null,null,null,null,null,null,0,{"$f":"SUM(B410:O410)*100/SUM(B407:O414)","v":{"$error":"#DIV/0!"}}]
["игра",null,null,null,null,null,null,null,null,null,null,null,null,null,null,0,{"$f":"SUM(B411:O411)*100/SUM(B407:O414)","v":{"$error":"#DIV/0!"}}]
["учёба",null,null,null,null,null,null,null,null,null,null,null,null,null,null,0,{"$f":"SUM(B412:O412)*100/SUM(B407:O414)","v":{"$error":"#DIV/0!"}}]
["труд",null,null,null,null,null,null,null,null,null,null,null,null,null,null,0,{"$f":"SUM(B413:O413)*100/SUM(B407:O414)","v":{"$error":"#DIV/0!"}}]
["признание",null,null,null,null,null,null,null,null,null,null,null,null,null,null,0,{"$f":"SUM(B414:O414)*100/SUM(B407:O414)","v":{"$error":"#DIV/0!"}}]
[null,{"$f":"N406+1","v":"2019-11-18"},null,{"$f":"B415+1","v":"2019-11-19"},null,{"$f":"D415+1","v":"2019-11-20"},null,{"$f":"F415+1","v":"2019-11-21"},null,{"$f":"H415+1","v":"2019-11-22"},null,{"$f":"J415+1","v":"2019-11-23"},null,{"$f":"L415+1","v":"2019-11-24"}]
["здоровье",null,null,null,null,null,null,null,null,null,null,null,null,null,null,{"$f":"SUM(B416:O416)","v":0},{"$f":"SUM(B416:O416)*100/SUM(B416:O423)","v":{"$error":"#DIV/0!"}}]
["быт",null,null,null,null,null,null,null,null,null,null,null,null,null,null,0,{"$f":"SUM(B417:O417)*100/SUM(B416:O423)","v":{"$error":"#DIV/0!"}}]
["близкие",null,null,null,null,null,null,null,null,null,null,null,null,null,null,0,{"$f":"SUM(B418:O418)*100/SUM(B416:O423)","v":{"$error":"#DIV/0!"}}]
["общество",null,null,null,null,null,null,null,null,null,null,null,null,null,null,0,{"$f":"SUM(B419:O419)*100/SUM(B416:O423)","v":{"$error":"#DIV/0!"}}]
["игра",null,null,null,null,null,null,null,null,null,null,null,null,null,null,0,{"$f":"SUM(B420:O420)*100/SUM(B416:O423)","v":{"$error":"#DIV/0!"}}]
["учёба",null,null,null,null,null,null,null,null,null,null,null,null,null,null,0,{"$f":"SUM(B421:O421)*100/SUM(B416:O423)","v":{"$error":"#DIV/0!"}}]
["труд",null,null,null,null,null,null,null,null,null,null,null,null,null,null,0,{"$f":"SUM(B422:O422)*100/SUM(B416:O423)","v":{"$error":"#DIV/0!"}}]
["признание",null,null,null,null,null,null,null,null,null,null,null,null,null,null,0,{"$f":"SUM(B423:O423)*100/SUM(B416:O423)","v":{"$error":"#DIV/0!"}}]
[null,{"$f":"N415+1","v":"2019-11-25"},null,{"$f":"B424+1","v":"2019-11-26"},null,{"$f":"D424+1","v":"2019-11-27"},null,{"$f":"F424+1","v":"2019-11-28"},null,{"$f":"H424+1","v":"2019-11-29"},null,{"$f":"J424+1","v":"2019-11-30"},null,{"$f":"L424+1","v":"2019-12-01"}]
["здоровье",null,null,null,null,null,null,null,null,null,null,null,null,null,null,{"$f":"SUM(B425:O425)","v":0},{"$f":"SUM(B425:O425)*100/SUM(B425:O432)","v":{"$error":"#DIV/0!"}}]
["быт",null,null,null,null,null,null,null,null,null,null,null,null,null,null,0,{"$f":"SUM(B426:O426)*100/SUM(B425:O432)","v":{"$error":"#DIV/0!"}}]
["близкие",null,null,null,null,null,null,null,null,null,null,null,null,null,null,0,{"$f":"SUM(B427:O427)*100/SUM(B425:O432)","v":{"$error":"#DIV/0!"}}]
["общество",null,null,null,null,null,null,null,null,null,null,null,null,null,null,0,{"$f":"SUM(B428:O428)*100/SUM(B425:O432)","v":{"$error":"#DIV/0!"}}]
["игра",null,null,null,null,null,null,null,null,null,null,null,null,null,null,0,{"$f":"SUM(B429:O429)*100/SUM(B425:O432)","v":{"$error":"#DIV/0!"}}]
["учёба",null,null,null,null,null,null,null,null,null,null,null,null,null,null,0,{"$f":"SUM(B430:O430)*100/SUM(B425:O432)","v":{"$error":"#DIV/0!"}}]
["труд",null,null,null,null,null,null,null,null,null,null,null,null,null,null,0,{"$f":"SUM(B431:O431)*100/SUM(B425:O432)","v":{"$error":"#DIV/0!"}}]
["признание",null,null,null,null,null,null,null,null,null,null,null,null,null,null,0,{"$f":"SUM(B432:O432)*100/SUM(B425:O432)","v":{"$error":"#DIV/0!"}}]
[null,{"$f":"N424+1","v":"2019-12-02"},null,{"$f":"B433+1","v":"2019-12-03"},null,{"$f":"D433+1","v":"2019-12-04"},null,{"$f":"F433+1","v":"2019-12-05"},null,{"$f":"H433+1","v":"2019-12-06"},null,{"$f":"J433+1","v":"2019-12-07"},null,{"$f":"L433+1","v":"2019-12-08"}]
["здоровье",null,null,null,null,null,null,null,null,null,null,null,null,null,null,{"$f":"SUM(B434:O434)","v":0},{"$f":"SUM(B434:O434)*100/SUM(B434:O441)","v":{"$error":"#DIV/0!"}}]
["быт",null,null,null,null,null,null,null,null,null,null,null,null,null,null,0,{"$f":"SUM(B435:O435)*100/SUM(B434:O441)","v":{"$error":"#DIV/0!"}}]
["близкие",null,null,null,null,null,null,null,null,null,null,null,null,null,null,0,{"$f":"SUM(B436:O436)*100/SUM(B434:O441)","v":{"$error":"#DIV/0!"}}]
["общество",null,null,null,null,null,null,null,null,null,null,null,null,null,null,0,{"$f":"SUM(B437:O437)*100/SUM(B434:O441)","v":{"$error":"#DIV/0!"}}]
["игра",null,null,null,null,null,null,null,null,null,null,null,null,null,null,0,{"$f":"SUM(B438:O438)*100/SUM(B434:O441)","v":{"$error":"#DIV/0!"}}]
["учёба",null,null,null,null,null,null,null,null,null,null,null,null,null,null,0,{"$f":"SUM(B439:O439)*100/SUM(B434:O441)","v":{"$error":"#DIV/0!"}}]
["труд",null,null,null,null,null,null,null,null,null,null,null,null,null,null,0,{"$f":"SUM(B440:O440)*100/SUM(B434:O441)","v":{"$error":"#DIV/0!"}}]
["признание",null,null,null,null,null,null,null,null,null,null,null,null,null,null,0,{"$f":"SUM(B441:O441)*100/SUM(B434:O441)","v":{"$error":"#DIV/0!"}}]
[null,{"$f":"N433+1","v":"2019-12-09"},null,{"$f":"B442+1","v":"2019-12-10"},null,{"$f":"D442+1","v":"2019-12-11"},null,{"$f":"F442+1","v":"2019-12-12"},null,{"$f":"H442+1","v":"2019-12-13"},null,{"$f":"J442+1","v":"2019-12-14"},null,{"$f":"L442+1","v":"2019-12-15"}]
["здоровье",null,null,null,null,null,null,null,null,null,null,null,null,null,null,{"$f":"SUM(B443:O443)","v":0},{"$f":"SUM(B443:O443)*100/SUM(B443:O450)","v":{"$error":"#DIV/0!"}}]
["быт",null,null,null,null,null,null,null,null,null,null,null,null,null,null,0,{"$f":"SUM(B444:O444)*100/SUM(B443:O450)","v":{"$error":"#DIV/0!"}}]
["близкие",null,null,null,null,null,null,null,null,null,null,null,null,null,null,0,{"$f":"SUM(B445:O445)*100/SUM(B443:O450)","v":{"$error":"#DIV/0!"}}]
["общество",null,null,null,null,null,null,null,null,null,null,null,null,null,null,0,{"$f":"SUM(B446:O446)*100/SUM(B443:O450)","v":{"$error":"#DIV/0!"}}]
["игра",null,null,null,null,null,null,null,null,null,null,null,null,null,null,0,{"$f":"SUM(B447:O447)*100/SUM(B443:O450)","v":{"$error":"#DIV/0!"}}]
["учёба",null,null,null,null,null,null,null,null,null,null,null,null,null,null,0,{"$f":"SUM(B448:O448)*100/SUM(B443:O450)","v":{"$error":"#DIV/0!"}}]
["труд",null,null,null,null,null,null,null,null,null,null,null,null,null,null,0,{"$f":"SUM(B449:O449)*100/SUM(B443:O450)","v":{"$error":"#DIV/0!"}}]
["признание",null,null,null,null,null,null,null,null,null,null,null,null,null,null,0,{"$f":"SUM(B450:O450)*100/SUM(B443:O450)","v":{"$error":"#DIV/0!"}}]
[null,{"$f":"N442+1","v":"2019-12-16"},null,{"$f":"B451+1","v":"2019-12-17"},null,{"$f":"D451+1","v":"2019-12-18"},null,{"$f":"F451+1","v":"2019-12-19"},null,{"$f":"H451+1","v":"2019-12-20"},null,{"$f":"J451+1","v":"2019-12-21"},null,{"$f":"L451+1","v":"2019-12-22"}]
["здоровье",null,null,null,null,null,null,null,null,null,null,null,null,null,null,{"$f":"SUM(B452:O452)","v":0},{"$f":"SUM(B452:O452)*100/SUM(B452:O459)","v":{"$error":"#DIV/0!"}}]
["быт",null,null,null,null,null,null,null,null,null,null,null,null,null,null,0,{"$f":"SUM(B453:O453)*100/SUM(B452:O459)","v":{"$error":"#DIV/0!"}}]
["близкие",null,null,null,null,null,null,null,null,null,null,null,null,null,null,0,{"$f":"SUM(B454:O454)*100/SUM(B452:O459)","v":{"$error":"#DIV/0!"}}]
["общество",null,null,null,null,null,null,null,null,null,null,null,null,null,null,0,{"$f":"SUM(B455:O455)*100/SUM(B452:O459)","v":{"$error":"#DIV/0!"}}]
["игра",null,null,null,null,null,null,null,null,null,null,null,null,null,null,0,{"$f":"SUM(B456:O456)*100/SUM(B452:O459)","v":{"$error":"#DIV/0!"}}]
["учёба",null,null,null,null,null,null,null,null,null,null,null,null,null,null,0,{"$f":"SUM(B457:O457)*100/SUM(B452:O459)","v":{"$error":"#DIV/0!"}}]
["труд",null,null,null,null,null,null,null,null,null,null,null,null,null,null,0,{"$f":"SUM(B458:O458)*100/SUM(B452:O459)","v":{"$error":"#DIV/0!"}}]
["признание",null,null,null,null,null,null,null,null,null,null,null,null,null,null,0,{"$f":"SUM(B459:O459)*100/SUM(B452:O459)","v":{"$error":"#DIV/0!"}}]
[null,{"$f":"N451+1","v":"2019-12-23"},null,{"$f":"B460+1","v":"2019-12-24"},null,{"$f":"D460+1","v":"2019-12-25"},null,{"$f":"F460+1","v":"2019-12-26"},null,{"$f":"H460+1","v":"2019-12-27"},null,{"$f":"J460+1","v":"2019-12-28"},null,{"$f":"L460+1","v":"2019-12-29"}]
["здоровье",null,null,null,null,null,null,null,null,null,null,null,null,null,null,{"$f":"SUM(B461:O461)","v":0},{"$f":"SUM(B461:O461)*100/SUM(B461:O468)","v":{"$error":"#DIV/0!"}}]
["быт",null,null,null,null,null,null,null,null,null,null,null,null,null,null,0,{"$f":"SUM(B462:O462)*100/SUM(B461:O468)","v":{"$error":"#DIV/0!"}}]
["близкие",null,null,null,null,null,null,null,null,null,null,null,null,null,null,0,{"$f":"SUM(B463:O463)*100/SUM(B461:O468)","v":{"$error":"#DIV/0!"}}]
["общество",null,null,null,null,null,null,null,null,null,null,null,null,null,null,0,{"$f":"SUM(B464:O464)*100/SUM(B461:O468)","v":{"$error":"#DIV/0!"}}]
["игра",null,null,null,null,null,null,null,null,null,null,null,null,null,null,0,{"$f":"SUM(B465:O465)*100/SUM(B461:O468)","v":{"$error":"#DIV/0!"}}]
["учёба",null,null,null,null,null,null,null,null,null,null,null,null,null,null,0,{"$f":"SUM(B466:O466)*100/SUM(B461:O468)","v":{"$error":"#DIV/0!"}}]
["труд",null,null,null,null,null,null,null,null,null,null,null,null,null,null,0,{"$f":"SUM(B467:O467)*100/SUM(B461:O468)","v":{"$error":"#DIV/0!"}}]
["признание",null,null,null,null,null,null,null,null,null,null,null,null,null,null,0,{"$f":"SUM(B468:O468)*100/SUM(B461:O468)","v":{"$error":"#DIV/0!"}}]
[null,{"$f":"N460+1","v":"2019-12-30"},null,{"$f":"B469+1","v":"2019-12-31"},null,{"$f":"D469+1","v":"2020-01-01"},null,{"$f":"F469+1","v":"2020-01-02"},null,{"$f":"H469+1","v":"2020-01-03"},null,{"$f":"J469+1","v":"2020-01-04"},null,{"$f":"L469+1","v":"2020-01-05"}]
["здоровье",null,null,null,null,null,null,null,null,null,null,null,null,null,null,{"$f":"SUM(B470:O470)","v":0},{"$f":"SUM(B470:O470)*100/SUM(B470:O477)","v":{"$error":"#DIV/0!"}}]
["быт",null,null,null,null,null,null,null,null,null,null,null,null,null,null,0,{"$f":"SUM(B471:O471)*100/SUM(B470:O477)","v":{"$error":"#DIV/0!"}}]
["близкие",null,null,null,null,null,null,null,null,null,null,null,null,null,null,0,{"$f":"SUM(B472:O472)*100/SUM(B470:O477)","v":{"$error":"#DIV/0!"}}]
["общество",null,null,null,null,null,null,null,null,null,null,null,null,null,null,0,{"$f":"SUM(B473:O473)*100/SUM(B470:O477)","v":{"$error":"#DIV/0!"}}]
["игра",null,null,null,null,null,null,null,null,null,null,null,null,null,null,0,{"$f":"SUM(B474:O474)*100/SUM(B470:O477)","v":{"$error":"#DIV/0!"}}]
["учёба",null,null,null,null,null,null,null,null,null,null,null,null,null,null,0,{"$f":"SUM(B475:O475)*100/SUM(B470:O477)","v":{"$error":"#DIV/0!"}}]
["труд",null,null,null,null,null,null,null,null,null,null,null,null,null,null,0,{"$f":"SUM(B476:O476)*100/SUM(B470:O477)","v":{"$error":"#DIV/0!"}}]
["признание",null,null,null,null,null,null,null,null,null,null,null,null,null,null,0,{"$f":"SUM(B477:O477)*100/SUM(B470:O477)","v":{"$error":"#DIV/0!"}}]
[]
[]
[]
[]
[]
[]
[]
[]
[]
[]
[]
[]
[]
[]
[]
[]
[]
[]
[]
[]
[]
[]
[]
[]
[]
[]
[]
[]
[]
[]
[]
[]
[]
[]
[]
[]
[]
[]
[]
[]
[]
[]
[]
[]
[]
[]
[]
[]
[]
[]
[]
[]
[]
[]
[]
[]
[]
[]
[]
[]
[]
[]
[]
[]
[]
[]
[]
[]
[]
[]
[]
[]
[]
[]
[]
[]
[]
[]
[]
[]
[]
[]
[]
[]
[]
[]
[]
[]
[]
[]
[]
[]
[]
[]
[]
[]
[]
[]
[]
[]
[]
[]
[]
[]
[]
[]
[]
[]
[]
[]
[]
[]
[]
[]
[]
[]
[]
[]
[]
[]
[]
[]
[]
[]
[]
[]
[]
[]
[]
[]
[]
[]
[]
[]
[]
[]
[]
[]
[]
[]
[]
[]
[]
[]
[]
[]
[]
[]
[]
[]
[]
[]
[]
[]
[]
[]
[]
[]
[]
[]
[]
[]
[]
[]
[]
[]
[]
[]
[]
[]
[]
[]
[]
[]
[]
[]
[]
[]
[]
[]
[]
[]
[]
[]
[]
[]
[]
[]
[]
[]
[]
[]
[]
[]
[]
[]
[]
[]
[]
[]
[]
[]
[]
[]
[]
[]
[]
[]
[]
[]
[]
[]
[]
[]
[]
[]
[]
[]
[]
[]
[]
[]
[]
[]
[]
[]
[]
[]
[]
[]
[]
[]
[]
[]
[]
[]
[]
[]
[]
[]
[]
[]
[]
[]
[]
[]
[]
[]
[]
[]
[]
[]
[]
[]
[]
[]
[]
[]
[]
[]
[]
[]
[]
[]
[]
[]
[]
[]
[]
[]
[]
[]
[]
[]
[]
[]
[]
[]
[]
[]
[]
[]
[]
[]
[]
[]
[]
[]
[]
[]
[]
[]
[]
[]
[]
[]
[]
[]
[]
[]
[]
[]
[]
[]
[]
[]
[]
[]
[]
[]
[]
[]
[]
[]
[]
[]
[]
[]
[]
[]
[]
[]
[]
[]
[]
[]
[]
[]
[]
[]
[]
[]
[]
[]
[]
[]
[]
[]
[]
[]
[]
[]
[]
[]
[]
[]
[]
[]
[]
[]
[]
[]
[]
[]
[]
[]
[]
[]
[]
[]
[]
[]
[]
[]
[]
[]
[]
[]
[]
[]
[]
[]
[]
[]
[]
[]
[]
[]
[]
[]
[]
[]
[]
[]
[]
[]
[]
[]
[]
[]
[]
[]
[]
[]
[]
[]
[]
[]
[]
[]
[]
[]
[]
[]
[]
[]
[]
[]
[]
[]
[]
[]
[]
[]
[]
[]
[]
[]
[]
[]
[]
[]
[]
[]
[]
[]
[]
[]
[]
[]
[]
[]
[]
[]
[]
[]
[]
[]
[]
[]
[]
[]
[]
[]
[]
[]
[]
[]
[]
[]
[]
[]
[]
[]
[]
[]
[]
[]
[]
[]
[]
[]
[]
[]
[]
[]
[]
[]
[]
[]
[]
[]
[]
[]
[]
[]
[]
[]
[]
[]
[]
[]
[]
[]
[]
[]
[]
[]
[]
[]
[]
[]
[]
[]
[]
[]
[]
[]
[]
[]
[]
[]
[]
[]
[]
[]
[]
[]
[]
[]
[]
[]
[]
[]
[]
[]
[]
[]
[]
[]
[]
[]
[]
[]
[]
[]
[]
[]
[]
[]
[]
[]
[]
[]
[]
[]
[]
[]
[]
[]
[]
[]
[]
[]
[]
[]
[]
[]
[]
[]
[]
[]
[]
[]
[]
[]
[]
[]
[]
[]
[]
[]
[]
[]
[]
[]
[]
[]
[]
[]
[]
[]
[]
[]
[]
[]
[]
[]
[]
[]
[]
[]
[]
[]
[]
[]
[]
[]
[]
[]
[]
[]
[]
[]
[]
[]
[]
[]
[]
[]
[]
[]
[]
[]
[]
[]
[]
[]
[]
[]
[]
[]
[]
[]
[]
[]
[]
[]
[]
[]
[]
[]
[]
[]
[]
[]
[]
[]
[]
[]
[]
[]
[]
[]
[]
[]
[]
[]
[]
[]
[]
[]
[]
[]
[]
[]
[]
[]
[]
[]
[]
[]
[]
[]
[]
[]
[]
[]
[]
[]
[]
[]
[]
[]
[]
[]
[]
[]
[]
[]
[]
[]
[]
[]
[]
[]
[]
[]
[]
[]
[]
[]
[]
[]
[]
[]
[]
[]
[]
[]
[]
[]
[]
[]
[]
[]
[]
[]
[]
[]
[]
[]
[]
[]
[]
[]
[]
[]
[]
[]
[]
[]
[]
[]
[]
[]
[]
[]
[]
[]
[]
[]
[]
[]
[]
[]
[]
[]
[]
[]
[]
[]
[]
[]
[]
[]
[]
[]
[]
[]
[]
[]
[]
[]
[]
[]
[]
[]
[]
[]
[]
[]
[]
[]
[]
[]
[]
[]
[]
[]
[]
[]
[]
[]
[]
[]
[]
[]
[]
[]
[]
[]
[]
[]
[]
[]
[]
[]
[]
[]
[]
[]
[]
[]
[]
[]
[]
[]
[]
[]
[]
[]
[]
[]
[]
[]
[]
[]
[]
[]
[]
[]
[]
[]
[]
[]
[]
[]
[]
[]
[]
[]
[]
[]
[]
[]
[]
[]
[]
[]
[]
[]
[]
[]
[]
[]
[]
[]
[]
[]
[]
[]
[]
[]
[]
[]
[]
[]
[]
[]
[]
[]
[]
[]
[]
[]
[]
[]
[]
[]
[]
[]
[]
[]
[]
[]
[]
[]
[]
[]
[]
[]
[]
[]
[]
[]
[]
[]
[]
[]
[]
[]
[]
[]
[]
[]
[]
[]
[]
[]
[]
[]
[]
[]
[]
[]
[]
[]
[]
[]
[]
[]
[]
[]
[]
[]
[]
[]
[]
[]
[]
[]
[]
[]
[]
[]
[]
[]
[]
[]
[]
[]
[]
[]
[]
[]
[]
[]
[]
[]
[]
[]
[]
[]
[]
[]
[]
[]
[]
[]
[]
[]
[]
[]
[]
[]
[]
[]
[]
[]
[]
[]
[]
[]
[]
[]
[]
[]
[]
[]
[]
[]
[]
[]
[]
[]
[]
[]
[]
[]
[]
[]
[]
[]
[]
[]
[]
[]
[]
[]
[]
[]
[]
[]
[]
[]
[]
[]
[]
[]
[]
[]
[]
[]
[]
[]
[]
[]
[]
[]
[]
[]
[]
[]
[]
[]
[]
[]
[]
[]
[]
[]
[]
[]
[]
[]
[]
[]
[]
[]
[]
[]
[]
[]
[]
[]
[]
[]
[]
[]
[]
[]
[]
[]
[]
[]
[]
[]
[]
[]
[]
[]
[]
[]
[]
[]
[]
[]
[]
[]
[]
[]
[]
[]
[]
[]
[]
[]
[]
[]
[]
[]
[]
[]
[]
[]
[]
[]
[]
[]
[]
[]
[]
[]
[]
[]
[]
[]
[]
[]
[]
[]
[]
[]
[]
[]
[]
[]
[]
[]
[]
[]
[]
[]
[]
[]
[]
[]
[]
[]
[]
[]
[]
[]
[]
[]
[]
[]
[]
[]
[]
[]
[]
[]
[]
[]
[]
[]
[]
[]
[]
[]
[]
[]
[]
[]
[]
[]
[]
[]
[]
[]
[]
[]
[]
[]
[]
[]
[]
[]
[]
[]
[]
[]
[]
[]
[]
[]
[]
[]
[]
[]
[]
[]
[]
[]
[]
[]
[]
[]
[]
[]
[]
[]
[]
[]
[]
[]
[]
[]
[]
[]
[]
[]
[]
[]
[]
[]
[]
[]
[]
[]
[]
[]
[]
[]
[]
[]
[]
[]
[]
[]
[]
[]
[]
[]
[]
[]
[]
[]
[]
[]
[]
[]
[]
[]
[]
[]
[]
[]
[]
[]
[]
[]
[]
[]
[]
[]
[]
[]
[]
[]
[]
[]
[]
[]
[]
[]
[]
[]
[]
[]
[]
[]
[]
[]
[]
[]
[]
[]
[]
[]
[]
[]
[]
[]
[]
[]
[]
[]
[]
[]
[]
[]
[]
[]
[]
[]
[]
[]
[]
[]
[]
[]
[]
[]
[]
[]
[]
[]
[]
[]
[]
[]
[]
[]
[]
[]
[]
[]
[]
[]
[]
[]
[]
[]
[]
[]
[]
[]
[]
[]
[]
[]
[]
[]
[]
[]
[]
[]
[]
[]
[]
[]
[]
[]
[]
[]
[]
[]
[]
[]
[]
[]
[]
[]
[]
[]
[]
[]
[]
[]
[]
[]
[]
[]
[]
[]
[]
[]
[]
[]
[]
[]
[]
[]
[]
[]
[]
[]
[]
[]
[]
[]
[]
[]
[]
[]
[]
[]
[]
[]
[]
[]
[]
[]
[]
[]
[]
[]
[]
[]
[]
[]
[]
[]
[]
[]
[]
[]
[]
[]
[]
[]
[]
[]
[]
[]
[]
[]
[]
[]
[]
[]
[]
[]
[]
[]
[]
[]
[]
[]
[]
[]
[]
[]
[]
[]
[]
[]
[]
[]
[]
[]
[]
[]
[]
[]
[]
[]
[]
[]
[]
[]
[]
[]
[]
[]
[]
[]
[]
[]
[]
[]
[]
[]
[]
[]
[]
[]
[]
[]
[]
[]
[]
[]
[]
[]
[]
[]
[]
[]
[]
[]
[]
[]
[]
[]
[]
[]
[]
[]
[]
[]
[]
[]
[]
[]
[]
[]
[]
[]
[]
[]
[]
[]
[]
[]
[]
[]
[]
[]
[]
[]
[]
[]
[]
[]
[]
[]
[]
[]
[]
[]
[]
[]
[]
[]
[]
[]
[]
[]
[]
[]
[]
[]
[]
[]
[]
[]
[]
[]
[]
[]
[]
[]
[]
[]
[]
[]
[]
[]
[]
[]
[]
[]
[]
[]
[]
[]
[]
[]
[]
[]
[]
[]
[]
[]
[]
[]
[]
[]
[]
[]
[]
[]
[]
[]
[]
[]
[]
[]
[]
[]
[]
[]
[]
[]
[]
[]
[]
[]
[]
[]
[]
[]
[]
[]
[]
[]
[]
[]
[]
[]
[]
[]
[]
[]
[]
[]
[]
[]
[]
[]
[]
[]
[]
[]
[]
[]
[]
[]
[]
[]
[]
[]
[]
[]
[]
[]
[]
[]
[]
[]
[]
[]
[]
[]
[]
[]
[]
[]
[]
[]
[]
[]
[]
[]
[]
[]
[]
[]
[]
[]
[]
[]
[]
[]
[]
[]
[]
[]
[]
[]
[]
[]
[]
[]
[]
[]
[]
[]
[]
[]
[]
[]
[]
[]
[]
[]
[]
[]
[]
[]
[]
[]
[]
[]
[]
[]
[]
[]
[]
[]
[]
[]
[]
[]
[]
[]
[]
[]
[]
[]
[]
[]
[]
[]
[]
[]
[]
[]
[]
[]
[]
[]
[]
[]
[]
[]
[]
[]
[]
[]
[]
[]
[]
[]
[]
[]
[]
[]
[]
[]
[]
[]
[]
[]
[]
[]
[]
[]
[]
[]
[]
[]
[]
[]
[]
[]
[]
[]
[]
[]
[]
[]
[]
[]
[]
[]
[]
[]
[]
[]
[]
[]
[]
[]
[]
[]
[]
[]
[]
[]
[]
[]
[]
[]
[]
[]
[]
[]
[]
[]
[]
[]
[]
[]
[]
[]
[]
[]
[]
[]
[]
[]
[]
[]
[]
[]
[]
[]
[]
[]
[]
[]
[]
[]
[]
[]
[]
[]
[]
[]
[]
[]
[]
[]
[]
[]
[]
[]
[]
[]
[]
[]
[]
[]
[]
[]
[]
[]
[]
[]
[]
[]
[]
[]
[]
[]
[]
[]
[]
[]
[]
[]
[]
[]
[]
[]
[]
[]
[]
[]
[]
[]
[]
[]
[]
[]
[]
[]
[]
[]
[]
[]
[]
[]
[]
[]
[]
[]
[]
[]
[]
[]
[]
[]
[]
[]
[]
[]
[]
[]
[]
[]
[]
[]
[]
[]
[]
[]
[]
[]
[]
[]
[]
[]
[]
[]
[]
[]
[]
[]
[]
[]
[]
[]
[]
[]
[]
[]
[]
[]
[]
[]
[]
[]
[]
[]
[]
[]
[]
[]
[]
[]
[]
[]
[]
[]
[]
[]
[]
[]
[]
[]
[]
[]
[]
[]
[]
[]
[]
[]
[]
[]
[]
[]
[]
[]
[]
[]
[]
[]
[]
[]
[]
[]
[]
[]
[]
[]
[]
[]
[]
[]
[]
[]
[]
[]
[]
[]
[]
[]
[]
[]
[]
[]
[]
[]
[]
[]
[]
[]
[]
[]
[]
[]
[]
[]
[]
[]
[]
[]
[]
[]
[]
[]
[]
[]
[]
[]
[]
[]
[]
[]
[]
[]
[]
[]
[]
[]
[]
[]
[]
[]
[]
[]
[]
[]
[]
[]
[]
[]
[]
[]
[]
[]
[]
[]
[]
[]
[]
[]
[]
[]
[]
[]
[]
[]
[]
[]
[]
[]
[]
[]
[]
[]
[]
[]
[]
[]
[]
[]
[]
[]
[]
[]
[]
[]
[]
[]
[]
[]
[]
[]
[]
[]
[]
[]
[]
[]
[]
[]
[]
[]
[]
[]
[]
[]
[]
[]
[]
[]
[]
[]
[]
[]
[]
[]
[]
[]
[]
[]
[]
[]
[]
[]
[]
[]
[]
[]
[]
[]
[]
[]
[]
[]
[]
[]
[]
[]
[]
[]
[]
[]
[]
[]
[]
[]
[]
[]
[]
[]
[]
[]
[]
[]
[]
[]
[]
[]
[]
[]
[]
[]
[]
[]
[]
[]
[]
[]
[]
[]
[]
[]
[]
[]
[]
[]
[]
[]
[]
[]
[]
[]
[]
[]
[]
[]
[]
[]
[]
[]
[]
[]
[]
[]
[]
[]
[]
[]
[]
[]
[]
[]
[]
[]
[]
[]
[]
[]
[]
[]
[]
[]
[]
[]
[]
[]
[]
[]
[]
[]
[]
[]
[]
[]
[]
[]
[]
[]
[]
[]
[]
[]
[]
[]
[]
[]
[]
[]
[]
[]
[]
[]
[]
[]
[]
[]
[]
[]
[]
[]
[]
[]
[]
[]
[]
[]
[]
[]
[]
[]
[]
[]
[]
[]
[]
[]
[]
[]
[]
[]
[]
[]
[]
[]
[]
[]
[]
[]
[]
[]
[]
[]
[]
[]
[]
[]
[]
[]
[]
[]
[]
[]
[]
[]
[]
[]
[]
[]
[]
[]
[]
[]
[]
[]
[]
[]
[]
[]
[]
[]
[]
[]
[]
[]
[]
[]
[]
[]
[]
[]
[]
[]
[]
[]
[]
[]
[]
[]
[]
[]
[]
[]
[]
[]
[]
[]
[]
[]
[]
[]
[]
[]
[]
[]
[]
[]
[]
[]
[]
[]
[]
[]
[]
[]
[]
[]
[]
[]
[]
[]
[]
[]
[]
[]
[]
[]
[]
[]
[]
[]
[]
[]
[]
[]
[]
[]
[]
[]
[]
[]
[]
[]
[]
[]
[]
[]
[]
[]
[]
[]
[]
[]
[]
[]
[]
[]
[]
[]
[]
[]
[]
[]
[]
[]
[]
[]
[]
[]
[]
[]
[]
[]
[]
[]
[]
[]
[]
[]
[]
[]
[]
[]
[]
[]
[]
[]
[]
[]
[]
[]
[]
[]
[]
[]
[]
[]
[]
[]
[]
[]
[]
[]
[]
[]
[]
[]
[]
[]
[]
[]
[]
[]
[]
[]
[]
[]
[]
[]
[]
[]
[]
[]
[]
[]
[]
[]
[]
[]
[]
[]
[]
[]
[]
[]
[]
[]
[]
[]
[]
[]
[]
[]
[]
[]
[]
[]
[]
[]
[]
[]
[]
[]
[]
[]
[]
[]
[]
[]
[]
[]
[]
[]
[]
[]
[]
[]
[]
[]
[]
[]
[]
[]
[]
[]
[]
[]
[]
[]
[]
[]
[]
[]
[]
[]
[]
[]
[]
[]
[]
[]
[]
[]
[]
[]
[]
[]
[]
[]
[]
[]
[]
[]
[]
[]
[]
[]
[]
[]
[]
[]
[]
[]
[]
[]
[]
[]
[]
[]
[]
[]
[]
[]
[]
[]
[]
[]
[]
[]
[]
[]
[]
[]
[]
[]
[]
[]
[]
[]
[]
[]
[]
[]
[]
[]
[]
[]
[]
[]
[]
[]
[]
[]
[]
[]
[]
[]
[]
[]
[]
[]
[]
[]
[]
[]
[]
[]
[]
[]
[]
[]
[]
[]
[]
[]
[]
[]
[]
[]
[]
[]
[]
[]
[]
[]
[]
[]
[]
[]
[]
[]
[]
[]
[]
[]
[]
[]
[]
[]
[]
[]
[]
[]
[]
[]
[]
[]
[]
[]
[]
[]
[]
[]
[]
[]
[]
[]
[]
[]
[]
[]
[]
[]
[]
[]
[]
[]
[]
[]
[]
[]
[]
[]
[]
[]
[]
[]
[]
[]
[]
[]
[]
[]
[]
[]
[]
[]
[]
[]
[]
[]
[]
[]
[]
[]
[]
[]
[]
[]
[]
[]
[]
[]
[]
[]
[]
[]
[]
[]
[]
[]
[]
[]
[]
[]
[]
[]
[]
[]
[]
[]
[]
[]
[]
[]
[]
[]
[]
[]
[]
[]
[]
[]
[]
[]
[]
[]
[]
[]
[]
[]
[]
[]
[]
[]
[]
[]
[]
[]
[]
[]
[]
[]
[]
[]
[]
[]
[]
[]
[]
[]
[]
[]
[]
[]
[]
[]
[]
[]
[]
[]
[]
[]
[]
[]
[]
[]
[]
[]
[]
[]
[]
[]
[]
[]
[]
[]
[]
[]
[]
[]
[]
[]
[]
[]
[]
[]
[]
[]
[]
[]
[]
[]
[]
[]
[]
[]
[]
[]
[]
[]
[]
[]
[]
[]
[]
[]
[]
[]
[]
[]
[]
[]
[]
[]
[]
[]
[]
[]
[]
[]
[]
[]
[]
[]
[]
[]
[]
[]
[]
[]
[]
[]
[]
[]
[]
[]
[]
[]
[]
[]
[]
[]
[]
[]
[]
[]
[]
[]
[]
[]
[]
[]
[]
[]
[]
[]
[]
[]
[]
[]
[]
[]
[]
[]
[]
[]
[]
[]
[]
[]
[]
[]
[]
[]
[]
[]
[]
[]
[]
[]
[]
[]
[]
[]
[]
[]
[]
[]
[]
[]
[]
[]
[]
[]
[]
[]
[]
[]
[]
[]
[]
[]
[]
[]
[]
[]
[]
[]
[]
[]
[]
[]
[]
[]
[]
[]
[]
[]
[]
[]
[]
[]
[]
[]
[]
[]
[]
[]
[]
[]
[]
[]
[]
[]
[]
[]
[]
[]
[]
[]
[]
[]
[]
[]
[]
[]
[]
[]
[]
[]
[]
[]
[]
[]
[]
[]
[]
[]
[]
[]
[]
[]
[]
[]
[]
[]
[]
[]
[]
[]
[]
[]
[]
[]
[]
[]
[]
[]
[]
[]
[]
[]
[]
[]
[]
[]
[]
[]
[]
[]
[]
[]
[]
[]
[]
[]
[]
[]
[]
[]
[]
[]
[]
[]
[]
[]
[]
[]
[]
[]
[]
[]
[]
[]
[]
[]
[]
[]
[]
[]
[]
[]
[]
[]
[]
[]
[]
[]
[]
[]
[]
[]
[]
[]
[]
[]
[]
[]
[]
[]
[]
[]
[]
[]
[]
[]
[]
[]
[]
[]
[]
[]
[]
[]
[]
[]
[]
[]
[]
[]
[]
[]
[]
[]
[]
[]
[]
[]
[]
[]
[]
[]
[]
[]
[]
[]
[]
[]
[]
[]
[]
[]
[]
[]
[]
[]
[]
[]
[]
[]
[]
[]
[]
[]
[]
[]
[]
[]
[]
[]
[]
[]
[]
[]
[]
[]
[]
[]
[]
[]
[]
[]
[]
[]
[]
[]
[]
[]
[]
[]
[]
[]
[]
[]
[]
[]
[]
[]
[]
[]
[]
[]
[]
[]
[]
[]
[]
[]
[]
[]
[]
[]
[]
[]
[]
[]
[]
[]
[]
[]
[]
[]
[]
[]
[]
[]
[]
[]
[]
[]
[]
[]
[]
[]
[]
[]
[]
[]
[]
[]
[]
[]
[]
[]
[]
[]
[]
[]
[]
[]
[]
[]
[]
[]
[]
[]
[]
[]
[]
[]
[]
[]
[]
[]
[]
[]
[]
[]
[]
[]
[]
[]
[]
[]
[]
[]
[]
[]
[]
[]
[]
[]
[]
[]
[]
[]
[]
[]
[]
[]
[]
[]
[]
[]
[]
[]
[]
[]
[]
[]
[]
[]
[]
[]
[]
[]
[]
[]
[]
[]
[]
[]
[]
[]
[]
[]
[]
[]
[]
[]
[]
[]
[]
[]
[]
[]
[]
[]
[]
[]
[]
[]
[]
[]
[]
[]
[]
[]
[]
[]
[]
[]
[]
[]
[]
[]
[]
[]
[]
[]
[]
[]
[]
[]
[]
[]
[]
[]
[]
[]
[]
[]
[]
[]
[]
[]
[]
[]
[]
[]
[]
[]
[]
[]
[]
[]
[]
[]
[]
[]
[]
[]
[]
[]
[]
[]
[]
[]
[]
[]
[]
[]
[]
[]
[]
[]
[]
[]
[]
[]
[]
[]
[]
[]
[]
[]
[]
[]
[]
[]
[]
[]
[]
[]
[]
[]
[]
[]
[]
[]
[]
[]
[]
[]
[]
[]
[]
[]
[]
[]
[]
[]
[]
[]
[]
[]
[]
[]
[]
[]
[]
[]
[]
[]
[]
[]
[]
[]
[]
[]
[]
[]
[]
[]
[]
[]
[]
[]
[]
[]
[]
[]
[]
[]
[]
[]
[]
[]
[]
[]
[]
[]
[]
[]
[]
[]
[]
[]
[]
[]
[]
[]
[]
[]
[]
[]
[]
[]
[]
[]
[]
[]
[]
[]
[]
[]
[]
[]
[]
[]
[]
[]
[]
[]
[]
[]
[]
[]
[]
[]
[]
[]
[]
[]
[]
[]
[]
[]
[]
[]
[]
[]
[]
[]
[]
[]
[]
[]
[]
[]
[]
[]
[]
[]
[]
[]
[]
[]
[]
[]
[]
[]
[]
[]
[]
[]
[]
[]
[]
[]
[]
[]
[]
[]
[]
[]
[]
[]
[]
[]
[]
[]
[]
[]
[]
[]
[]
[]
[]
[]
[]
[]
[]
[]
[]
[]
[]
[]
[]
[]
[]
[]
[]
[]
[]
[]
[]
[]
[]
[]
[]
[]
[]
[]
[]
[]
[]
[]
[]
[]
[]
[]
[]
[]
[]
[]
[]
[]
[]
[]
[]
[]
[]
[]
[]
[]
[]
[]
[]
[]
[]
[]
[]
[]
[]
[]
[]
[]
[]
[]
[]
[]
[]
[]
[]
[]
[]
[]
[]
[]
[]
[]
[]
[]
[]
[]
[]
[]
[]
[]
[]
[]
[]
[]
[]
[]
[]
[]
[]
[]
[]
[]
[]
[]
[]
[]
[]
[]
[]
[]
[]
[]
[]
[]
[]
[]
[]
[]
[]
[]
[]
[]
[]
[]
[]
[]
[]
[]
[]
[]
[]
[]
[]
[]
[]
[]
[]
[]
[]
[]
[]
[]
[]
[]
[]
[]
[]
[]
[]
[]
[]
[]
[]
[]
[]
[]
[]
[]
[]
[]
[]
[]
[]
[]
[]
[]
[]
[]
[]
[]
[]
[]
[]
[]
[]
[]
[]
[]
[]
[]
[]
[]
[]
[]
[]
[]
[]
[]
[]
[]
[]
[]
[]
[]
[]
[]
[]
[]
[]
[]
[]
[]
[]
[]
[]
[]
[]
[]
[]
[]
[]
[]
[]
[]
[]
[]
[]
[]
[]
[]
[]
[]
[]
[]
[]
[]
[]
[]
[]
[]
[]
[]
[]
[]
[]
[]
[]
[]
[]
[]
[]
[]
[]
[]
[]
[]
[]
[]
[]
[]
[]
[]
[]
[]
[]
[]
[]
[]
[]
[]
[]
[]
[]
[]
[]
[]
[]
[]
[]
[]
[]
[]
[]
[]
[]
[]
[]
[]
[]
[]
[]
[]
[]
[]
[]
[]
[]
[]
[]
[]
[]
[]
[]
[]
[]
[]
[]
[]
[]
[]
[]
[]
[]
[]
[]
[]
[]
[]
[]
[]
[]
[]
[]
[]
[]
[]
[]
[]
[]
[]
[]
[]
[]
[]
[]
[]
[]
[]
[]
[]
[]
[]
[]
[]
[]
[]
[]
[]
[]
[]
[]
[]
[]
[]
[]
[]
[]
[]
[]
[]
[]
[]
[]
[]
[]
[]
[]
[]
[]
[]
[]
[]
[]
[]
[]
[]
[]
[]
[]
[]
[]
[]
[]
[]
[]
[]
[]
[]
[]
[]
[]
[]
[]
[]
[]
[]
[]
[]
[]
[]
[]
[]
[]
[]
[]
[]
[]
[]
[]
[]
[]
[]
[]
[]
[]
[]
[]
[]
[]
[]
[]
[]
[]
[]
[]
[]
[]
[]
[]
[]
[]
[]
[]
[]
[]
[]
[]
[]
[]
[]
[]
[]
[]
[]
[]
[]
[]
[]
[]
[]
[]
[]
[]
[]
[]
[]
[]
[]
[]
[]
[]
[]
[]
[]
[]
[]
[]
[]
[]
[]
[]
[]
[]
[]
[]
[]
[]
[]
[]
[]
[]
[]
[]
[]
[]
[]
[]
[]
[]
[]
[]
[]
[]
[]
[]
[]
[]
[]
[]
[]
[]
[]
[]
[]
[]
[]
[]
[]
[]
[]
[]
[]
[]
[]
[]
[]
[]
[]
[]
[]
[]
[]
[]
[]
[]
[]
[]
[]
[]
[]
[]
[]
[]
[]
[]
[]
[]
[]
[]
[]
[]
[]
[]
[]
[]
[]
[]
[]
[]
[]
[]
[]
[]
[]
[]
[]
[]
[]
[]
[]
[]
[]
[]
[]
[]
[]
[]
[]
[]
[]
[]
[]
[]
[]
[]
[]
[]
[]
[]
[]
[]
[]
[]
[]
[]
[]
[]
[]
[]
[]
[]
[]
[]
[]
[]
[]
[]
[]
[]
[]
[]
[]
[]
[]
[]
[]
[]
[]
[]
[]
[]
[]
[]
[]
[]
[]
[]
[]
[]
[]
[]
[]
[]
[]
[]
[]
[]
[]
[]
[]
[]
[]
[]
[]
[]
[]
[]
[]
[]
[]
[]
[]
[]
[]
[]
[]
[]
[]
[]
[]
[]
[]
[]
[]
[]
[]
[]
[]
[]
[]
[]
[]
[]
[]
[]
[]
[]
[]
[]
[]
[]
[]
[]
[]
[]
[]
[]
[]
[]
[]
[]
[]
[]
[]
[]
[]
[]
[]
[]
[]
[]
[]
[]
[]
[]
[]
[]
[]
[]
[]
[]
[]
[]
[]
[]
[]
[]
[]
[]
[]
[]
[]
[]
[]
[]
[]
[]
[]
[]
[]
[]
[]
[]
[]
[]
[]
[]
[]
[]
[]
[]
[]
[]
[]
[]
[]
[]
[]
[]
[]
[]
[]
[]
[]
[]
[]
[]
[]
[]
[]
[]
[]
[]
[]
[]
[]
[]
[]
[]
[]
[]
[]
[]
[]
[]
[]
[]
[]
[]
[]
[]
[]
[]
[]
[]
[]
[]
[]
[]
[]
[]
[]
[]
[]
[]
[]
[]
[]
[]
[]
[]
[]
[]
[]
[]
[]
[]
[]
[]
[]
[]
[]
[]
[]
[]
[]
[]
[]
[]
[]
[]
[]
[]
[]
[]
[]
[]
[]
[]
[]
[]
[]
[]
[]
[]
[]
[]
[]
[]
[]
[]
[]
[]
[]
[]
[]
[]
[]
[]
[]
[]
[]
[]
[]
[]
[]
[]
[]
[]
[]
[]
[]
[]
[]
[]
[]
[]
[]
[]
[]
[]
[]
[]
[]
[]
[]
[]
[]
[]
[]
[]
[]
[]
[]
[]
[]
[]
[]
[]
[]
[]
[]
[]
[]
[]
[]
[]
[]
[]
[]
[]
[]
[]
[]
[]
[]
[]
[]
[]
[]
[]
[]
[]
[]
[]
[]
[]
[]
[]
[]
[]
[]
[]
[]
[]
[]
[]
[]
[]
[]
[]
[]
[]
[]
[]
[]
[]
[]
[]
[]
[]
[]
[]
[]
[]
[]
[]
[]
[]
[]
[]
[]
[]
[]
[]
[]
[]
[]
[]
[]
[]
[]
[]
[]
[]
[]
[]
[]
[]
[]
[]
[]
[]
[]
[]
[]
[]
[]
[]
[]
[]
[]
[]
[]
[]
[]
[]
[]
[]
[]
[]
[]
[]
[]
[]
[]
[]
[]
[]
[]
[]
[]
[]
[]
[]
[]
[]
[]
[]
[]
[]
[]
[]
[]
[]
[]
[]
[]
[]
[]
[]
[]
[]
[]
[]
[]
[]
[]
[]
[]
[]
[]
[]
[]
[]
[]
[]
[]
[]
[]
[]
[]
[]
[]
[]
[]
[]
[]
[]
[]
[]
[]
[]
[]
[]
[]
[]
[]
[]
[]
[]
[]
[]
[]
[]
[]
[]
[]
[]
[]
[]
[]
[]
[]
[]
[]
[]
[]
[]
[]
[]
[]
[]
[]
[]
[]
[]
[]
[]
[]
[]
[]
[]
[]
[]
[]
[]
[]
[]
[]
[]
[]
[]
[]
[]
[]
[]
[]
[]
[]
[]
[]
[]
[]
[]
[]
[]
[]
[]
[]
[]
[]
[]
[]
[]
[]
[]
[]
[]
[]
[]
[]
[]
[]
[]
[]
[]
[]
[]
[]
[]
[]
[]
[]
[]
[]
[]
[]
[]
[]
[]
[]
[]
[]
[]
[]
[]
[]
[]
[]
[]
[]
[]
[]
[]
[]
[]
[]
[]
[]
[]
[]
[]
[]
[]
[]
[]
[]
[]
[]
[]
[]
[]
[]
[]
[]
[]
[]
[]
[]
[]
[]
[]
[]
[]
[]
[]
[]
[]
[]
[]
[]
[]
[]
[]
[]
[]
[]
[]
[]
[]
[]
[]
[]
[]
[]
[]
[]
[]
[]
[]
[]
[]
[]
[]
[]
[]
[]
[]
[]
[]
[]
[]
[]
[]
[]
[]
[]
[]
[]
[]
[]
[]
[]
[]
[]
[]
[]
[]
[]
[]
[]
[]
[]
[]
[]
[]
[]
[]
[]
[]
[]
[]
[]
[]
[]
[]
[]
[]
[]
[]
[]
[]
[]
[]
[]
[]
[]
[]
[]
[]
[]
[]
[]
[]
[]
[]
[]
[]
[]
[]
[]
[]
[]
[]
[]
[]
[]
[]
[]
[]
[]
[]
[]
[]
[]
[]
[]
[]
[]
[]
[]
[]
[]
[]
[]
[]
[]
[]
[]
[]
[]
[]
[]
[]
[]
[]
[]
[]
[]
[]
[]
[]
[]
[]
[]
[]
[]
[]
[]
[]
[]
[]
[]
[]
[]
[]
[]
[]
[]
[]
[]
[]
[]
[]
[]
[]
[]
[]
[]
[]
[]
[]
[]
[]
[]
[]
[]
[]
[]
[]
[]
[]
[]
[]
[]
[]
[]
[]
[]
[]
[]
[]
[]
[]
[]
[]
[]
[]
[]
[]
[]
[]
[]
[]
[]
[]
[]
[]
[]
[]
[]
[]
[]
[]
[]
[]
[]
[]
[]
[]
[]
[]
[]
[]
[]
[]
[]
[]
[]
[]
[]
[]
[]
[]
[]
[]
[]
[]
[]
[]
[]
[]
[]
[]
[]
[]
[]
[]
[]
[]
[]
[]
[]
[]
[]
[]
[]
[]
[]
[]
[]
[]
[]
[]
[]
[]
[]
[]
[]
[]
[]
[]
[]
[]
[]
[]
[]
[]
[]
[]
[]
[]
[]
[]
[]
[]
[]
[]
[]
[]
[]
[]
[]
[]
[]
[]
[]
[]
[]
[]
[]
[]
[]
[]
[]
[]
[]
[]
[]
[]
[]
[]
[]
[]
[]
[]
[]
[]
[]
[]
[]
[]
[]
[]
[]
[]
[]
[]
[]
[]
[]
[]
[]
[]
[]
[]
[]
[]
[]
[]
[]
[]
[]
[]
[]
[]
[]
[]
[]
[]
[]
[]
[]
[]
[]
[]
[]
[]
[]
[]
[]
[]
[]
[]
[]
[]
[]
[]
[]
[]
[]
[]
[]
[]
[]
[]
[]
[]
[]
[]
[]
[]
[]
[]
[]
[]
[]
[]
[]
[]
[]
[]
[]
[]
[]
[]
[]
[]
[]
[]
[]
[]
[]
[]
[]
[]
[]
[]
[]
[]
[]
[]
[]
[]
[]
[]
[]
[]
[]
[]
[]
[]
[]
[]
[]
[]
[]
[]
[]
[]
[]
[]
[]
[]
[]
[]
[]
[]
[]
[]
[]
[]
[]
[]
[]
[]
[]
[]
[]
[]
[]
[]
[]
[]
[]
[]
[]
[]
[]
[]
[]
[]
[]
[]
[]
[]
[]
[]
[]
[]
[]
[]
[]
[]
[]
[]
[]
[]
[]
[]
[]
[]
[]
[]
[]
[]
[]
[]
[]
[]
[]
[]
[]
[]
[]
[]
[]
[]
[]
[]
[]
[]
[]
[]
[]
[]
[]
[]
[]
[]
[]
[]
[]
[]
[]
[]
[]
[]
[]
[]
[]
[]
[]
[]
[]
[]
[]
[]
[]
[]
[]
[]
[]
[]
[]
[]
[]
[]
[]
[]
[]
[]
[]
[]
[]
[]
[]
[]
[]
[]
[]
[]
[]
[]
[]
[]
[]
[]
[]
[]
[]
[]
[]
[]
[]
[]
[]
[]
[]
[]
[]
[]
[]
[]
[]
[]
[]
[]
[]
[]
[]
[]
[]
[]
[]
[]
[]
[]
[]
[]
[]
[]
[]
[]
[]
[]
[]
[]
[]
[]
[]
[]
[]
[]
[]
[]
[]
[]
[]
[]
[]
[]
[]
[]
[]
[]
[]
[]
[]
[]
[]
[]
[]
[]
[]
[]
[]
[]
[]
[]
[]
[]
[]
[]
[]
[]
[]
[]
[]
[]
[]
[]
[]
[]
[]
[]
[]
[]
[]
[]
[]
[]
[]
[]
[]
[]
[]
[]
[]
[]
[]
[]
[]
[]
[]
[]
[]
[]
[]
[]
[]
[]
[]
[]
[]
[]
[]
[]
[]
[]
[]
[]
[]
[]
[]
[]
[]
[]
[]
[]
[]
[]
[]
[]
[]
[]
[]
[]
[]
[]
[]
[]
[]
[]
[]
[]
[]
[]
[]
[]
[]
[]
[]
[]
[]
[]
[]
[]
[]
[]
[]
[]
[]
[]
[]
[]
[]
[]
[]
[]
[]
[]
[]
[]
[]
[]
[]
[]
[]
[]
[]
[]
[]
[]
[]
[]
[]
[]
[]
[]
[]
[]
[]
[]
[]
[]
[]
[]
[]
[]
[]
[]
[]
[]
[]
[]
[]
[]
[]
[]
[]
[]
[]
[]
[]
[]
[]
[]
[]
[]
[]
[]
[]
[]
[]
[]
[]
[]
[]
[]
[]
[]
[]
[]
[]
[]
[]
[]
[]
[]
[]
[]
[]
[]
[]
[]
[]
[]
[]
[]
[]
[]
[]
[]
[]
[]
[]
[]
[]
[]
[]
[]
[]
[]
[]
[]
[]
[]
[]
[]
[]
[]
[]
[]
[]
[]
[]
[]
[]
[]
[]
[]
[]
[]
[]
[]
[]
[]
[]
[]
[]
[]
[]
[]
[]
[]
[]
[]
[]
[]
[]
[]
[]
[]
[]
[]
[]
[]
[]
[]
[]
[]
[]
[]
[]
[]
[]
[]
[]
[]
[]
[]
[]
[]
[]
[]
[]
[]
[]
[]
[]
[]
[]
[]
[]
[]
[]
[]
[]
[]
[]
[]
[]
[]
[]
[]
[]
[]
[]
[]
[]
[]
[]
[]
[]
[]
[]
[]
[]
[]
[]
[]
[]
[]
[]
[]
[]
[]
[]
[]
[]
[]
[]
[]
[]
[]
[]
[]
[]
[]
[]
[]
[]
[]
[]
[]
[]
[]
[]
[]
[]
[]
[]
[]
[]
[]
[]
[]
[]
[]
[]
[]
[]
[]
[]
[]
[]
[]
[]
[]
[]
[]
[]
[]
[]
[]
[]
[]
[]
[]
[]
[]
[]
[]
[]
[]
[]
[]
[]
[]
[]
[]
[]
[]
[]
[]
[]
[]
[]
[]
[]
[]
[]
[]
[]
[]
[]
[]
[]
[]
[]
[]
[]
[]
[]
[]
[]
[]
[]
[]
[]
[]
[]
[]
[]
[]
[]
[]
[]
[]
[]
[]
[]
[]
[]
[]
[]
[]
[]
[]
[]
[]
[]
[]
[]
[]
[]
[]
[]
[]
[]
[]
[]
[]
[]
[]
[]
[]
[]
[]
[]
[]
[]
[]
[]
[]
[]
[]
[]
[]
[]
[]
[]
[]
[]
[]
[]
[]
[]
[]
[]
[]
[]
[]
[]
[]
[]
[]
[]
[]
[]
[]
[]
[]
[]
[]
[]
[]
[]
[]
[]
[]
[]
[]
[]
[]
[]
[]
[]
[]
[]
[]
[]
[]
[]
[]
[]
[]
[]
[]
[]
[]
[]
[]
[]
[]
[]
[]
[]
[]
[]
[]
[]
[]
[]
[]
[]
[]
[]
[]
[]
[]
[]
[]
[]
[]
[]
[]
[]
[]
[]
[]
[]
[]
[]
[]
[]
[]
[]
[]
[]
[]
[]
[]
[]
[]
[]
[]
[]
[]
[]
[]
[]
[]
[]
[]
[]
[]
[]
[]
[]
[]
[]
[]
[]
[]
[]
[]
[]
[]
[]
[]
[]
[]
[]
[]
[]
[]
[]
[]
[]
[]
[]
[]
[]
[]
[]
[]
[]
[]
[]
[]
[]
[]
[]
[]
[]
[]
[]
[]
[]
[]
[]
[]
[]
[]
[]
[]
[]
[]
[]
[]
[]
[]
[]
[]
[]
[]
[]
[]
[]
[]
[]
[]
[]
[]
[]
[]
[]
[]
[]
[]
[]
[]
[]
[]
[]
[]
[]
[]
[]
[]
[]
[]
[]
[]
[]
[]
[]
[]
[]
[]
[]
[]
[]
[]
[]
[]
[]
[]
[]
[]
[]
[]
[]
[]
[]
[]
[]
[]
[]
[]
[]
[]
[]
[]
[]
[]
[]
[]
[]
[]
[]
[]
[]
[]
[]
[]
[]
[]
[]
[]
[]
[]
[]
[]
[]
[]
[]
[]
[]
[]
[]
[]
[]
[]
[]
[]
[]
[]
[]
[]
[]
[]
[]
[]
[]
[]
[]
[]
[]
[]
[]
[]
[]
[]
[]
[]
[]
[]
[]
[]
[]
[]
[]
[]
[]
[]
[]
[]
[]
[]
[]
[]
[]
[]
[]
[]
[]
[]
[]
[]
[]
[]
[]
[]
[]
[]
[]
[]
[]
[]
[]
[]
[]
[]
[]
[]
[]
[]
[]
[]
[]
[]
[]
[]
[]
[]
[]
[]
[]
[]
[]
[]
[]
[]
[]
[]
[]
[]
[]
[]
[]
[]
[]
[]
[]
[]
[]
[]
[]
[]
[]
[]
[]
[]
[]
[]
[]
[]
[]
[]
[]
[]
[]
[]
[]
[]
[]
[]
[]
[]
[]
[]
[]
[]
[]
[]
[]
[]
[]
[]
[]
[]
[]
[]
[]
[]
[]
[]
[]
[]
[]
[]
[]
[]
[]
[]
[]
[]
[]
[]
[]
[]
[]
[]
[]
[]
[]
[]
[]
[]
[]
[]
[]
[]
[]
[]
[]
[]
[]
[]
[]
[]
[]
[]
[]
[]
[]
[]
[]
[]
[]
[]
[]
[]
[]
[]
[]
[]
[]
[]
[]
[]
[]
[]
[]
[]
[]
[]
[]
[]
[]
[]
[]
[]
[]
[]
[]
[]
[]
[]
[]
[]
[]
[]
[]
[]
[]
[]
[]
[]
[]
[]
[]
[]
[]
[]
[]
[]
[]
[]
[]
[]
[]
[]
[]
[]
[]
[]
[]
[]
[]
[]
[]
[]
[]
[]
[]
[]
[]
[]
[]
[]
[]
[]
[]
[]
[]
[]
[]
[]
[]
[]
[]
[]
[]
[]
[]
[]
[]
[]
[]
[]
[]
[]
[]
[]
[]
[]
[]
[]
[]
[]
[]
[]
[]
[]
[]
[]
[]
[]
[]
[]
[]
[]
[]
[]
[]
[]
[]
[]
[]
[]
[]
[]
[]
[]
[]
[]
[]
[]
[]
[]
[]
[]
[]
[]
[]
[]
[]
[]
[]
[]
[]
[]
[]
[]
[]
[]
[]
[]
[]
[]
[]
[]
[]
[]
[]
[]
[]
[]
[]
[]
[]
[]
[]
[]
[]
[]
[]
[]
[]
[]
[]
[]
[]
[]
[]
[]
[]
[]
[]
[]
[]
[]
[]
[]
[]
[]
[]
[]
[]
[]
[]
[]
[]
[]
[]
[]
[]
[]
[]
[]
[]
[]
[]
[]
[]
[]
[]
[]
[]
[]
[]
[]
[]
[]
[]
[]
[]
[]
[]
[]
[]
[]
[]
[]
[]
[]
[]
[]
[]
[]
[]
[]
[]
[]
[]
[]
[]
[]
[]
[]
[]
[]
[]
[]
[]
[]
[]
[]
[]
[]
[]
[]
[]
[]
[]
[]
[]
[]
[]
[]
[]
[]
[]
[]
[]
[]
[]
[]
[]
[]
[]
[]
[]
[]
[]
[]
[]
[]
[]
[]
[]
[]
[]
[]
[]
[]
[]
[]
[]
[]
[]
[]
[]
[]
[]
[]
[]
[]
[]
[]
[]
[]
[]
[]
[]
[]
[]
[]
[]
[]
[]
[]
[]
[]
[]
[]
[]
[]
[]
[]
[]
[]
[]
[]
[]
[]
[]
[]
[]
[]
[]
[]
[]
[]
[]
[]
[]
[]
[]
[]
[]
[]
[]
[]
[]
[]
[]
[]
[]
[]
[]
[]
[]
[]
[]
[]
[]
[]
[]
[]
[]
[]
[]
[]
[]
[]
[]
[]
[]
[]
[]
[]
[]
[]
[]
[]
[]
[]
[]
[]
[]
[]
[]
[]
[]
[]
[]
[]
[]
[]
[]
[]
[]
[]
[]
[]
[]
[]
[]
[]
[]
[]
[]
[]
[]
[]
[]
[]
[]
[]
[]
[]
[]
[]
[]
[]
[]
[]
[]
[]
[]
[]
[]
[]
[]
[]
[]
[]
[]
[]
[]
[]
[]
[]
[]
[]
[]
[]
[]
[]
[]
[]
[]
[]
[]
[]
[]
[]
[]
[]
[]
[]
[]
[]
[]
[]
[]
[]
[]
[]
[]
[]
[]
[]
[]
[]
[]
[]
[]
[]
[]
[]
[]
[]
[]
[]
[]
[]
[]
[]
[]
[]
[]
[]
[]
[]
[]
[]
[]
[]
[]
[]
[]
[]
[]
[]
[]
[]
[]
[]
[]
[]
[]
[]
[]
[]
[]
[]
[]
[]
[]
[]
[]
[]
[]
[]
[]
[]
[]
[]
[]
[]
[]
[]
[]
[]
[]
[]
[]
[]
[]
[]
[]
[]
[]
[]
[]
[]
[]
[]
[]
[]
[]
[]
[]
[]
[]
[]
[]
[]
[]
[]
[]
[]
[]
[]
[]
[]
[]
[]
[]
[]
[]
[]
[]
[]
[]
[]
[]
[]
[]
[]
[]
[]
[]
[]
[]
[]
[]
[]
[]
[]
[]
[]
[]
[]
[]
[]
[]
[]
[]
[]
[]
[]
[]
[]
[]
[]
[]
[]
[]
[]
[]
[]
[]
[]
[]
[]
[]
[]
[]
[]
[]
[]
[]
[]
[]
[]
[]
[]
[]
[]
[]
[]
[]
[]
[]
[]
[]
[]
[]
[]
[]
[]
[]
[]
[]
[]
[]
[]
[]
[]
[]
[]
[]
[]
[]
[]
[]
[]
[]
[]
[]
[]
[]
[]
[]
[]
[]
[]
[]
[]
[]
[]
[]
[]
[]
[]
[]
[]
[]
[]
[]
[]
[]
[]
[]
[]
[]
[]
[]
[]
[]
[]
[]
[]
[]
[]
[]
[]
[]
[]
[]
[]
[]
[]
[]
[]
[]
[]
[]
[]
[]
[]
[]
[]
[]
[]
[]
[]
[]
[]
[]
[]
[]
[]
[]
[]
[]
[]
[]
[]
[]
[]
[]
[]
[]
[]
[]
[]
[]
[]
[]
[]
[]
[]
[]
[]
[]
[]
[]
[]
[]
[]
[]
[]
[]
[]
[]
[]
[]
[]
[]
[]
[]
[]
[]
[]
[]
[]
[]
[]
[]
[]
[]
[]
[]
[]
[]
[]
[]
[]
[]
[]
[]
[]
[]
[]
[]
[]
[]
[]
[]
[]
[]
[]
[]
[]
[]
[]
[]
[]
[]
[]
[]
[]
[]
[]
[]
[]
[]
[]
[]
[]
[]
[]
[]
[]
[]
[]
[]
[]
[]
[]
[]
[]
[]
[]
[]
[]
[]
[]
[]
[]
[]
[]
[]
[]
[]
[]
[]
[]
[]
[]
[]
[]
[]
[]
[]
[]
[]
[]
[]
[]
[]
[]
[]
[]
[]
[]
[]
[]
[]
[]
[]
[]
[]
[]
[]
[]
[]
[]
[]
[]
[]
[]
[]
[]
[]
[]
[]
[]
[]
[]
[]
[]
[]
[]
[]
[]
[]
[]
[]
[]
[]
[]
[]
[]
[]
[]
[]
[]
[]
[]
[]
[]
[]
[]
[]
[]
[]
[]
[]
[]
[]
[]
[]
[]
[]
[]
[]
[]
[]
[]
[]
[]
[]
[]
[]
[]
[]
[]
[]
[]
[]
[]
[]
[]
[]
[]
[]
[]
[]
[]
[]
[]
[]
[]
[]
[]
[]
[]
[]
[]
[]
[]
[]
[]
[]
[]
[]
[]
[]
[]
[]
[]
[]
[]
[]
[]
[]
[]
[]
[]
[]
[]
[]
[]
[]
[]
[]
[]
[]
[]
[]
[]
[]
[]
[]
[]
[]
[]
[]
[]
[]
[]
[]
[]
[]
[]
[]
[]
[]
[]
[]
[]
[]
[]
[]
[]
[]
[]
[]
[]
[]
[]
[]
[]
[]
[]
[]
[]
[]
[]
[]
[]
[]
[]
[]
[]
[]
[]
[]
[]
[]
[]
[]
[]
[]
[]
[]
[]
[]
[]
[]
[]
[]
[]
[]
[]
[]
[]
[]
[]
[]
[]
[]
[]
[]
[]
[]
[]
[]
[]
[]
[]
[]
[]
[]
[]
[]
[]
[]
[]
[]
[]
[]
[]
[]
[]
[]
[]
[]
[]
[]
[]
[]
[]
[]
[]
[]
[]
[]
[]
[]
[]
[]
[]
[]
[]
[]
[]
[]
[]
[]
[]
[]
[]
[]
[]
[]
[]
[]
[]
[]
[]
[]
[]
[]
[]
[]
[]
[]
[]
[]
[]
[]
[]
[]
[]
[]
[]
[]
[]
[]
[]
[]
[]
[]
[]
[]
[]
[]
[]
[]
[]
[]
[]
[]
[]
[]
[]
[]
[]
[]
[]
[]
[]
[]
[]
[]
[]
[]
[]
[]
[]
[]
[]
[]
[]
[]
[]
[]
[]
[]
[]
[]
[]
[]
[]
[]
[]
[]
[]
[]
[]
[]
[]
[]
[]
[]
[]
[]
[]
[]
[]
[]
[]
[]
[]
[]
[]
[]
[]
[]
[]
[]
[]
[]
[]
[]
[]
[]
[]
[]
[]
[]
[]
[]
[]
[]
[]
[]
[]
[]
[]
[]
[]
[]
[]
[]
[]
[]
[]
[]
[]
[]
[]
[]
[]
[]
[]
[]
[]
[]
[]
[]
[]
[]
[]
[]
[]
[]
[]
[]
[]
[]
[]
[]
[]
[]
[]
[]
[]
[]
[]
[]
[]
[]
[]
[]
[]
[]
[]
[]
[]
[]
[]
[]
[]
[]
[]
[]
[]
[]
[]
[]
[]
[]
[]
[]
[]
[]
[]
[]
[]
[]
[]
[]
[]
[]
[]
[]
[]
[]
[]
[]
[]
[]
[]
[]
[]
[]
[]
[]
[]
[]
[]
[]
[]
[]
[]
[]
[]
[]
[]
[]
[]
[]
[]
[]
[]
[]
[]
[]
[]
[]
[]
[]
[]
[]
[]
[]
[]
[]
[]
[]
[]
[]
[]
[]
[]
[]
[]
[]
[]
[]
[]
[]
[]
[]
[]
[]
[]
[]
[]
[]
[]
[]
[]
[]
[]
[]
[]
[]
[]
[]
[]
[]
[]
[]
[]
[]
[]
[]
[]
[]
[]
[]
[]
[]
[]
[]
[]
[]
[]
[]
[]
[]
[]
[]
[]
[]
[]
[]
[]
[]
[]
[]
[]
[]
[]
[]
[]
[]
[]
[]
[]
[]
[]
[]
[]
[]
[]
[]
[]
[]
[]
[]
[]
[]
[]
[]
[]
[]
[]
[]
[]
[]
[]
[]
[]
[]
[]
[]
[]
[]
[]
[]
[]
[]
[]
[]
[]
[]
[]
[]
[]
[]
[]
[]
[]
[]
[]
[]
[]
[]
[]
[]
[]
[]
[]
[]
[]
[]
[]
[]
[]
[]
[]
[]
[]
[]
[]
[]
[]
[]
[]
[]
[]
[]
[]
[]
[]
[]
[]
[]
[]
[]
[]
[]
[]
[]
[]
[]
[]
[]
[]
[]
[]
[]
[]
[]
[]
[]
[]
[]
[]
[]
[]
[]
[]
[]
[]
[]
[]
[]
[]
[]
[]
[]
[]
[]
[]
[]
[]
[]
[]
[]
[]
[]
[]
[]
[]
[]
[]
[]
[]
[]
[]
[]
[]
[]
[]
[]
[]
[]
[]
[]
[]
[]
[]
[]
[]
[]
[]
[]
[]
[]
[]
[]
[]
[]
[]
[]
[]
[]
[]
[]
[]
[]
[]
[]
[]
[]
[]
[]
[]
[]
[]
[]
[]
[]
[]
[]
[]
[]
[]
[]
[]
[]
[]
[]
[]
[]
[]
[]
[]
[]
[]
[]
[]
[]
[]
[]
[]
[]
[]
[]
[]
[]
[]
[]
[]
[]
[]
[]
[]
[]
[]
[]
[]
[]
[]
[]
[]
[]
[]
[]
[]
[]
[]
[]
[]
[]
[]
[]
[]
[]
[]
[]
[]
[]
[]
[]
[]
[]
[]
[]
[]
[]
[]
[]
[]
[]
[]
[]
[]
[]
[]
[]
[]
[]
[]
[]
[]
[]
[]
[]
[]
[]
[]
[]
[]
[]
[]
[]
[]
[]
[]
[]
[]
[]
[]
[]
[]
[]
[]
[]
[]
[]
[]
[]
[]
[]
[]
[]
[]
[]
[]
[]
[]
[]
[]
[]
[]
[]
[]
[]
[]
[]
[]
[]
[]
[]
[]
[]
[]
[]
[]
[]
[]
[]
[]
[]
[]
[]
[]
[]
[]
[]
[]
[]
[]
[]
[]
[]
[]
[]
[]
[]
[]
[]
[]
[]
[]
[]
[]
[]
[]
[]
[]
[]
[]
[]
[]
[]
[]
[]
[]
[]
[]
[]
[]
[]
[]
[]
[]
[]
[]
[]
[]
[]
[]
[]
[]
[]
[]
[]
[]
[]
[]
[]
[]
[]
[]
[]
[]
[]
[]
[]
[]
[]
[]
[]
[]
[]
[]
[]
[]
[]
[]
[]
[]
[]
[]
[]
[]
[]
[]
[]
[]
[]
[]
[]
[]
[]
[]
[]
[]
[]
[]
[]
[]
[]
[]
[]
[]
[]
[]
[]
[]
[]
[]
[]
[]
[]
[]
[]
[]
[]
[]
[]
[]
[]
[]
[]
[]
[]
[]
[]
[]
[]
[]
[]
[]
[]
[]
[]
[]
[]
[]
[]
[]
[]
[]
[]
[]
[]
[]
[]
[]
[]
[]
[]
[]
[]
[]
[]
[]
[]
[]
[]
[]
[]
[]
[]
[]
[]
[]
[]
[]
[]
[]
[]
[]
[]
[]
[]
[]
[]
[]
[]
[]
[]
[]
[]
[]
[]
[]
[]
[]
[]
[]
[]
[]
[]
[]
[]
[]
[]
[]
[]
[]
[]
[]
[]
[]
[]
[]
[]
[]
[]
[]
[]
[]
[]
[]
[]
[]
[]
[]
[]
[]
[]
[]
[]
[]
[]
[]
[]
[]
[]
[]
[]
[]
[]
[]
[]
[]
[]
[]
[]
[]
[]
[]
[]
[]
[]
[]
[]
[]
[]
[]
[]
[]
[]
[]
[]
[]
[]
[]
[]
[]
[]
[]
[]
[]
[]
[]
[]
[]
[]
[]
[]
[]
[]
[]
[]
[]
[]
[]
[]
[]
[]
[]
[]
[]
[]
[]
[]
[]
[]
[]
[]
[]
[]
[]
[]
[]
[]
[]
[]
[]
[]
[]
[]
[]
[]
[]
[]
[]
[]
[]
[]
[]
[]
[]
[]
[]
[]
[]
[]
[]
[]
[]
[]
[]
[]
[]
[]
[]
[]
[]
[]
[]
[]
[]
[]
[]
[]
[]
[]
[]
[]
[]
[]
[]
[]
[]
[]
[]
[]
[]
[]
[]
[]
[]
[]
[]
[]
[]
[]
[]
[]
[]
[]
[]
[]
[]
[]
[]
[]
[]
[]
[]
[]
[]
[]
[]
[]
[]
[]
[]
[]
[]
[]
[]
[]
[]
[]
[]
[]
[]
[]
[]
[]
[]
[]
[]
[]
[]
[]
[]
[]
[]
[]
[]
[]
[]
[]
[]
[]
[]
[]
[]
[]
[]
[]
[]
[]
[]
[]
[]
[]
[]
[]
[]
[]
[]
[]
[]
[]
[]
[]
[]
[]
[]
[]
[]
[]
[]
[]
[]
[]
[]
[]
[]
[]
[]
[]
[]
[]
[]
[]
[]
[]
[]
[]
[]
[]
[]
[]
[]
[]
[]
[]
[]
[]
[]
[]
[]
[]
[]
[]
[]
[]
[]
[]
[]
[]
[]
[]
[]
[]
[]
[]
[]
[]
[]
[]
[]
[]
[]
[]
[]
[]
[]
[]
[]
[]
[]
[]
[]
[]
[]
[]
[]
[]
[]
[]
[]
[]
[]
[]
[]
[]
[]
[]
[]
[]
[]
[]
[]
[]
[]
[]
[]
[]
[]
[]
[]
[]
[]
[]
[]
[]
[]
[]
[]
[]
[]
[]
[]
[]
[]
[]
[]
[]
[]
[]
[]
[]
[]
[]
[]
[]
[]
[]
[]
[]
[]
[]
[]
[]
[]
[]
[]
[]
[]
[]
[]
[]
[]
[]
[]
[]
[]
[]
[]
[]
[]
[]
[]
[]
[]
[]
[]
[]
[]
[]
[]
[]
[]
[]
[]
[]
[]
[]
[]
[]
[]
[]
[]
[]
[]
[]
[]
[]
[]
[]
[]
[]
[]
[]
[]
[]
[]
[]
[]
[]
[]
[]
[]
[]
[]
[]
[]
[]
[]
[]
[]
[]
[]
[]
[]
[]
[]
[]
[]
[]
[]
[]
[]
[]
[]
[]
[]
[]
[]
[]
[]
[]
[]
[]
[]
[]
[]
[]
[]
[]
[]
[]
[]
[]
[]
[]
[]
[]
[]
[]
[]
[]
[]
[]
[]
[]
[]
[]
[]
[]
[]
[]
[]
[]
[]
[]
[]
[]
[]
[]
[]
[]
[]
[]
[]
[]
[]
[]
[]
[]
[]
[]
[]
[]
[]
[]
[]
[]
[]
[]
[]
[]
[]
[]
[]
[]
[]
[]
[]
[]
[]
[]
[]
[]
[]
[]
[]
[]
[]
[]
[]
[]
[]
[]
[]
[]
[]
[]
[]
[]
[]
[]
[]
[]
[]
[]
[]
[]
[]
[]
[]
[]
[]
[]
[]
[]
[]
[]
[]
[]
[]
[]
[]
[]
[]
[]
[]
[]
[]
[]
[]
[]
[]
[]
[]
[]
[]
[]
[]
[]
[]
[]
[]
[]
[]
[]
[]
[]
[]
[]
[]
[]
[]
[]
[]
[]
[]
[]
[]
[]
[]
[]
[]
[]
[]
[]
[]
[]
[]
[]
[]
[]
[]
[]
[]
[]
[]
[]
[]
[]
[]
[]
[]
[]
[]
[]
[]
[]
[]
[]
[]
[]
[]
[]
[]
[]
[]
[]
[]
[]
[]
[]
[]
[]
[]
[]
[]
[]
[]
[]
[]
[]
[]
[]
[]
[]
[]
[]
[]
[]
[]
[]
[]
[]
[]
[]
[]
[]
[]
[]
[]
[]
[]
[]
[]
[]
[]
[]
[]
[]
[]
[]
[]
[]
[]
[]
[]
[]
[]
[]
[]
[]
[]
[]
[]
[]
[]
[]
[]
[]
[]
[]
[]
[]
[]
[]
[]
[]
[]
[]
[]
[]
[]
[]
[]
[]
[]
[]
[]
[]
[]
[]
[]
[]
[]
[]
[]
[]
[]
[]
[]
[]
[]
[]
[]
[]
[]
[]
[]
[]
[]
[]
[]
[]
[]
[]
[]
[]
[]
[]
[]
[]
[]
[]
[]
[]
[]
[]
[]
[]
[]
[]
[]
[]
[]
[]
[]
[]
[]
[]
[]
[]
[]
[]
[]
[]
[]
[]
[]
[]
[]
[]
[]
[]
[]
[]
[]
[]
[]
[]
[]
[]
[]
[]
[]
[]
[]
[]
[]
[]
[]
[]
[]
[]
[]
[]
[]
[]
[]
[]
[]
[]
[]
[]
[]
[]
[]
[]
[]
[]
[]
[]
[]
[]
[]
[]
[]
[]
[]
[]
[]
[]
[]
[]
[]
[]
[]
[]
[]
[]
[]
[]
[]
[]
[]
[]
[]
[]
[]
[]
[]
[]
[]
[]
[]
[]
[]
[]
[]
[]
[]
[]
[]
[]
[]
[]
[]
[]
[]
[]
[]
[]
[]
[]
[]
[]
[]
[]
[]
[]
[]
[]
[]
[]
[]
[]
[]
[]
[]
[]
[]
[]
[]
[]
[]
[]
[]
[]
[]
[]
[]
[]
[]
[]
[]
[]
[]
[]
[]
[]
[]
[]
[]
[]
[]
[]
[]
[]
[]
[]
[]
[]
[]
[]
[]
[]
[]
[]
[]
[]
[]
[]
[]
[]
[]
[]
[]
[]
[]
[]
[]
[]
[]
[]
[]
[]
[]
[]
[]
[]
[]
[]
[]
[]
[]
[]
[]
[]
[]
[]
[]
[]
[]
[]
[]
[]
[]
[]
[]
[]
[]
[]
[]
[]
[]
[]
[]
[]
[]
[]
[]
[]
[]
[]
[]
[]
[]
[]
[]
[]
[]
[]
[]
[]
[]
[]
[]
[]
[]
[]
[]
[]
[]
[]
[]
[]
[]
[]
[]
[]
[]
[]
[]
[]
[]
[]
[]
[]
[]
[]
[]
[]
[]
[]
[]
[]
[]
[]
[]
[]
[]
[]
[]
[]
[]
[]
[]
[]
[]
[]
[]
[]
[]
[]
[]
[]
[]
[]
[]
[]
[]
[]
[]
[]
[]
[]
[]
[]
[]
[]
[]
[]
[]
[]
[]
[]
[]
[]
[]
[]
[]
[]
[]
[]
[]
[]
[]
[]
[]
[]
[]
[]
[]
[]
[]
[]
[]
[]
[]
[]
[]
[]
[]
[]
[]
[]
[]
[]
[]
[]
[]
[]
[]
[]
[]
[]
[]
[]
[]
[]
[]
[]
[]
[]
[]
[]
[]
[]
[]
[]
[]
[]
[]
[]
[]
[]
[]
[]
[]
[]
[]
[]
[]
[]
[]
[]
[]
[]
[]
[]
[]
[]
[]
[]
[]
[]
[]
[]
[]
[]
[]
[]
[]
[]
[]
[]
[]
[]
[]
[]
[]
[]
[]
[]
[]
[]
[]
[]
[]
[]
[]
[]
[]
[]
[]
[]
[]
[]
[]
[]
[]
[]
[]
[]
[]
[]
[]
[]
[]
[]
[]
[]
[]
[]
[]
[]
[]
[]
[]
[]
[]
[]
[]
[]
[]
[]
[]
[]
[]
[]
[]
[]
[]
[]
[]
[]
[]
[]
[]
[]
[]
[]
[]
[]
[]
[]
[]
[]
[]
[]
[]
[]
[]
[]
[]
[]
[]
[]
[]
[]
[]
[]
[]
[]
[]
[]
[]
[]
[]
[]
[]
[]
[]
[]
[]
[]
[]
[]
[]
[]
[]
[]
[]
[]
[]
[]
[]
[]
[]
[]
[]
[]
[]
[]
[]
[]
[]
[]
[]
[]
[]
[]
[]
[]
[]
[]
[]
[]
[]
[]
[]
[]
[]
[]
[]
[]
[]
[]
[]
[]
[]
[]
[]
[]
[]
[]
[]
[]
[]
[]
[]
[]
[]
[]
[]
[]
[]
[]
[]
[]
[]
[]
[]
[]
[]
[]
[]
[]
[]
[]
[]
[]
[]
[]
[]
[]
[]
[]
[]
[]
[]
[]
[]
[]
[]
[]
[]
[]
[]
[]
[]
[]
[]
[]
[]
[]
[]
[]
[]
[]
[]
[]
[]
[]
[]
[]
[]
[]
[]
[]
[]
[]
[]
[]
[]
[]
[]
[]
[]
[]
[]
[]
[]
[]
[]
[]
[]
[]
[]
[]
[]
[]
[]
[]
[]
[]
[]
[]
[]
[]
[]
[]
[]
[]
[]
[]
[]
[]
[]
[]
[]
[]
[]
[]
[]
[]
[]
[]
[]
[]
[]
[]
[]
[]
[]
[]
[]
[]
[]
[]
[]
[]
[]
[]
[]
[]
[]
[]
[]
[]
[]
[]
[]
[]
[]
[]
[]
[]
[]
[]
[]
[]
[]
[]
[]
[]
[]
[]
[]
[]
[]
[]
[]
[]
[]
[]
[]
[]
[]
[]
[]
[]
[]
[]
[]
[]
[]
[]
[]
[]
[]
[]
[]
[]
[]
[]
[]
[]
[]
[]
[]
[]
[null,null,null,null,null,"труд"]
[null,null,null,null,null,"игра"]
[null,null,null,null,null,"учёба"]
[null,null,null,null,null,"быт"]
[null,null,null,null,null,"близкие"]
[null,null,null,null,null,"здоровье",null,""]
[null,null,null,null,null,"признание",null,""]
[null,null,null,null,null,"общество",null,""]

{"sheet":"Справка","index":3,"n_rows":69,"n_cols":4,"rows_kept":69,"cut":false,"hidden":false,"merged":[[63,1,63,3],[38,0,38,6],[14,1,14,5],[15,1,15,5],[13,1,13,5],[1,3,1,4],[4,1,4,6],[5,1,5,6],[6,1,6,6],[2,1,2,6]]}
[]
[null,null,null,"Поведневник "]
[null,"(поведнéвник, поведенческий ежедневник) "]
[]
[null,"новый вид ежедневника, который вбирает в себя "]
[null,"различные возможности, выработанные "]
[null,"науками о поведении и управлении."]
[]
[]
[]
[]
[]
[]
[null,"Поблагодарить разработчика"]
[null,"Благодаря этому, поведневник бесплатен "]
[null,"и доступен людям, которые не смогли бы его купить."]
[]
[]
["CTR+У (удалить из расписания)"]
["Выделив поступок в расписании можно удалить его и из расписания, и из поступков."]
[]
["CTR+П (удалить из расписания)"]
["Выделив поступок в расписании, можно найти его в поступках."]
[]
["CTR+Е (найти в расписании)"]
["Выделив поступок в поступках, можно найти его в расписании"]
["(находит только если в расписании открыт соответвующий месяц)."]
[]
["CTR+Ы или CTR+S "]
["Сохранить"]
[]
["В ячейку Е1 в поступках можете вбить свой ящик, чтобы отправлять туда поведневник"]
[" и открывать его с любых устройств"]
[]
[]
[]
[]
[]
["Больше полезных разработок в области поведения на проторение.рф"]
[]
[]
[]
[]
[]
[]
[]
[]
[]
[]
[]
[]
[]
[]
[null,"Владимир Косоногов - кандидат психологических наук (Россия) "]
[null,"и доктор нейронаук (Испания)"]
[]
[null,"Работает в Южном Федеральном Университете (Ростов-на-Дону)"]
[]
[null,"Ведёт научную и преподавательскую деятельности в области"]
[null,"мозговых основ поведения (психофизиология), "]
[null,"благополучия (снижения неприятных чувств),"]
[null,"мышления, искусства спора, когнитивной терапии"]
[]
[null,"Список научных работ"]
[]
[null,"vladimirkosonogov@yandex.ru"]
[]
["Ссылка для научной работы: "]
["Косоногов В. В. Поведневник. [Электронный ресурс] Режим доступа: проторение.рф/поведневник.php"]